BEGIN:VCALENDAR
VERSION:2.0
PRODID:-//DANCE SOUL 舞魂街舞學校 - ECPv6.15.18//NONSGML v1.0//EN
CALSCALE:GREGORIAN
METHOD:PUBLISH
X-WR-CALNAME:DANCE SOUL 舞魂街舞學校
X-ORIGINAL-URL:https://www.dancesoul.com.tw
X-WR-CALDESC:Events for DANCE SOUL 舞魂街舞學校
REFRESH-INTERVAL;VALUE=DURATION:PT1H
X-Robots-Tag:noindex
X-PUBLISHED-TTL:PT1H
BEGIN:VTIMEZONE
TZID:Asia/Shanghai
BEGIN:STANDARD
TZOFFSETFROM:+0800
TZOFFSETTO:+0800
TZNAME:CST
DTSTART:20230101T000000
END:STANDARD
END:VTIMEZONE
BEGIN:VEVENT
DTSTART;TZID=Asia/Shanghai:20241229T143000
DTEND;TZID=Asia/Shanghai:20241229T153000
DTSTAMP:20260422T094349
CREATED:20241125T102437Z
LAST-MODIFIED:20241125T102437Z
UID:10020639-1735482600-1735486200@www.dancesoul.com.tw
SUMMARY:兒童MV-(ITZY - Imaginary Friend)-羿芃
DESCRIPTION:
URL:https://www.dancesoul.com.tw/schedule/%e5%85%92%e7%ab%a5mv-itzy-imaginary-friend-%e7%be%bf%e8%8a%83/2024-12-29/
CATEGORIES:Popping 初級,兒童MV,兒童課,課程
END:VEVENT
BEGIN:VEVENT
DTSTART;TZID=Asia/Shanghai:20241222T143000
DTEND;TZID=Asia/Shanghai:20241222T153000
DTSTAMP:20260422T094349
CREATED:20241125T102437Z
LAST-MODIFIED:20241125T102437Z
UID:10020638-1734877800-1734881400@www.dancesoul.com.tw
SUMMARY:兒童MV-(ITZY - Imaginary Friend)-羿芃
DESCRIPTION:
URL:https://www.dancesoul.com.tw/schedule/%e5%85%92%e7%ab%a5mv-itzy-imaginary-friend-%e7%be%bf%e8%8a%83/2024-12-22/
CATEGORIES:Popping 初級,兒童MV,兒童課,課程
END:VEVENT
BEGIN:VEVENT
DTSTART;TZID=Asia/Shanghai:20241215T143000
DTEND;TZID=Asia/Shanghai:20241215T153000
DTSTAMP:20260422T094349
CREATED:20241125T102437Z
LAST-MODIFIED:20241125T102437Z
UID:10020637-1734273000-1734276600@www.dancesoul.com.tw
SUMMARY:兒童MV-(ITZY - Imaginary Friend)-羿芃
DESCRIPTION:
URL:https://www.dancesoul.com.tw/schedule/%e5%85%92%e7%ab%a5mv-itzy-imaginary-friend-%e7%be%bf%e8%8a%83/2024-12-15/
CATEGORIES:Popping 初級,兒童MV,兒童課,課程
END:VEVENT
BEGIN:VEVENT
DTSTART;TZID=Asia/Shanghai:20241208T143000
DTEND;TZID=Asia/Shanghai:20241208T153000
DTSTAMP:20260422T094349
CREATED:20241125T102437Z
LAST-MODIFIED:20241125T102437Z
UID:10020636-1733668200-1733671800@www.dancesoul.com.tw
SUMMARY:兒童MV-(ITZY - Imaginary Friend)-羿芃
DESCRIPTION:
URL:https://www.dancesoul.com.tw/schedule/%e5%85%92%e7%ab%a5mv-itzy-imaginary-friend-%e7%be%bf%e8%8a%83/2024-12-08/
CATEGORIES:Popping 初級,兒童MV,兒童課,課程
END:VEVENT
BEGIN:VEVENT
DTSTART;TZID=Asia/Shanghai:20241201T143000
DTEND;TZID=Asia/Shanghai:20241201T153000
DTSTAMP:20260422T094349
CREATED:20241125T102437Z
LAST-MODIFIED:20241125T102437Z
UID:10020635-1733063400-1733067000@www.dancesoul.com.tw
SUMMARY:兒童MV-(ITZY - Imaginary Friend)-羿芃
DESCRIPTION:
URL:https://www.dancesoul.com.tw/schedule/%e5%85%92%e7%ab%a5mv-itzy-imaginary-friend-%e7%be%bf%e8%8a%83/2024-12-01/
CATEGORIES:Popping 初級,兒童MV,兒童課,課程
END:VEVENT
END:VCALENDAR