BEGIN:VCALENDAR
VERSION:2.0
PRODID:-//DANCE SOUL 舞魂街舞學校 - ECPv6.15.18//NONSGML v1.0//EN
CALSCALE:GREGORIAN
METHOD:PUBLISH
X-ORIGINAL-URL:https://www.dancesoul.com.tw
X-WR-CALDESC:Events for DANCE SOUL 舞魂街舞學校
REFRESH-INTERVAL;VALUE=DURATION:PT1H
X-Robots-Tag:noindex
X-PUBLISHED-TTL:PT1H
BEGIN:VTIMEZONE
TZID:Asia/Shanghai
BEGIN:STANDARD
TZOFFSETFROM:+0800
TZOFFSETTO:+0800
TZNAME:CST
DTSTART:20230101T000000
END:STANDARD
END:VTIMEZONE
BEGIN:VEVENT
DTSTART;TZID=Asia/Shanghai:20240127T143000
DTEND;TZID=Asia/Shanghai:20240127T153000
DTSTAMP:20260423T042111
CREATED:20231228T085034Z
LAST-MODIFIED:20231228T085034Z
UID:10018880-1706365800-1706369400@www.dancesoul.com.tw
SUMMARY:兒童MV-(ITZY - RINGO)-薇臻
DESCRIPTION:
URL:https://www.dancesoul.com.tw/schedule/%e5%85%92%e7%ab%a5mv-itzy-ringo-%e8%96%87%e8%87%bb/2024-01-27/
CATEGORIES:兒童MV,兒童課,課程
END:VEVENT
BEGIN:VEVENT
DTSTART;TZID=Asia/Shanghai:20240120T143000
DTEND;TZID=Asia/Shanghai:20240120T153000
DTSTAMP:20260423T042111
CREATED:20231228T085034Z
LAST-MODIFIED:20231228T085034Z
UID:10018879-1705761000-1705764600@www.dancesoul.com.tw
SUMMARY:兒童MV-(ITZY - RINGO)-薇臻
DESCRIPTION:
URL:https://www.dancesoul.com.tw/schedule/%e5%85%92%e7%ab%a5mv-itzy-ringo-%e8%96%87%e8%87%bb/2024-01-20/
CATEGORIES:兒童MV,兒童課,課程
END:VEVENT
BEGIN:VEVENT
DTSTART;TZID=Asia/Shanghai:20240113T143000
DTEND;TZID=Asia/Shanghai:20240113T153000
DTSTAMP:20260423T042111
CREATED:20231228T085034Z
LAST-MODIFIED:20231228T085034Z
UID:10018878-1705156200-1705159800@www.dancesoul.com.tw
SUMMARY:兒童MV-(ITZY - RINGO)-薇臻
DESCRIPTION:
URL:https://www.dancesoul.com.tw/schedule/%e5%85%92%e7%ab%a5mv-itzy-ringo-%e8%96%87%e8%87%bb/2024-01-13/
CATEGORIES:兒童MV,兒童課,課程
END:VEVENT
BEGIN:VEVENT
DTSTART;TZID=Asia/Shanghai:20240106T143000
DTEND;TZID=Asia/Shanghai:20240106T153000
DTSTAMP:20260423T042111
CREATED:20231228T085034Z
LAST-MODIFIED:20231228T085034Z
UID:10018877-1704551400-1704555000@www.dancesoul.com.tw
SUMMARY:兒童MV-(ITZY - RINGO)-薇臻
DESCRIPTION:
URL:https://www.dancesoul.com.tw/schedule/%e5%85%92%e7%ab%a5mv-itzy-ringo-%e8%96%87%e8%87%bb/2024-01-06/
CATEGORIES:兒童MV,兒童課,課程
END:VEVENT
END:VCALENDAR