BEGIN:VCALENDAR
VERSION:2.0
PRODID:-//DANCE SOUL 舞魂街舞學校 - ECPv6.15.18//NONSGML v1.0//EN
CALSCALE:GREGORIAN
METHOD:PUBLISH
X-ORIGINAL-URL:https://www.dancesoul.com.tw
X-WR-CALDESC:Events for DANCE SOUL 舞魂街舞學校
REFRESH-INTERVAL;VALUE=DURATION:PT1H
X-Robots-Tag:noindex
X-PUBLISHED-TTL:PT1H
BEGIN:VTIMEZONE
TZID:Asia/Shanghai
BEGIN:STANDARD
TZOFFSETFROM:+0800
TZOFFSETTO:+0800
TZNAME:CST
DTSTART:20210101T000000
END:STANDARD
END:VTIMEZONE
BEGIN:VEVENT
DTSTART;TZID=Asia/Shanghai:20220528T143000
DTEND;TZID=Asia/Shanghai:20220528T153000
DTSTAMP:20260423T093731
CREATED:20220428T083932Z
LAST-MODIFIED:20220428T083932Z
UID:10015801-1653748200-1653751800@www.dancesoul.com.tw
SUMMARY:兒童MV-(ITZY - #Twenty)-蕭蕭
DESCRIPTION:
URL:https://www.dancesoul.com.tw/schedule/%e5%85%92%e7%ab%a5mv-itzy-twenty-%e8%95%ad%e8%95%ad/2022-05-28/
LOCATION:仁愛路四段425-1號\, Taipei City\, 104\, 台灣
CATEGORIES:兒童MV,兒童課,課程
END:VEVENT
BEGIN:VEVENT
DTSTART;TZID=Asia/Shanghai:20220521T143000
DTEND;TZID=Asia/Shanghai:20220521T153000
DTSTAMP:20260423T093731
CREATED:20220428T083932Z
LAST-MODIFIED:20220428T083932Z
UID:10015800-1653143400-1653147000@www.dancesoul.com.tw
SUMMARY:兒童MV-(ITZY - #Twenty)-蕭蕭
DESCRIPTION:
URL:https://www.dancesoul.com.tw/schedule/%e5%85%92%e7%ab%a5mv-itzy-twenty-%e8%95%ad%e8%95%ad/2022-05-21/
LOCATION:仁愛路四段425-1號\, Taipei City\, 104\, 台灣
CATEGORIES:兒童MV,兒童課,課程
END:VEVENT
BEGIN:VEVENT
DTSTART;TZID=Asia/Shanghai:20220514T143000
DTEND;TZID=Asia/Shanghai:20220514T153000
DTSTAMP:20260423T093731
CREATED:20220428T083932Z
LAST-MODIFIED:20220428T083932Z
UID:10015799-1652538600-1652542200@www.dancesoul.com.tw
SUMMARY:兒童MV-(ITZY - #Twenty)-蕭蕭
DESCRIPTION:
URL:https://www.dancesoul.com.tw/schedule/%e5%85%92%e7%ab%a5mv-itzy-twenty-%e8%95%ad%e8%95%ad/2022-05-14/
LOCATION:仁愛路四段425-1號\, Taipei City\, 104\, 台灣
CATEGORIES:兒童MV,兒童課,課程
END:VEVENT
BEGIN:VEVENT
DTSTART;TZID=Asia/Shanghai:20220507T143000
DTEND;TZID=Asia/Shanghai:20220507T153000
DTSTAMP:20260423T093731
CREATED:20220428T083932Z
LAST-MODIFIED:20220428T083932Z
UID:10015798-1651933800-1651937400@www.dancesoul.com.tw
SUMMARY:兒童MV-(ITZY - #Twenty)-蕭蕭
DESCRIPTION:
URL:https://www.dancesoul.com.tw/schedule/%e5%85%92%e7%ab%a5mv-itzy-twenty-%e8%95%ad%e8%95%ad/2022-05-07/
LOCATION:仁愛路四段425-1號\, Taipei City\, 104\, 台灣
CATEGORIES:兒童MV,兒童課,課程
END:VEVENT
END:VCALENDAR