BEGIN:VCALENDAR
VERSION:2.0
PRODID:-//DANCE SOUL 舞魂街舞學校 - ECPv6.15.18//NONSGML v1.0//EN
CALSCALE:GREGORIAN
METHOD:PUBLISH
X-WR-CALNAME:DANCE SOUL 舞魂街舞學校
X-ORIGINAL-URL:https://www.dancesoul.com.tw
X-WR-CALDESC:Events for DANCE SOUL 舞魂街舞學校
REFRESH-INTERVAL;VALUE=DURATION:PT1H
X-Robots-Tag:noindex
X-PUBLISHED-TTL:PT1H
BEGIN:VTIMEZONE
TZID:Asia/Shanghai
BEGIN:STANDARD
TZOFFSETFROM:+0800
TZOFFSETTO:+0800
TZNAME:CST
DTSTART:20230101T000000
END:STANDARD
END:VTIMEZONE
BEGIN:VEVENT
DTSTART;TZID=Asia/Shanghai:20240224T143000
DTEND;TZID=Asia/Shanghai:20240224T153000
DTSTAMP:20260423T051742
CREATED:20240128T064120Z
LAST-MODIFIED:20240128T064120Z
UID:10019069-1708785000-1708788600@www.dancesoul.com.tw
SUMMARY:兒童MV-(ITZY - UNTOUCHABLE)-薇臻
DESCRIPTION:
URL:https://www.dancesoul.com.tw/schedule/%e5%85%92%e7%ab%a5mv-itzy-untouchable-%e8%96%87%e8%87%bb-2/2024-02-24/
CATEGORIES:兒童MV,兒童課,課程
END:VEVENT
BEGIN:VEVENT
DTSTART;TZID=Asia/Shanghai:20240217T143000
DTEND;TZID=Asia/Shanghai:20240217T153000
DTSTAMP:20260423T051742
CREATED:20240128T064120Z
LAST-MODIFIED:20240128T064120Z
UID:10019068-1708180200-1708183800@www.dancesoul.com.tw
SUMMARY:兒童MV-(ITZY - UNTOUCHABLE)-薇臻
DESCRIPTION:
URL:https://www.dancesoul.com.tw/schedule/%e5%85%92%e7%ab%a5mv-itzy-untouchable-%e8%96%87%e8%87%bb-2/2024-02-17/
CATEGORIES:兒童MV,兒童課,課程
END:VEVENT
BEGIN:VEVENT
DTSTART;TZID=Asia/Shanghai:20240203T143000
DTEND;TZID=Asia/Shanghai:20240203T153000
DTSTAMP:20260423T051742
CREATED:20240128T063856Z
LAST-MODIFIED:20240128T063856Z
UID:10019067-1706970600-1706974200@www.dancesoul.com.tw
SUMMARY:兒童MV-(ITZY - UNTOUCHABLE)-薇臻
DESCRIPTION:
URL:https://www.dancesoul.com.tw/schedule/%e5%85%92%e7%ab%a5mv-itzy-untouchable-%e8%96%87%e8%87%bb/
CATEGORIES:兒童MV,兒童課,課程
END:VEVENT
END:VCALENDAR