BEGIN:VCALENDAR
VERSION:2.0
PRODID:-//DANCE SOUL 舞魂街舞學校 - ECPv6.15.18//NONSGML v1.0//EN
CALSCALE:GREGORIAN
METHOD:PUBLISH
X-ORIGINAL-URL:https://www.dancesoul.com.tw
X-WR-CALDESC:Events for DANCE SOUL 舞魂街舞學校
REFRESH-INTERVAL;VALUE=DURATION:PT1H
X-Robots-Tag:noindex
X-PUBLISHED-TTL:PT1H
BEGIN:VTIMEZONE
TZID:Asia/Shanghai
BEGIN:STANDARD
TZOFFSETFROM:+0800
TZOFFSETTO:+0800
TZNAME:CST
DTSTART:20230101T000000
END:STANDARD
END:VTIMEZONE
BEGIN:VEVENT
DTSTART;TZID=Asia/Shanghai:20240722T150000
DTEND;TZID=Asia/Shanghai:20240722T160000
DTSTAMP:20260423T072613
CREATED:20240625T085801Z
LAST-MODIFIED:20240625T085801Z
UID:10019913-1721660400-1721664000@www.dancesoul.com.tw
SUMMARY:兒童MV-(IVE - Accendio)-昀珊
DESCRIPTION:
URL:https://www.dancesoul.com.tw/schedule/%e5%85%92%e7%ab%a5mv-ive-accendio-%e6%98%80%e7%8f%8a/2024-07-22/
CATEGORIES:兒童MV,兒童課,課程
END:VEVENT
BEGIN:VEVENT
DTSTART;TZID=Asia/Shanghai:20240715T150000
DTEND;TZID=Asia/Shanghai:20240715T160000
DTSTAMP:20260423T072613
CREATED:20240625T085801Z
LAST-MODIFIED:20240625T085801Z
UID:10019912-1721055600-1721059200@www.dancesoul.com.tw
SUMMARY:兒童MV-(IVE - Accendio)-昀珊
DESCRIPTION:
URL:https://www.dancesoul.com.tw/schedule/%e5%85%92%e7%ab%a5mv-ive-accendio-%e6%98%80%e7%8f%8a/2024-07-15/
CATEGORIES:兒童MV,兒童課,課程
END:VEVENT
BEGIN:VEVENT
DTSTART;TZID=Asia/Shanghai:20240708T150000
DTEND;TZID=Asia/Shanghai:20240708T160000
DTSTAMP:20260423T072613
CREATED:20240625T085801Z
LAST-MODIFIED:20240625T085801Z
UID:10019911-1720450800-1720454400@www.dancesoul.com.tw
SUMMARY:兒童MV-(IVE - Accendio)-昀珊
DESCRIPTION:
URL:https://www.dancesoul.com.tw/schedule/%e5%85%92%e7%ab%a5mv-ive-accendio-%e6%98%80%e7%8f%8a/2024-07-08/
CATEGORIES:兒童MV,兒童課,課程
END:VEVENT
BEGIN:VEVENT
DTSTART;TZID=Asia/Shanghai:20240701T150000
DTEND;TZID=Asia/Shanghai:20240701T160000
DTSTAMP:20260423T072613
CREATED:20240625T085801Z
LAST-MODIFIED:20240625T085801Z
UID:10019910-1719846000-1719849600@www.dancesoul.com.tw
SUMMARY:兒童MV-(IVE - Accendio)-昀珊
DESCRIPTION:
URL:https://www.dancesoul.com.tw/schedule/%e5%85%92%e7%ab%a5mv-ive-accendio-%e6%98%80%e7%8f%8a/2024-07-01/
CATEGORIES:兒童MV,兒童課,課程
END:VEVENT
END:VCALENDAR