BEGIN:VCALENDAR
VERSION:2.0
PRODID:-//DANCE SOUL 舞魂街舞學校 - ECPv6.15.18//NONSGML v1.0//EN
CALSCALE:GREGORIAN
METHOD:PUBLISH
X-WR-CALNAME:DANCE SOUL 舞魂街舞學校
X-ORIGINAL-URL:https://www.dancesoul.com.tw
X-WR-CALDESC:Events for DANCE SOUL 舞魂街舞學校
REFRESH-INTERVAL;VALUE=DURATION:PT1H
X-Robots-Tag:noindex
X-PUBLISHED-TTL:PT1H
BEGIN:VTIMEZONE
TZID:Asia/Shanghai
BEGIN:STANDARD
TZOFFSETFROM:+0800
TZOFFSETTO:+0800
TZNAME:CST
DTSTART:20210101T000000
END:STANDARD
END:VTIMEZONE
BEGIN:VEVENT
DTSTART;TZID=Asia/Shanghai:20221029T143000
DTEND;TZID=Asia/Shanghai:20221029T153000
DTSTAMP:20260426T093637
CREATED:20220925T093033Z
LAST-MODIFIED:20220925T093033Z
UID:10016738-1667053800-1667057400@www.dancesoul.com.tw
SUMMARY:兒童MV-(IVE - After LIKE)-蕭蕭
DESCRIPTION:
URL:https://www.dancesoul.com.tw/schedule/%e5%85%92%e7%ab%a5mv-ive-after-like-%e8%95%ad%e8%95%ad/2022-10-29/
LOCATION:仁愛路四段425-1號\, Taipei City\, 104\, 台灣
CATEGORIES:兒童MV,兒童課,課程
END:VEVENT
BEGIN:VEVENT
DTSTART;TZID=Asia/Shanghai:20221022T143000
DTEND;TZID=Asia/Shanghai:20221022T153000
DTSTAMP:20260426T093637
CREATED:20220925T093033Z
LAST-MODIFIED:20220925T093033Z
UID:10016737-1666449000-1666452600@www.dancesoul.com.tw
SUMMARY:兒童MV-(IVE - After LIKE)-蕭蕭
DESCRIPTION:
URL:https://www.dancesoul.com.tw/schedule/%e5%85%92%e7%ab%a5mv-ive-after-like-%e8%95%ad%e8%95%ad/2022-10-22/
LOCATION:仁愛路四段425-1號\, Taipei City\, 104\, 台灣
CATEGORIES:兒童MV,兒童課,課程
END:VEVENT
BEGIN:VEVENT
DTSTART;TZID=Asia/Shanghai:20221015T143000
DTEND;TZID=Asia/Shanghai:20221015T153000
DTSTAMP:20260426T093637
CREATED:20220925T093033Z
LAST-MODIFIED:20220925T093033Z
UID:10016736-1665844200-1665847800@www.dancesoul.com.tw
SUMMARY:兒童MV-(IVE - After LIKE)-蕭蕭
DESCRIPTION:
URL:https://www.dancesoul.com.tw/schedule/%e5%85%92%e7%ab%a5mv-ive-after-like-%e8%95%ad%e8%95%ad/2022-10-15/
LOCATION:仁愛路四段425-1號\, Taipei City\, 104\, 台灣
CATEGORIES:兒童MV,兒童課,課程
END:VEVENT
END:VCALENDAR