BEGIN:VCALENDAR
VERSION:2.0
PRODID:-//DANCE SOUL 舞魂街舞學校 - ECPv6.15.18//NONSGML v1.0//EN
CALSCALE:GREGORIAN
METHOD:PUBLISH
X-ORIGINAL-URL:https://www.dancesoul.com.tw
X-WR-CALDESC:Events for DANCE SOUL 舞魂街舞學校
REFRESH-INTERVAL;VALUE=DURATION:PT1H
X-Robots-Tag:noindex
X-PUBLISHED-TTL:PT1H
BEGIN:VTIMEZONE
TZID:Asia/Shanghai
BEGIN:STANDARD
TZOFFSETFROM:+0800
TZOFFSETTO:+0800
TZNAME:CST
DTSTART:20210101T000000
END:STANDARD
END:VTIMEZONE
BEGIN:VEVENT
DTSTART;TZID=Asia/Shanghai:20221008T143000
DTEND;TZID=Asia/Shanghai:20221008T153000
DTSTAMP:20260426T051831
CREATED:20220925T092926Z
LAST-MODIFIED:20220925T092926Z
UID:10016735-1665239400-1665243000@www.dancesoul.com.tw
SUMMARY:兒童MV-(IVE - After LIKE)-蕭蕭(傘傘代)
DESCRIPTION:
URL:https://www.dancesoul.com.tw/schedule/%e5%85%92%e7%ab%a5mv-ive-after-like-%e8%95%ad%e8%95%ad%e5%82%98%e5%82%98%e4%bb%a3/2022-10-08/
LOCATION:仁愛路四段425-1號\, Taipei City\, 104\, 台灣
CATEGORIES:兒童MV,兒童課,課程
END:VEVENT
BEGIN:VEVENT
DTSTART;TZID=Asia/Shanghai:20221001T143000
DTEND;TZID=Asia/Shanghai:20221001T153000
DTSTAMP:20260426T051831
CREATED:20220925T092926Z
LAST-MODIFIED:20220925T092926Z
UID:10016734-1664634600-1664638200@www.dancesoul.com.tw
SUMMARY:兒童MV-(IVE - After LIKE)-蕭蕭(傘傘代)
DESCRIPTION:
URL:https://www.dancesoul.com.tw/schedule/%e5%85%92%e7%ab%a5mv-ive-after-like-%e8%95%ad%e8%95%ad%e5%82%98%e5%82%98%e4%bb%a3/2022-10-01/
LOCATION:仁愛路四段425-1號\, Taipei City\, 104\, 台灣
CATEGORIES:兒童MV,兒童課,課程
END:VEVENT
END:VCALENDAR