BEGIN:VCALENDAR
VERSION:2.0
PRODID:-//DANCE SOUL 舞魂街舞學校 - ECPv6.15.18//NONSGML v1.0//EN
CALSCALE:GREGORIAN
METHOD:PUBLISH
X-ORIGINAL-URL:https://www.dancesoul.com.tw
X-WR-CALDESC:Events for DANCE SOUL 舞魂街舞學校
REFRESH-INTERVAL;VALUE=DURATION:PT1H
X-Robots-Tag:noindex
X-PUBLISHED-TTL:PT1H
BEGIN:VTIMEZONE
TZID:Asia/Shanghai
BEGIN:STANDARD
TZOFFSETFROM:+0800
TZOFFSETTO:+0800
TZNAME:CST
DTSTART:20220101T000000
END:STANDARD
END:VTIMEZONE
BEGIN:VEVENT
DTSTART;TZID=Asia/Shanghai:20230528T143000
DTEND;TZID=Asia/Shanghai:20230528T153000
DTSTAMP:20260423T074633
CREATED:20230426T090347Z
LAST-MODIFIED:20230426T090347Z
UID:10016090-1685284200-1685287800@www.dancesoul.com.tw
SUMMARY:兒童MV-(IVE-Kitsch)-小卉
DESCRIPTION:
URL:https://www.dancesoul.com.tw/schedule/%e5%85%92%e7%ab%a5mv-ive-kitsch-%e5%b0%8f%e5%8d%89/2023-05-28/
LOCATION:仁愛路四段425-1號\, Taipei City\, 104\, 台灣
CATEGORIES:兒童MV,兒童課,課程
END:VEVENT
BEGIN:VEVENT
DTSTART;TZID=Asia/Shanghai:20230521T143000
DTEND;TZID=Asia/Shanghai:20230521T153000
DTSTAMP:20260423T074633
CREATED:20230426T090347Z
LAST-MODIFIED:20230426T090347Z
UID:10016089-1684679400-1684683000@www.dancesoul.com.tw
SUMMARY:兒童MV-(IVE-Kitsch)-小卉
DESCRIPTION:
URL:https://www.dancesoul.com.tw/schedule/%e5%85%92%e7%ab%a5mv-ive-kitsch-%e5%b0%8f%e5%8d%89/2023-05-21/
LOCATION:仁愛路四段425-1號\, Taipei City\, 104\, 台灣
CATEGORIES:兒童MV,兒童課,課程
END:VEVENT
BEGIN:VEVENT
DTSTART;TZID=Asia/Shanghai:20230514T143000
DTEND;TZID=Asia/Shanghai:20230514T153000
DTSTAMP:20260423T074633
CREATED:20230426T090347Z
LAST-MODIFIED:20230426T090347Z
UID:10016088-1684074600-1684078200@www.dancesoul.com.tw
SUMMARY:兒童MV-(IVE-Kitsch)-小卉
DESCRIPTION:
URL:https://www.dancesoul.com.tw/schedule/%e5%85%92%e7%ab%a5mv-ive-kitsch-%e5%b0%8f%e5%8d%89/2023-05-14/
LOCATION:仁愛路四段425-1號\, Taipei City\, 104\, 台灣
CATEGORIES:兒童MV,兒童課,課程
END:VEVENT
BEGIN:VEVENT
DTSTART;TZID=Asia/Shanghai:20230507T143000
DTEND;TZID=Asia/Shanghai:20230507T153000
DTSTAMP:20260423T074633
CREATED:20230426T090347Z
LAST-MODIFIED:20230426T090347Z
UID:10016087-1683469800-1683473400@www.dancesoul.com.tw
SUMMARY:兒童MV-(IVE-Kitsch)-小卉
DESCRIPTION:
URL:https://www.dancesoul.com.tw/schedule/%e5%85%92%e7%ab%a5mv-ive-kitsch-%e5%b0%8f%e5%8d%89/2023-05-07/
LOCATION:仁愛路四段425-1號\, Taipei City\, 104\, 台灣
CATEGORIES:兒童MV,兒童課,課程
END:VEVENT
END:VCALENDAR