BEGIN:VCALENDAR
VERSION:2.0
PRODID:-//DANCE SOUL 舞魂街舞學校 - ECPv6.15.18//NONSGML v1.0//EN
CALSCALE:GREGORIAN
METHOD:PUBLISH
X-WR-CALNAME:DANCE SOUL 舞魂街舞學校
X-ORIGINAL-URL:https://www.dancesoul.com.tw
X-WR-CALDESC:Events for DANCE SOUL 舞魂街舞學校
REFRESH-INTERVAL;VALUE=DURATION:PT1H
X-Robots-Tag:noindex
X-PUBLISHED-TTL:PT1H
BEGIN:VTIMEZONE
TZID:Asia/Shanghai
BEGIN:STANDARD
TZOFFSETFROM:+0800
TZOFFSETTO:+0800
TZNAME:CST
DTSTART:20240101T000000
END:STANDARD
END:VTIMEZONE
BEGIN:VEVENT
DTSTART;TZID=Asia/Shanghai:20250525T143000
DTEND;TZID=Asia/Shanghai:20250525T153000
DTSTAMP:20260421T095502
CREATED:20250421T073623Z
LAST-MODIFIED:20250421T073623Z
UID:10021625-1748183400-1748187000@www.dancesoul.com.tw
SUMMARY:兒童MV-(izna-Sign )-羿芃
DESCRIPTION:
URL:https://www.dancesoul.com.tw/schedule/%e5%85%92%e7%ab%a5mv-izna-sign-%e7%be%bf%e8%8a%83/2025-05-25/
CATEGORIES:MV課,兒童MV,兒童課,課程
END:VEVENT
BEGIN:VEVENT
DTSTART;TZID=Asia/Shanghai:20250518T143000
DTEND;TZID=Asia/Shanghai:20250518T153000
DTSTAMP:20260421T095502
CREATED:20250421T073623Z
LAST-MODIFIED:20250421T073623Z
UID:10021624-1747578600-1747582200@www.dancesoul.com.tw
SUMMARY:兒童MV-(izna-Sign )-羿芃
DESCRIPTION:
URL:https://www.dancesoul.com.tw/schedule/%e5%85%92%e7%ab%a5mv-izna-sign-%e7%be%bf%e8%8a%83/2025-05-18/
CATEGORIES:MV課,兒童MV,兒童課,課程
END:VEVENT
BEGIN:VEVENT
DTSTART;TZID=Asia/Shanghai:20250511T143000
DTEND;TZID=Asia/Shanghai:20250511T153000
DTSTAMP:20260421T095502
CREATED:20250421T073623Z
LAST-MODIFIED:20250421T073623Z
UID:10021623-1746973800-1746977400@www.dancesoul.com.tw
SUMMARY:兒童MV-(izna-Sign )-羿芃
DESCRIPTION:
URL:https://www.dancesoul.com.tw/schedule/%e5%85%92%e7%ab%a5mv-izna-sign-%e7%be%bf%e8%8a%83/2025-05-11/
CATEGORIES:MV課,兒童MV,兒童課,課程
END:VEVENT
BEGIN:VEVENT
DTSTART;TZID=Asia/Shanghai:20250504T143000
DTEND;TZID=Asia/Shanghai:20250504T153000
DTSTAMP:20260421T095502
CREATED:20250421T073623Z
LAST-MODIFIED:20250421T073623Z
UID:10021622-1746369000-1746372600@www.dancesoul.com.tw
SUMMARY:兒童MV-(izna-Sign )-羿芃
DESCRIPTION:
URL:https://www.dancesoul.com.tw/schedule/%e5%85%92%e7%ab%a5mv-izna-sign-%e7%be%bf%e8%8a%83/2025-05-04/
CATEGORIES:MV課,兒童MV,兒童課,課程
END:VEVENT
END:VCALENDAR