BEGIN:VCALENDAR
VERSION:2.0
PRODID:-//DANCE SOUL 舞魂街舞學校 - ECPv6.15.18//NONSGML v1.0//EN
CALSCALE:GREGORIAN
METHOD:PUBLISH
X-ORIGINAL-URL:https://www.dancesoul.com.tw
X-WR-CALDESC:Events for DANCE SOUL 舞魂街舞學校
REFRESH-INTERVAL;VALUE=DURATION:PT1H
X-Robots-Tag:noindex
X-PUBLISHED-TTL:PT1H
BEGIN:VTIMEZONE
TZID:Asia/Shanghai
BEGIN:STANDARD
TZOFFSETFROM:+0800
TZOFFSETTO:+0800
TZNAME:CST
DTSTART:20240101T000000
END:STANDARD
END:VTIMEZONE
BEGIN:VEVENT
DTSTART;TZID=Asia/Shanghai:20250329T143000
DTEND;TZID=Asia/Shanghai:20250329T153000
DTSTAMP:20260421T061128
CREATED:20250223T080359Z
LAST-MODIFIED:20250223T080539Z
UID:10021150-1743258600-1743262200@www.dancesoul.com.tw
SUMMARY:兒童MV-(JISOO - EARTHQUAKE)-薇臻
DESCRIPTION:
URL:https://www.dancesoul.com.tw/schedule/%e5%85%92%e7%ab%a5mv-jisoo-earthquake-%e8%96%87%e8%87%bb/2025-03-29/
CATEGORIES:兒童MV,兒童課,課程
END:VEVENT
BEGIN:VEVENT
DTSTART;TZID=Asia/Shanghai:20250322T143000
DTEND;TZID=Asia/Shanghai:20250322T153000
DTSTAMP:20260421T061128
CREATED:20250223T080359Z
LAST-MODIFIED:20250223T080539Z
UID:10021149-1742653800-1742657400@www.dancesoul.com.tw
SUMMARY:兒童MV-(JISOO - EARTHQUAKE)-薇臻
DESCRIPTION:
URL:https://www.dancesoul.com.tw/schedule/%e5%85%92%e7%ab%a5mv-jisoo-earthquake-%e8%96%87%e8%87%bb/2025-03-22/
CATEGORIES:兒童MV,兒童課,課程
END:VEVENT
BEGIN:VEVENT
DTSTART;TZID=Asia/Shanghai:20250315T143000
DTEND;TZID=Asia/Shanghai:20250315T153000
DTSTAMP:20260421T061128
CREATED:20250223T080359Z
LAST-MODIFIED:20250223T080539Z
UID:10021148-1742049000-1742052600@www.dancesoul.com.tw
SUMMARY:兒童MV-(JISOO - EARTHQUAKE)-薇臻
DESCRIPTION:
URL:https://www.dancesoul.com.tw/schedule/%e5%85%92%e7%ab%a5mv-jisoo-earthquake-%e8%96%87%e8%87%bb/2025-03-15/
CATEGORIES:兒童MV,兒童課,課程
END:VEVENT
BEGIN:VEVENT
DTSTART;TZID=Asia/Shanghai:20250308T143000
DTEND;TZID=Asia/Shanghai:20250308T153000
DTSTAMP:20260421T061128
CREATED:20250223T080359Z
LAST-MODIFIED:20250223T080539Z
UID:10021147-1741444200-1741447800@www.dancesoul.com.tw
SUMMARY:兒童MV-(JISOO - EARTHQUAKE)-薇臻
DESCRIPTION:
URL:https://www.dancesoul.com.tw/schedule/%e5%85%92%e7%ab%a5mv-jisoo-earthquake-%e8%96%87%e8%87%bb/2025-03-08/
CATEGORIES:兒童MV,兒童課,課程
END:VEVENT
BEGIN:VEVENT
DTSTART;TZID=Asia/Shanghai:20250301T143000
DTEND;TZID=Asia/Shanghai:20250301T153000
DTSTAMP:20260421T061128
CREATED:20250223T080359Z
LAST-MODIFIED:20250223T080539Z
UID:10021146-1740839400-1740843000@www.dancesoul.com.tw
SUMMARY:兒童MV-(JISOO - EARTHQUAKE)-薇臻
DESCRIPTION:
URL:https://www.dancesoul.com.tw/schedule/%e5%85%92%e7%ab%a5mv-jisoo-earthquake-%e8%96%87%e8%87%bb/2025-03-01/
CATEGORIES:兒童MV,兒童課,課程
END:VEVENT
END:VCALENDAR