BEGIN:VCALENDAR
VERSION:2.0
PRODID:-//DANCE SOUL 舞魂街舞學校 - ECPv6.15.18//NONSGML v1.0//EN
CALSCALE:GREGORIAN
METHOD:PUBLISH
X-WR-CALNAME:DANCE SOUL 舞魂街舞學校
X-ORIGINAL-URL:https://www.dancesoul.com.tw
X-WR-CALDESC:Events for DANCE SOUL 舞魂街舞學校
REFRESH-INTERVAL;VALUE=DURATION:PT1H
X-Robots-Tag:noindex
X-PUBLISHED-TTL:PT1H
BEGIN:VTIMEZONE
TZID:Asia/Shanghai
BEGIN:STANDARD
TZOFFSETFROM:+0800
TZOFFSETTO:+0800
TZNAME:CST
DTSTART:20230101T000000
END:STANDARD
END:VTIMEZONE
BEGIN:VEVENT
DTSTART;TZID=Asia/Shanghai:20240921T143000
DTEND;TZID=Asia/Shanghai:20240921T153000
DTSTAMP:20260422T052726
CREATED:20240829T074408Z
LAST-MODIFIED:20240914T082845Z
UID:10020139-1726929000-1726932600@www.dancesoul.com.tw
SUMMARY:兒童MV-(LEE CHAE YEON - Don't)-薇臻
DESCRIPTION:
URL:https://www.dancesoul.com.tw/schedule/%e5%85%92%e7%ab%a5mv-lee-chae-yeon-dont-%e8%96%87%e8%87%bb/2024-09-21/
CATEGORIES:兒童MV,兒童課,課程
END:VEVENT
BEGIN:VEVENT
DTSTART;TZID=Asia/Shanghai:20240914T143000
DTEND;TZID=Asia/Shanghai:20240914T153000
DTSTAMP:20260422T052726
CREATED:20240829T074408Z
LAST-MODIFIED:20240914T082845Z
UID:10020138-1726324200-1726327800@www.dancesoul.com.tw
SUMMARY:兒童MV-(LEE CHAE YEON - Don't)-薇臻
DESCRIPTION:
URL:https://www.dancesoul.com.tw/schedule/%e5%85%92%e7%ab%a5mv-lee-chae-yeon-dont-%e8%96%87%e8%87%bb/2024-09-14/
CATEGORIES:兒童MV,兒童課,課程
END:VEVENT
BEGIN:VEVENT
DTSTART;TZID=Asia/Shanghai:20240907T143000
DTEND;TZID=Asia/Shanghai:20240907T153000
DTSTAMP:20260422T052726
CREATED:20240829T074408Z
LAST-MODIFIED:20240914T082845Z
UID:10020137-1725719400-1725723000@www.dancesoul.com.tw
SUMMARY:兒童MV-(LEE CHAE YEON - Don't)-薇臻
DESCRIPTION:
URL:https://www.dancesoul.com.tw/schedule/%e5%85%92%e7%ab%a5mv-lee-chae-yeon-dont-%e8%96%87%e8%87%bb/2024-09-07/
CATEGORIES:兒童MV,兒童課,課程
END:VEVENT
END:VCALENDAR