BEGIN:VCALENDAR
VERSION:2.0
PRODID:-//DANCE SOUL 舞魂街舞學校 - ECPv6.15.18//NONSGML v1.0//EN
CALSCALE:GREGORIAN
METHOD:PUBLISH
X-ORIGINAL-URL:https://www.dancesoul.com.tw
X-WR-CALDESC:Events for DANCE SOUL 舞魂街舞學校
REFRESH-INTERVAL;VALUE=DURATION:PT1H
X-Robots-Tag:noindex
X-PUBLISHED-TTL:PT1H
BEGIN:VTIMEZONE
TZID:Asia/Shanghai
BEGIN:STANDARD
TZOFFSETFROM:+0800
TZOFFSETTO:+0800
TZNAME:CST
DTSTART:20220101T000000
END:STANDARD
END:VTIMEZONE
BEGIN:VEVENT
DTSTART;TZID=Asia/Shanghai:20230828T165000
DTEND;TZID=Asia/Shanghai:20230828T175000
DTSTAMP:20260426T053812
CREATED:20230729T093817Z
LAST-MODIFIED:20230729T093817Z
UID:10016343-1693241400-1693245000@www.dancesoul.com.tw
SUMMARY:兒童MV-(STAYC - ASAP)-太陽
DESCRIPTION:
URL:https://www.dancesoul.com.tw/schedule/%e5%85%92%e7%ab%a5mv-stayc-asap-%e5%a4%aa%e9%99%bd/2023-08-28/
LOCATION:仁愛路四段425-1號\, Taipei City\, 104\, 台灣
CATEGORIES:兒童MV,兒童課,課程
END:VEVENT
BEGIN:VEVENT
DTSTART;TZID=Asia/Shanghai:20230821T165000
DTEND;TZID=Asia/Shanghai:20230821T175000
DTSTAMP:20260426T053812
CREATED:20230729T093817Z
LAST-MODIFIED:20230729T093817Z
UID:10016342-1692636600-1692640200@www.dancesoul.com.tw
SUMMARY:兒童MV-(STAYC - ASAP)-太陽
DESCRIPTION:
URL:https://www.dancesoul.com.tw/schedule/%e5%85%92%e7%ab%a5mv-stayc-asap-%e5%a4%aa%e9%99%bd/2023-08-21/
LOCATION:仁愛路四段425-1號\, Taipei City\, 104\, 台灣
CATEGORIES:兒童MV,兒童課,課程
END:VEVENT
BEGIN:VEVENT
DTSTART;TZID=Asia/Shanghai:20230814T165000
DTEND;TZID=Asia/Shanghai:20230814T175000
DTSTAMP:20260426T053812
CREATED:20230729T093817Z
LAST-MODIFIED:20230729T093817Z
UID:10016341-1692031800-1692035400@www.dancesoul.com.tw
SUMMARY:兒童MV-(STAYC - ASAP)-太陽
DESCRIPTION:
URL:https://www.dancesoul.com.tw/schedule/%e5%85%92%e7%ab%a5mv-stayc-asap-%e5%a4%aa%e9%99%bd/2023-08-14/
LOCATION:仁愛路四段425-1號\, Taipei City\, 104\, 台灣
CATEGORIES:兒童MV,兒童課,課程
END:VEVENT
BEGIN:VEVENT
DTSTART;TZID=Asia/Shanghai:20230807T165000
DTEND;TZID=Asia/Shanghai:20230807T175000
DTSTAMP:20260426T053812
CREATED:20230729T093817Z
LAST-MODIFIED:20230729T093817Z
UID:10016340-1691427000-1691430600@www.dancesoul.com.tw
SUMMARY:兒童MV-(STAYC - ASAP)-太陽
DESCRIPTION:
URL:https://www.dancesoul.com.tw/schedule/%e5%85%92%e7%ab%a5mv-stayc-asap-%e5%a4%aa%e9%99%bd/2023-08-07/
LOCATION:仁愛路四段425-1號\, Taipei City\, 104\, 台灣
CATEGORIES:兒童MV,兒童課,課程
END:VEVENT
END:VCALENDAR