BEGIN:VCALENDAR
VERSION:2.0
PRODID:-//DANCE SOUL 舞魂街舞學校 - ECPv6.15.18//NONSGML v1.0//EN
CALSCALE:GREGORIAN
METHOD:PUBLISH
X-WR-CALNAME:DANCE SOUL 舞魂街舞學校
X-ORIGINAL-URL:https://www.dancesoul.com.tw
X-WR-CALDESC:Events for DANCE SOUL 舞魂街舞學校
REFRESH-INTERVAL;VALUE=DURATION:PT1H
X-Robots-Tag:noindex
X-PUBLISHED-TTL:PT1H
BEGIN:VTIMEZONE
TZID:Asia/Shanghai
BEGIN:STANDARD
TZOFFSETFROM:+0800
TZOFFSETTO:+0800
TZNAME:CST
DTSTART:20230101T000000
END:STANDARD
END:VTIMEZONE
BEGIN:VEVENT
DTSTART;TZID=Asia/Shanghai:20240826T150000
DTEND;TZID=Asia/Shanghai:20240826T160000
DTSTAMP:20260421T120042
CREATED:20240726T112653Z
LAST-MODIFIED:20240726T112653Z
UID:10019995-1724684400-1724688000@www.dancesoul.com.tw
SUMMARY:兒童MV-(STAYC - Cheeky Icy Thang)-昀珊
DESCRIPTION:
URL:https://www.dancesoul.com.tw/schedule/%e5%85%92%e7%ab%a5mv-stayc-cheeky-icy-thang-%e6%98%80%e7%8f%8a/2024-08-26/
CATEGORIES:兒童MV,兒童課,課程
END:VEVENT
BEGIN:VEVENT
DTSTART;TZID=Asia/Shanghai:20240819T150000
DTEND;TZID=Asia/Shanghai:20240819T160000
DTSTAMP:20260421T120042
CREATED:20240726T112653Z
LAST-MODIFIED:20240726T112653Z
UID:10019994-1724079600-1724083200@www.dancesoul.com.tw
SUMMARY:兒童MV-(STAYC - Cheeky Icy Thang)-昀珊
DESCRIPTION:
URL:https://www.dancesoul.com.tw/schedule/%e5%85%92%e7%ab%a5mv-stayc-cheeky-icy-thang-%e6%98%80%e7%8f%8a/2024-08-19/
CATEGORIES:兒童MV,兒童課,課程
END:VEVENT
BEGIN:VEVENT
DTSTART;TZID=Asia/Shanghai:20240812T150000
DTEND;TZID=Asia/Shanghai:20240812T160000
DTSTAMP:20260421T120042
CREATED:20240726T112653Z
LAST-MODIFIED:20240726T112653Z
UID:10019993-1723474800-1723478400@www.dancesoul.com.tw
SUMMARY:兒童MV-(STAYC - Cheeky Icy Thang)-昀珊
DESCRIPTION:
URL:https://www.dancesoul.com.tw/schedule/%e5%85%92%e7%ab%a5mv-stayc-cheeky-icy-thang-%e6%98%80%e7%8f%8a/2024-08-12/
CATEGORIES:兒童MV,兒童課,課程
END:VEVENT
BEGIN:VEVENT
DTSTART;TZID=Asia/Shanghai:20240805T150000
DTEND;TZID=Asia/Shanghai:20240805T160000
DTSTAMP:20260421T120042
CREATED:20240726T112653Z
LAST-MODIFIED:20240726T112653Z
UID:10019992-1722870000-1722873600@www.dancesoul.com.tw
SUMMARY:兒童MV-(STAYC - Cheeky Icy Thang)-昀珊
DESCRIPTION:
URL:https://www.dancesoul.com.tw/schedule/%e5%85%92%e7%ab%a5mv-stayc-cheeky-icy-thang-%e6%98%80%e7%8f%8a/2024-08-05/
CATEGORIES:兒童MV,兒童課,課程
END:VEVENT
END:VCALENDAR