BEGIN:VCALENDAR
VERSION:2.0
PRODID:-//DANCE SOUL 舞魂街舞學校 - ECPv6.15.18//NONSGML v1.0//EN
CALSCALE:GREGORIAN
METHOD:PUBLISH
X-ORIGINAL-URL:https://www.dancesoul.com.tw
X-WR-CALDESC:Events for DANCE SOUL 舞魂街舞學校
REFRESH-INTERVAL;VALUE=DURATION:PT1H
X-Robots-Tag:noindex
X-PUBLISHED-TTL:PT1H
BEGIN:VTIMEZONE
TZID:Asia/Shanghai
BEGIN:STANDARD
TZOFFSETFROM:+0800
TZOFFSETTO:+0800
TZNAME:CST
DTSTART:20220101T000000
END:STANDARD
END:VTIMEZONE
BEGIN:VEVENT
DTSTART;TZID=Asia/Shanghai:20230429T143000
DTEND;TZID=Asia/Shanghai:20230429T153000
DTSTAMP:20260426T063410
CREATED:20230324T115548Z
LAST-MODIFIED:20230325T062034Z
UID:10017310-1682778600-1682782200@www.dancesoul.com.tw
SUMMARY:兒童MV-(StayC - Teddy Bear)-蕭蕭
DESCRIPTION:
URL:https://www.dancesoul.com.tw/schedule/%e5%85%92%e7%ab%a5mv-stayc-teddy-bear-%e8%95%ad%e8%95%ad/2023-04-29/
LOCATION:仁愛路四段425-1號\, Taipei City\, 104\, 台灣
CATEGORIES:兒童MV,兒童課,常態課_一般,課程
END:VEVENT
BEGIN:VEVENT
DTSTART;TZID=Asia/Shanghai:20230422T143000
DTEND;TZID=Asia/Shanghai:20230422T153000
DTSTAMP:20260426T063410
CREATED:20230324T115548Z
LAST-MODIFIED:20230325T062034Z
UID:10017309-1682173800-1682177400@www.dancesoul.com.tw
SUMMARY:兒童MV-(StayC - Teddy Bear)-蕭蕭
DESCRIPTION:
URL:https://www.dancesoul.com.tw/schedule/%e5%85%92%e7%ab%a5mv-stayc-teddy-bear-%e8%95%ad%e8%95%ad/2023-04-22/
LOCATION:仁愛路四段425-1號\, Taipei City\, 104\, 台灣
CATEGORIES:兒童MV,兒童課,常態課_一般,課程
END:VEVENT
BEGIN:VEVENT
DTSTART;TZID=Asia/Shanghai:20230415T143000
DTEND;TZID=Asia/Shanghai:20230415T153000
DTSTAMP:20260426T063410
CREATED:20230324T115548Z
LAST-MODIFIED:20230325T062034Z
UID:10017308-1681569000-1681572600@www.dancesoul.com.tw
SUMMARY:兒童MV-(StayC - Teddy Bear)-蕭蕭
DESCRIPTION:
URL:https://www.dancesoul.com.tw/schedule/%e5%85%92%e7%ab%a5mv-stayc-teddy-bear-%e8%95%ad%e8%95%ad/2023-04-15/
LOCATION:仁愛路四段425-1號\, Taipei City\, 104\, 台灣
CATEGORIES:兒童MV,兒童課,常態課_一般,課程
END:VEVENT
BEGIN:VEVENT
DTSTART;TZID=Asia/Shanghai:20230408T143000
DTEND;TZID=Asia/Shanghai:20230408T153000
DTSTAMP:20260426T063410
CREATED:20230324T115548Z
LAST-MODIFIED:20230325T062034Z
UID:10017307-1680964200-1680967800@www.dancesoul.com.tw
SUMMARY:兒童MV-(StayC - Teddy Bear)-蕭蕭
DESCRIPTION:
URL:https://www.dancesoul.com.tw/schedule/%e5%85%92%e7%ab%a5mv-stayc-teddy-bear-%e8%95%ad%e8%95%ad/2023-04-08/
LOCATION:仁愛路四段425-1號\, Taipei City\, 104\, 台灣
CATEGORIES:兒童MV,兒童課,常態課_一般,課程
END:VEVENT
BEGIN:VEVENT
DTSTART;TZID=Asia/Shanghai:20230401T143000
DTEND;TZID=Asia/Shanghai:20230401T153000
DTSTAMP:20260426T063410
CREATED:20230324T115548Z
LAST-MODIFIED:20230325T062034Z
UID:10017306-1680359400-1680363000@www.dancesoul.com.tw
SUMMARY:兒童MV-(StayC - Teddy Bear)-蕭蕭
DESCRIPTION:
URL:https://www.dancesoul.com.tw/schedule/%e5%85%92%e7%ab%a5mv-stayc-teddy-bear-%e8%95%ad%e8%95%ad/2023-04-01/
LOCATION:仁愛路四段425-1號\, Taipei City\, 104\, 台灣
CATEGORIES:兒童MV,兒童課,常態課_一般,課程
END:VEVENT
END:VCALENDAR