BEGIN:VCALENDAR
VERSION:2.0
PRODID:-//DANCE SOUL 舞魂街舞學校 - ECPv6.15.18//NONSGML v1.0//EN
CALSCALE:GREGORIAN
METHOD:PUBLISH
X-WR-CALNAME:DANCE SOUL 舞魂街舞學校
X-ORIGINAL-URL:https://www.dancesoul.com.tw
X-WR-CALDESC:Events for DANCE SOUL 舞魂街舞學校
REFRESH-INTERVAL;VALUE=DURATION:PT1H
X-Robots-Tag:noindex
X-PUBLISHED-TTL:PT1H
BEGIN:VTIMEZONE
TZID:Asia/Shanghai
BEGIN:STANDARD
TZOFFSETFROM:+0800
TZOFFSETTO:+0800
TZNAME:CST
DTSTART:20230101T000000
END:STANDARD
END:VTIMEZONE
BEGIN:VEVENT
DTSTART;TZID=Asia/Shanghai:20240801T150000
DTEND;TZID=Asia/Shanghai:20240801T160000
DTSTAMP:20260421T235552
CREATED:20240729T055619Z
LAST-MODIFIED:20240729T055619Z
UID:10020121-1722524400-1722528000@www.dancesoul.com.tw
SUMMARY:兒童MV-(SUNMI - Balloon in Love)-薇臻
DESCRIPTION:
URL:https://www.dancesoul.com.tw/schedule/%e5%85%92%e7%ab%a5mv-sunmi-balloon-in-love-%e8%96%87%e8%87%bb-2/
CATEGORIES:兒童MV,兒童課,課程
END:VEVENT
BEGIN:VEVENT
DTSTART;TZID=Asia/Shanghai:20240725T150000
DTEND;TZID=Asia/Shanghai:20240725T160000
DTSTAMP:20260421T235552
CREATED:20240625T091051Z
LAST-MODIFIED:20240625T091051Z
UID:10019932-1721919600-1721923200@www.dancesoul.com.tw
SUMMARY:兒童MV-(SUNMI - Balloon in Love)-薇臻
DESCRIPTION:
URL:https://www.dancesoul.com.tw/schedule/%e5%85%92%e7%ab%a5mv-sunmi-balloon-in-love-%e8%96%87%e8%87%bb/2024-07-25/
CATEGORIES:兒童MV,兒童課,課程
END:VEVENT
BEGIN:VEVENT
DTSTART;TZID=Asia/Shanghai:20240718T150000
DTEND;TZID=Asia/Shanghai:20240718T160000
DTSTAMP:20260421T235552
CREATED:20240625T091051Z
LAST-MODIFIED:20240625T091051Z
UID:10019931-1721314800-1721318400@www.dancesoul.com.tw
SUMMARY:兒童MV-(SUNMI - Balloon in Love)-薇臻
DESCRIPTION:
URL:https://www.dancesoul.com.tw/schedule/%e5%85%92%e7%ab%a5mv-sunmi-balloon-in-love-%e8%96%87%e8%87%bb/2024-07-18/
CATEGORIES:兒童MV,兒童課,課程
END:VEVENT
END:VCALENDAR