BEGIN:VCALENDAR
VERSION:2.0
PRODID:-//DANCE SOUL 舞魂街舞學校 - ECPv6.15.18//NONSGML v1.0//EN
CALSCALE:GREGORIAN
METHOD:PUBLISH
X-WR-CALNAME:DANCE SOUL 舞魂街舞學校
X-ORIGINAL-URL:https://www.dancesoul.com.tw
X-WR-CALDESC:Events for DANCE SOUL 舞魂街舞學校
REFRESH-INTERVAL;VALUE=DURATION:PT1H
X-Robots-Tag:noindex
X-PUBLISHED-TTL:PT1H
BEGIN:VTIMEZONE
TZID:Asia/Shanghai
BEGIN:STANDARD
TZOFFSETFROM:+0800
TZOFFSETTO:+0800
TZNAME:CST
DTSTART:20210101T000000
END:STANDARD
END:VTIMEZONE
BEGIN:VEVENT
DTSTART;TZID=Asia/Shanghai:20220424T143000
DTEND;TZID=Asia/Shanghai:20220424T153000
DTSTAMP:20260422T074115
CREATED:20220329T094434Z
LAST-MODIFIED:20220329T094434Z
UID:10015722-1650810600-1650814200@www.dancesoul.com.tw
SUMMARY:兒童MV-(TAEYEON - INVU)-小卉
DESCRIPTION:
URL:https://www.dancesoul.com.tw/schedule/%e5%85%92%e7%ab%a5mv-taeyeon-invu-%e5%b0%8f%e5%8d%89/2022-04-24/
LOCATION:仁愛路四段425-1號\, Taipei City\, 104\, 台灣
CATEGORIES:兒童MV,兒童課
END:VEVENT
BEGIN:VEVENT
DTSTART;TZID=Asia/Shanghai:20220417T143000
DTEND;TZID=Asia/Shanghai:20220417T153000
DTSTAMP:20260422T074115
CREATED:20220329T094434Z
LAST-MODIFIED:20220329T094434Z
UID:10015721-1650205800-1650209400@www.dancesoul.com.tw
SUMMARY:兒童MV-(TAEYEON - INVU)-小卉
DESCRIPTION:
URL:https://www.dancesoul.com.tw/schedule/%e5%85%92%e7%ab%a5mv-taeyeon-invu-%e5%b0%8f%e5%8d%89/2022-04-17/
LOCATION:仁愛路四段425-1號\, Taipei City\, 104\, 台灣
CATEGORIES:兒童MV,兒童課
END:VEVENT
BEGIN:VEVENT
DTSTART;TZID=Asia/Shanghai:20220410T143000
DTEND;TZID=Asia/Shanghai:20220410T153000
DTSTAMP:20260422T074115
CREATED:20220329T094434Z
LAST-MODIFIED:20220329T094434Z
UID:10015720-1649601000-1649604600@www.dancesoul.com.tw
SUMMARY:兒童MV-(TAEYEON - INVU)-小卉
DESCRIPTION:
URL:https://www.dancesoul.com.tw/schedule/%e5%85%92%e7%ab%a5mv-taeyeon-invu-%e5%b0%8f%e5%8d%89/2022-04-10/
LOCATION:仁愛路四段425-1號\, Taipei City\, 104\, 台灣
CATEGORIES:兒童MV,兒童課
END:VEVENT
BEGIN:VEVENT
DTSTART;TZID=Asia/Shanghai:20220403T143000
DTEND;TZID=Asia/Shanghai:20220403T153000
DTSTAMP:20260422T074115
CREATED:20220329T094434Z
LAST-MODIFIED:20220329T094434Z
UID:10015719-1648996200-1648999800@www.dancesoul.com.tw
SUMMARY:兒童MV-(TAEYEON - INVU)-小卉
DESCRIPTION:
URL:https://www.dancesoul.com.tw/schedule/%e5%85%92%e7%ab%a5mv-taeyeon-invu-%e5%b0%8f%e5%8d%89/2022-04-03/
LOCATION:仁愛路四段425-1號\, Taipei City\, 104\, 台灣
CATEGORIES:兒童MV,兒童課
END:VEVENT
END:VCALENDAR