BEGIN:VCALENDAR
VERSION:2.0
PRODID:-//DANCE SOUL 舞魂街舞學校 - ECPv6.15.18//NONSGML v1.0//EN
CALSCALE:GREGORIAN
METHOD:PUBLISH
X-ORIGINAL-URL:https://www.dancesoul.com.tw
X-WR-CALDESC:Events for DANCE SOUL 舞魂街舞學校
REFRESH-INTERVAL;VALUE=DURATION:PT1H
X-Robots-Tag:noindex
X-PUBLISHED-TTL:PT1H
BEGIN:VTIMEZONE
TZID:Asia/Shanghai
BEGIN:STANDARD
TZOFFSETFROM:+0800
TZOFFSETTO:+0800
TZNAME:CST
DTSTART:20210101T000000
END:STANDARD
END:VTIMEZONE
BEGIN:VEVENT
DTSTART;TZID=Asia/Shanghai:20220130T143000
DTEND;TZID=Asia/Shanghai:20220130T153000
DTSTAMP:20260425T230929
CREATED:20211230T043111Z
LAST-MODIFIED:20211230T043111Z
UID:10013995-1643553000-1643556600@www.dancesoul.com.tw
SUMMARY:兒童MV-小卉 (ITZY - SWIPE)
DESCRIPTION:
URL:https://www.dancesoul.com.tw/schedule/%e5%85%92%e7%ab%a5mv-%e5%b0%8f%e5%8d%89-itzy-swipe/2022-01-30/
LOCATION:仁愛路四段425-1號\, Taipei City\, 104\, 台灣
CATEGORIES:兒童MV,兒童課
END:VEVENT
BEGIN:VEVENT
DTSTART;TZID=Asia/Shanghai:20220123T143000
DTEND;TZID=Asia/Shanghai:20220123T153000
DTSTAMP:20260425T230929
CREATED:20211230T043111Z
LAST-MODIFIED:20211230T043111Z
UID:10013994-1642948200-1642951800@www.dancesoul.com.tw
SUMMARY:兒童MV-小卉 (ITZY - SWIPE)
DESCRIPTION:
URL:https://www.dancesoul.com.tw/schedule/%e5%85%92%e7%ab%a5mv-%e5%b0%8f%e5%8d%89-itzy-swipe/2022-01-23/
LOCATION:仁愛路四段425-1號\, Taipei City\, 104\, 台灣
CATEGORIES:兒童MV,兒童課
END:VEVENT
BEGIN:VEVENT
DTSTART;TZID=Asia/Shanghai:20220116T143000
DTEND;TZID=Asia/Shanghai:20220116T153000
DTSTAMP:20260425T230929
CREATED:20211230T043111Z
LAST-MODIFIED:20211230T043111Z
UID:10013993-1642343400-1642347000@www.dancesoul.com.tw
SUMMARY:兒童MV-小卉 (ITZY - SWIPE)
DESCRIPTION:
URL:https://www.dancesoul.com.tw/schedule/%e5%85%92%e7%ab%a5mv-%e5%b0%8f%e5%8d%89-itzy-swipe/2022-01-16/
LOCATION:仁愛路四段425-1號\, Taipei City\, 104\, 台灣
CATEGORIES:兒童MV,兒童課
END:VEVENT
BEGIN:VEVENT
DTSTART;TZID=Asia/Shanghai:20220109T143000
DTEND;TZID=Asia/Shanghai:20220109T153000
DTSTAMP:20260425T230929
CREATED:20211230T043111Z
LAST-MODIFIED:20211230T043111Z
UID:10013992-1641738600-1641742200@www.dancesoul.com.tw
SUMMARY:兒童MV-小卉 (ITZY - SWIPE)
DESCRIPTION:
URL:https://www.dancesoul.com.tw/schedule/%e5%85%92%e7%ab%a5mv-%e5%b0%8f%e5%8d%89-itzy-swipe/2022-01-09/
LOCATION:仁愛路四段425-1號\, Taipei City\, 104\, 台灣
CATEGORIES:兒童MV,兒童課
END:VEVENT
BEGIN:VEVENT
DTSTART;TZID=Asia/Shanghai:20220102T143000
DTEND;TZID=Asia/Shanghai:20220102T153000
DTSTAMP:20260425T230929
CREATED:20211230T043111Z
LAST-MODIFIED:20211230T043111Z
UID:10013991-1641133800-1641137400@www.dancesoul.com.tw
SUMMARY:兒童MV-小卉 (ITZY - SWIPE)
DESCRIPTION:
URL:https://www.dancesoul.com.tw/schedule/%e5%85%92%e7%ab%a5mv-%e5%b0%8f%e5%8d%89-itzy-swipe/2022-01-02/
LOCATION:仁愛路四段425-1號\, Taipei City\, 104\, 台灣
CATEGORIES:兒童MV,兒童課
END:VEVENT
END:VCALENDAR