BEGIN:VCALENDAR
VERSION:2.0
PRODID:-//DANCE SOUL 舞魂街舞學校 - ECPv6.15.18//NONSGML v1.0//EN
CALSCALE:GREGORIAN
METHOD:PUBLISH
X-WR-CALNAME:DANCE SOUL 舞魂街舞學校
X-ORIGINAL-URL:https://www.dancesoul.com.tw
X-WR-CALDESC:Events for DANCE SOUL 舞魂街舞學校
REFRESH-INTERVAL;VALUE=DURATION:PT1H
X-Robots-Tag:noindex
X-PUBLISHED-TTL:PT1H
BEGIN:VTIMEZONE
TZID:Asia/Shanghai
BEGIN:STANDARD
TZOFFSETFROM:+0800
TZOFFSETTO:+0800
TZNAME:CST
DTSTART:20200101T000000
END:STANDARD
END:VTIMEZONE
BEGIN:VEVENT
DTSTART;TZID=Asia/Shanghai:20211226T143000
DTEND;TZID=Asia/Shanghai:20211226T153000
DTSTAMP:20260425T214711
CREATED:20211126T084728Z
LAST-MODIFIED:20211126T084728Z
UID:10013777-1640529000-1640532600@www.dancesoul.com.tw
SUMMARY:兒童MV-小卉 (TWICE –The Feels )
DESCRIPTION:
URL:https://www.dancesoul.com.tw/schedule/%e5%85%92%e7%ab%a5mv-%e5%b0%8f%e5%8d%89-twice-the-feels/2021-12-26/
LOCATION:仁愛路四段425-1號\, Taipei City\, 104\, 台灣
CATEGORIES:兒童MV,兒童課
END:VEVENT
BEGIN:VEVENT
DTSTART;TZID=Asia/Shanghai:20211219T143000
DTEND;TZID=Asia/Shanghai:20211219T153000
DTSTAMP:20260425T214711
CREATED:20211126T084728Z
LAST-MODIFIED:20211126T084728Z
UID:10013776-1639924200-1639927800@www.dancesoul.com.tw
SUMMARY:兒童MV-小卉 (TWICE –The Feels )
DESCRIPTION:
URL:https://www.dancesoul.com.tw/schedule/%e5%85%92%e7%ab%a5mv-%e5%b0%8f%e5%8d%89-twice-the-feels/2021-12-19/
LOCATION:仁愛路四段425-1號\, Taipei City\, 104\, 台灣
CATEGORIES:兒童MV,兒童課
END:VEVENT
BEGIN:VEVENT
DTSTART;TZID=Asia/Shanghai:20211212T143000
DTEND;TZID=Asia/Shanghai:20211212T153000
DTSTAMP:20260425T214711
CREATED:20211126T084728Z
LAST-MODIFIED:20211126T084728Z
UID:10013775-1639319400-1639323000@www.dancesoul.com.tw
SUMMARY:兒童MV-小卉 (TWICE –The Feels )
DESCRIPTION:
URL:https://www.dancesoul.com.tw/schedule/%e5%85%92%e7%ab%a5mv-%e5%b0%8f%e5%8d%89-twice-the-feels/2021-12-12/
LOCATION:仁愛路四段425-1號\, Taipei City\, 104\, 台灣
CATEGORIES:兒童MV,兒童課
END:VEVENT
BEGIN:VEVENT
DTSTART;TZID=Asia/Shanghai:20211205T143000
DTEND;TZID=Asia/Shanghai:20211205T153000
DTSTAMP:20260425T214711
CREATED:20211126T084728Z
LAST-MODIFIED:20211126T084728Z
UID:10013774-1638714600-1638718200@www.dancesoul.com.tw
SUMMARY:兒童MV-小卉 (TWICE –The Feels )
DESCRIPTION:
URL:https://www.dancesoul.com.tw/schedule/%e5%85%92%e7%ab%a5mv-%e5%b0%8f%e5%8d%89-twice-the-feels/2021-12-05/
LOCATION:仁愛路四段425-1號\, Taipei City\, 104\, 台灣
CATEGORIES:兒童MV,兒童課
END:VEVENT
END:VCALENDAR