BEGIN:VCALENDAR
VERSION:2.0
PRODID:-//DANCE SOUL 舞魂街舞學校 - ECPv6.15.18//NONSGML v1.0//EN
CALSCALE:GREGORIAN
METHOD:PUBLISH
X-WR-CALNAME:DANCE SOUL 舞魂街舞學校
X-ORIGINAL-URL:https://www.dancesoul.com.tw
X-WR-CALDESC:Events for DANCE SOUL 舞魂街舞學校
REFRESH-INTERVAL;VALUE=DURATION:PT1H
X-Robots-Tag:noindex
X-PUBLISHED-TTL:PT1H
BEGIN:VTIMEZONE
TZID:Asia/Shanghai
BEGIN:STANDARD
TZOFFSETFROM:+0800
TZOFFSETTO:+0800
TZNAME:CST
DTSTART:20220101T000000
END:STANDARD
END:VTIMEZONE
BEGIN:VEVENT
DTSTART;TZID=Asia/Shanghai:20231126T143000
DTEND;TZID=Asia/Shanghai:20231126T153000
DTSTAMP:20260425T205412
CREATED:20231031T083043Z
LAST-MODIFIED:20231031T083043Z
UID:10018597-1701009000-1701012600@www.dancesoul.com.tw
SUMMARY:兒童MV-(XG-PUPPET SHOW)-牛牛
DESCRIPTION:
URL:https://www.dancesoul.com.tw/schedule/%e5%85%92%e7%ab%a5mv-xg-puppet-show-%e7%89%9b%e7%89%9b/2023-11-26/
CATEGORIES:兒童MV,兒童課,課程
END:VEVENT
BEGIN:VEVENT
DTSTART;TZID=Asia/Shanghai:20231119T143000
DTEND;TZID=Asia/Shanghai:20231119T153000
DTSTAMP:20260425T205412
CREATED:20231031T083043Z
LAST-MODIFIED:20231031T083043Z
UID:10018596-1700404200-1700407800@www.dancesoul.com.tw
SUMMARY:兒童MV-(XG-PUPPET SHOW)-牛牛
DESCRIPTION:
URL:https://www.dancesoul.com.tw/schedule/%e5%85%92%e7%ab%a5mv-xg-puppet-show-%e7%89%9b%e7%89%9b/2023-11-19/
CATEGORIES:兒童MV,兒童課,課程
END:VEVENT
BEGIN:VEVENT
DTSTART;TZID=Asia/Shanghai:20231112T143000
DTEND;TZID=Asia/Shanghai:20231112T153000
DTSTAMP:20260425T205412
CREATED:20231031T083043Z
LAST-MODIFIED:20231031T083043Z
UID:10018595-1699799400-1699803000@www.dancesoul.com.tw
SUMMARY:兒童MV-(XG-PUPPET SHOW)-牛牛
DESCRIPTION:
URL:https://www.dancesoul.com.tw/schedule/%e5%85%92%e7%ab%a5mv-xg-puppet-show-%e7%89%9b%e7%89%9b/2023-11-12/
CATEGORIES:兒童MV,兒童課,課程
END:VEVENT
BEGIN:VEVENT
DTSTART;TZID=Asia/Shanghai:20231105T143000
DTEND;TZID=Asia/Shanghai:20231105T153000
DTSTAMP:20260425T205412
CREATED:20231031T083043Z
LAST-MODIFIED:20231031T083043Z
UID:10018594-1699194600-1699198200@www.dancesoul.com.tw
SUMMARY:兒童MV-(XG-PUPPET SHOW)-牛牛
DESCRIPTION:
URL:https://www.dancesoul.com.tw/schedule/%e5%85%92%e7%ab%a5mv-xg-puppet-show-%e7%89%9b%e7%89%9b/2023-11-05/
CATEGORIES:兒童MV,兒童課,課程
END:VEVENT
BEGIN:VEVENT
DTSTART;TZID=Asia/Shanghai:20231029T143000
DTEND;TZID=Asia/Shanghai:20231029T153000
DTSTAMP:20260425T205412
CREATED:20230927T134210Z
LAST-MODIFIED:20230927T134210Z
UID:10018477-1698589800-1698593400@www.dancesoul.com.tw
SUMMARY:兒童MV-(Somi-Gold Gold Gold)-牛牛
DESCRIPTION:
URL:https://www.dancesoul.com.tw/schedule/%e5%85%92%e7%ab%a5mv-somi-gold-gold-gold-%e7%89%9b%e7%89%9b/2023-10-29/
CATEGORIES:兒童MV,兒童課,課程
END:VEVENT
BEGIN:VEVENT
DTSTART;TZID=Asia/Shanghai:20231022T143000
DTEND;TZID=Asia/Shanghai:20231022T153000
DTSTAMP:20260425T205412
CREATED:20230927T134210Z
LAST-MODIFIED:20230927T134210Z
UID:10018476-1697985000-1697988600@www.dancesoul.com.tw
SUMMARY:兒童MV-(Somi-Gold Gold Gold)-牛牛
DESCRIPTION:
URL:https://www.dancesoul.com.tw/schedule/%e5%85%92%e7%ab%a5mv-somi-gold-gold-gold-%e7%89%9b%e7%89%9b/2023-10-22/
CATEGORIES:兒童MV,兒童課,課程
END:VEVENT
BEGIN:VEVENT
DTSTART;TZID=Asia/Shanghai:20231015T143000
DTEND;TZID=Asia/Shanghai:20231015T153000
DTSTAMP:20260425T205412
CREATED:20230927T134210Z
LAST-MODIFIED:20230927T134210Z
UID:10018475-1697380200-1697383800@www.dancesoul.com.tw
SUMMARY:兒童MV-(Somi-Gold Gold Gold)-牛牛
DESCRIPTION:
URL:https://www.dancesoul.com.tw/schedule/%e5%85%92%e7%ab%a5mv-somi-gold-gold-gold-%e7%89%9b%e7%89%9b/2023-10-15/
CATEGORIES:兒童MV,兒童課,課程
END:VEVENT
BEGIN:VEVENT
DTSTART;TZID=Asia/Shanghai:20231008T143000
DTEND;TZID=Asia/Shanghai:20231008T153000
DTSTAMP:20260425T205412
CREATED:20230927T134210Z
LAST-MODIFIED:20230927T134210Z
UID:10018474-1696775400-1696779000@www.dancesoul.com.tw
SUMMARY:兒童MV-(Somi-Gold Gold Gold)-牛牛
DESCRIPTION:
URL:https://www.dancesoul.com.tw/schedule/%e5%85%92%e7%ab%a5mv-somi-gold-gold-gold-%e7%89%9b%e7%89%9b/2023-10-08/
CATEGORIES:兒童MV,兒童課,課程
END:VEVENT
BEGIN:VEVENT
DTSTART;TZID=Asia/Shanghai:20231001T143000
DTEND;TZID=Asia/Shanghai:20231001T153000
DTSTAMP:20260425T205412
CREATED:20230927T134210Z
LAST-MODIFIED:20230927T134210Z
UID:10018473-1696170600-1696174200@www.dancesoul.com.tw
SUMMARY:兒童MV-(Somi-Gold Gold Gold)-牛牛
DESCRIPTION:
URL:https://www.dancesoul.com.tw/schedule/%e5%85%92%e7%ab%a5mv-somi-gold-gold-gold-%e7%89%9b%e7%89%9b/2023-10-01/
CATEGORIES:兒童MV,兒童課,課程
END:VEVENT
END:VCALENDAR