BEGIN:VCALENDAR
VERSION:2.0
PRODID:-//DANCE SOUL 舞魂街舞學校 - ECPv6.15.18//NONSGML v1.0//EN
CALSCALE:GREGORIAN
METHOD:PUBLISH
X-ORIGINAL-URL:https://www.dancesoul.com.tw
X-WR-CALDESC:Events for DANCE SOUL 舞魂街舞學校
REFRESH-INTERVAL;VALUE=DURATION:PT1H
X-Robots-Tag:noindex
X-PUBLISHED-TTL:PT1H
BEGIN:VTIMEZONE
TZID:Asia/Shanghai
BEGIN:STANDARD
TZOFFSETFROM:+0800
TZOFFSETTO:+0800
TZNAME:CST
DTSTART:20210101T000000
END:STANDARD
END:VTIMEZONE
BEGIN:VEVENT
DTSTART;TZID=Asia/Shanghai:20221119T154000
DTEND;TZID=Asia/Shanghai:20221119T164000
DTSTAMP:20260425T232815
CREATED:20221028T132639Z
LAST-MODIFIED:20221028T132639Z
UID:10016798-1668872400-1668876000@www.dancesoul.com.tw
SUMMARY:兒童街舞-Bona
DESCRIPTION:
URL:https://www.dancesoul.com.tw/schedule/%e5%85%92%e7%ab%a5%e8%a1%97%e8%88%9e-bona-2/2022-11-19/
LOCATION:仁愛路四段425-1號\, Taipei City\, 104\, 台灣
CATEGORIES:兒童街舞,兒童課,課程
END:VEVENT
BEGIN:VEVENT
DTSTART;TZID=Asia/Shanghai:20221112T154000
DTEND;TZID=Asia/Shanghai:20221112T164000
DTSTAMP:20260425T232815
CREATED:20221028T132639Z
LAST-MODIFIED:20221028T132639Z
UID:10016797-1668267600-1668271200@www.dancesoul.com.tw
SUMMARY:兒童街舞-Bona
DESCRIPTION:
URL:https://www.dancesoul.com.tw/schedule/%e5%85%92%e7%ab%a5%e8%a1%97%e8%88%9e-bona-2/2022-11-12/
LOCATION:仁愛路四段425-1號\, Taipei City\, 104\, 台灣
CATEGORIES:兒童街舞,兒童課,課程
END:VEVENT
BEGIN:VEVENT
DTSTART;TZID=Asia/Shanghai:20221105T154000
DTEND;TZID=Asia/Shanghai:20221105T164000
DTSTAMP:20260425T232815
CREATED:20221028T132639Z
LAST-MODIFIED:20221028T132639Z
UID:10016796-1667662800-1667666400@www.dancesoul.com.tw
SUMMARY:兒童街舞-Bona
DESCRIPTION:
URL:https://www.dancesoul.com.tw/schedule/%e5%85%92%e7%ab%a5%e8%a1%97%e8%88%9e-bona-2/2022-11-05/
LOCATION:仁愛路四段425-1號\, Taipei City\, 104\, 台灣
CATEGORIES:兒童街舞,兒童課,課程
END:VEVENT
BEGIN:VEVENT
DTSTART;TZID=Asia/Shanghai:20221029T154000
DTEND;TZID=Asia/Shanghai:20221029T164000
DTSTAMP:20260425T232815
CREATED:20220925T093213Z
LAST-MODIFIED:20220925T093213Z
UID:10016743-1667058000-1667061600@www.dancesoul.com.tw
SUMMARY:兒童街舞-Bona
DESCRIPTION:
URL:https://www.dancesoul.com.tw/schedule/%e5%85%92%e7%ab%a5%e8%a1%97%e8%88%9e-bona/2022-10-29/
LOCATION:仁愛路四段425-1號\, Taipei City\, 104\, 台灣
CATEGORIES:兒童街舞,兒童課,課程
END:VEVENT
BEGIN:VEVENT
DTSTART;TZID=Asia/Shanghai:20221022T154000
DTEND;TZID=Asia/Shanghai:20221022T164000
DTSTAMP:20260425T232815
CREATED:20220925T093213Z
LAST-MODIFIED:20220925T093213Z
UID:10016742-1666453200-1666456800@www.dancesoul.com.tw
SUMMARY:兒童街舞-Bona
DESCRIPTION:
URL:https://www.dancesoul.com.tw/schedule/%e5%85%92%e7%ab%a5%e8%a1%97%e8%88%9e-bona/2022-10-22/
LOCATION:仁愛路四段425-1號\, Taipei City\, 104\, 台灣
CATEGORIES:兒童街舞,兒童課,課程
END:VEVENT
BEGIN:VEVENT
DTSTART;TZID=Asia/Shanghai:20221015T154000
DTEND;TZID=Asia/Shanghai:20221015T164000
DTSTAMP:20260425T232815
CREATED:20220925T093213Z
LAST-MODIFIED:20220925T093213Z
UID:10016741-1665848400-1665852000@www.dancesoul.com.tw
SUMMARY:兒童街舞-Bona
DESCRIPTION:
URL:https://www.dancesoul.com.tw/schedule/%e5%85%92%e7%ab%a5%e8%a1%97%e8%88%9e-bona/2022-10-15/
LOCATION:仁愛路四段425-1號\, Taipei City\, 104\, 台灣
CATEGORIES:兒童街舞,兒童課,課程
END:VEVENT
BEGIN:VEVENT
DTSTART;TZID=Asia/Shanghai:20221008T154000
DTEND;TZID=Asia/Shanghai:20221008T164000
DTSTAMP:20260425T232815
CREATED:20220925T093213Z
LAST-MODIFIED:20220925T093213Z
UID:10016740-1665243600-1665247200@www.dancesoul.com.tw
SUMMARY:兒童街舞-Bona
DESCRIPTION:
URL:https://www.dancesoul.com.tw/schedule/%e5%85%92%e7%ab%a5%e8%a1%97%e8%88%9e-bona/2022-10-08/
LOCATION:仁愛路四段425-1號\, Taipei City\, 104\, 台灣
CATEGORIES:兒童街舞,兒童課,課程
END:VEVENT
BEGIN:VEVENT
DTSTART;TZID=Asia/Shanghai:20221001T154000
DTEND;TZID=Asia/Shanghai:20221001T164000
DTSTAMP:20260425T232815
CREATED:20220925T093213Z
LAST-MODIFIED:20220925T093213Z
UID:10016739-1664638800-1664642400@www.dancesoul.com.tw
SUMMARY:兒童街舞-Bona
DESCRIPTION:
URL:https://www.dancesoul.com.tw/schedule/%e5%85%92%e7%ab%a5%e8%a1%97%e8%88%9e-bona/2022-10-01/
LOCATION:仁愛路四段425-1號\, Taipei City\, 104\, 台灣
CATEGORIES:兒童街舞,兒童課,課程
END:VEVENT
END:VCALENDAR