BEGIN:VCALENDAR
VERSION:2.0
PRODID:-//DANCE SOUL 舞魂街舞學校 - ECPv6.15.18//NONSGML v1.0//EN
CALSCALE:GREGORIAN
METHOD:PUBLISH
X-ORIGINAL-URL:https://www.dancesoul.com.tw
X-WR-CALDESC:Events for DANCE SOUL 舞魂街舞學校
REFRESH-INTERVAL;VALUE=DURATION:PT1H
X-Robots-Tag:noindex
X-PUBLISHED-TTL:PT1H
BEGIN:VTIMEZONE
TZID:Asia/Shanghai
BEGIN:STANDARD
TZOFFSETFROM:+0800
TZOFFSETTO:+0800
TZNAME:CST
DTSTART:20230101T000000
END:STANDARD
END:VTIMEZONE
BEGIN:VEVENT
DTSTART;TZID=Asia/Shanghai:20240630T154000
DTEND;TZID=Asia/Shanghai:20240630T164000
DTSTAMP:20260422T094816
CREATED:20240523T101428Z
LAST-MODIFIED:20240523T101428Z
UID:10019635-1719762000-1719765600@www.dancesoul.com.tw
SUMMARY:兒童街舞-傘傘
DESCRIPTION:
URL:https://www.dancesoul.com.tw/schedule/%e5%85%92%e7%ab%a5%e8%a1%97%e8%88%9e-%e5%82%98%e5%82%98-39/2024-06-30/
CATEGORIES:兒童街舞,兒童課,課程
END:VEVENT
BEGIN:VEVENT
DTSTART;TZID=Asia/Shanghai:20240629T154000
DTEND;TZID=Asia/Shanghai:20240629T164000
DTSTAMP:20260422T094816
CREATED:20240523T095423Z
LAST-MODIFIED:20240523T095423Z
UID:10019595-1719675600-1719679200@www.dancesoul.com.tw
SUMMARY:兒童街舞-傘傘
DESCRIPTION:
URL:https://www.dancesoul.com.tw/schedule/%e5%85%92%e7%ab%a5%e8%a1%97%e8%88%9e-%e5%82%98%e5%82%98-38/2024-06-29/
CATEGORIES:兒童街舞,兒童課,課程
END:VEVENT
BEGIN:VEVENT
DTSTART;TZID=Asia/Shanghai:20240623T154000
DTEND;TZID=Asia/Shanghai:20240623T164000
DTSTAMP:20260422T094816
CREATED:20240523T101428Z
LAST-MODIFIED:20240523T101428Z
UID:10019634-1719157200-1719160800@www.dancesoul.com.tw
SUMMARY:兒童街舞-傘傘
DESCRIPTION:
URL:https://www.dancesoul.com.tw/schedule/%e5%85%92%e7%ab%a5%e8%a1%97%e8%88%9e-%e5%82%98%e5%82%98-39/2024-06-23/
CATEGORIES:兒童街舞,兒童課,課程
END:VEVENT
BEGIN:VEVENT
DTSTART;TZID=Asia/Shanghai:20240622T154000
DTEND;TZID=Asia/Shanghai:20240622T164000
DTSTAMP:20260422T094816
CREATED:20240523T095423Z
LAST-MODIFIED:20240523T095423Z
UID:10019594-1719070800-1719074400@www.dancesoul.com.tw
SUMMARY:兒童街舞-傘傘
DESCRIPTION:
URL:https://www.dancesoul.com.tw/schedule/%e5%85%92%e7%ab%a5%e8%a1%97%e8%88%9e-%e5%82%98%e5%82%98-38/2024-06-22/
CATEGORIES:兒童街舞,兒童課,課程
END:VEVENT
BEGIN:VEVENT
DTSTART;TZID=Asia/Shanghai:20240616T154000
DTEND;TZID=Asia/Shanghai:20240616T164000
DTSTAMP:20260422T094816
CREATED:20240523T101428Z
LAST-MODIFIED:20240523T101428Z
UID:10019633-1718552400-1718556000@www.dancesoul.com.tw
SUMMARY:兒童街舞-傘傘
DESCRIPTION:
URL:https://www.dancesoul.com.tw/schedule/%e5%85%92%e7%ab%a5%e8%a1%97%e8%88%9e-%e5%82%98%e5%82%98-39/2024-06-16/
CATEGORIES:兒童街舞,兒童課,課程
END:VEVENT
BEGIN:VEVENT
DTSTART;TZID=Asia/Shanghai:20240615T154000
DTEND;TZID=Asia/Shanghai:20240615T164000
DTSTAMP:20260422T094816
CREATED:20240523T095423Z
LAST-MODIFIED:20240523T095423Z
UID:10019593-1718466000-1718469600@www.dancesoul.com.tw
SUMMARY:兒童街舞-傘傘
DESCRIPTION:
URL:https://www.dancesoul.com.tw/schedule/%e5%85%92%e7%ab%a5%e8%a1%97%e8%88%9e-%e5%82%98%e5%82%98-38/2024-06-15/
CATEGORIES:兒童街舞,兒童課,課程
END:VEVENT
BEGIN:VEVENT
DTSTART;TZID=Asia/Shanghai:20240609T154000
DTEND;TZID=Asia/Shanghai:20240609T164000
DTSTAMP:20260422T094816
CREATED:20240523T101428Z
LAST-MODIFIED:20240523T101428Z
UID:10019632-1717947600-1717951200@www.dancesoul.com.tw
SUMMARY:兒童街舞-傘傘
DESCRIPTION:
URL:https://www.dancesoul.com.tw/schedule/%e5%85%92%e7%ab%a5%e8%a1%97%e8%88%9e-%e5%82%98%e5%82%98-39/2024-06-09/
CATEGORIES:兒童街舞,兒童課,課程
END:VEVENT
BEGIN:VEVENT
DTSTART;TZID=Asia/Shanghai:20240608T154000
DTEND;TZID=Asia/Shanghai:20240608T164000
DTSTAMP:20260422T094816
CREATED:20240523T095423Z
LAST-MODIFIED:20240523T095423Z
UID:10019592-1717861200-1717864800@www.dancesoul.com.tw
SUMMARY:兒童街舞-傘傘
DESCRIPTION:
URL:https://www.dancesoul.com.tw/schedule/%e5%85%92%e7%ab%a5%e8%a1%97%e8%88%9e-%e5%82%98%e5%82%98-38/2024-06-08/
CATEGORIES:兒童街舞,兒童課,課程
END:VEVENT
BEGIN:VEVENT
DTSTART;TZID=Asia/Shanghai:20240602T154000
DTEND;TZID=Asia/Shanghai:20240602T164000
DTSTAMP:20260422T094816
CREATED:20240523T101428Z
LAST-MODIFIED:20240523T101428Z
UID:10019631-1717342800-1717346400@www.dancesoul.com.tw
SUMMARY:兒童街舞-傘傘
DESCRIPTION:
URL:https://www.dancesoul.com.tw/schedule/%e5%85%92%e7%ab%a5%e8%a1%97%e8%88%9e-%e5%82%98%e5%82%98-39/2024-06-02/
CATEGORIES:兒童街舞,兒童課,課程
END:VEVENT
BEGIN:VEVENT
DTSTART;TZID=Asia/Shanghai:20240601T154000
DTEND;TZID=Asia/Shanghai:20240601T164000
DTSTAMP:20260422T094816
CREATED:20240523T095423Z
LAST-MODIFIED:20240523T095423Z
UID:10019591-1717256400-1717260000@www.dancesoul.com.tw
SUMMARY:兒童街舞-傘傘
DESCRIPTION:
URL:https://www.dancesoul.com.tw/schedule/%e5%85%92%e7%ab%a5%e8%a1%97%e8%88%9e-%e5%82%98%e5%82%98-38/2024-06-01/
CATEGORIES:兒童街舞,兒童課,課程
END:VEVENT
BEGIN:VEVENT
DTSTART;TZID=Asia/Shanghai:20240526T154000
DTEND;TZID=Asia/Shanghai:20240526T164000
DTSTAMP:20260422T094816
CREATED:20240423T092010Z
LAST-MODIFIED:20240423T092010Z
UID:10019496-1716738000-1716741600@www.dancesoul.com.tw
SUMMARY:兒童街舞-傘傘
DESCRIPTION:
URL:https://www.dancesoul.com.tw/schedule/%e5%85%92%e7%ab%a5%e8%a1%97%e8%88%9e-%e5%82%98%e5%82%98-37/2024-05-26/
CATEGORIES:兒童街舞,兒童課,課程
END:VEVENT
BEGIN:VEVENT
DTSTART;TZID=Asia/Shanghai:20240525T154000
DTEND;TZID=Asia/Shanghai:20240525T164000
DTSTAMP:20260422T094816
CREATED:20240423T084617Z
LAST-MODIFIED:20240423T084617Z
UID:10019468-1716651600-1716655200@www.dancesoul.com.tw
SUMMARY:兒童街舞-傘傘
DESCRIPTION:
URL:https://www.dancesoul.com.tw/schedule/%e5%85%92%e7%ab%a5%e8%a1%97%e8%88%9e-%e5%82%98%e5%82%98-36/2024-05-25/
CATEGORIES:兒童街舞,兒童課,課程
END:VEVENT
BEGIN:VEVENT
DTSTART;TZID=Asia/Shanghai:20240519T154000
DTEND;TZID=Asia/Shanghai:20240519T164000
DTSTAMP:20260422T094816
CREATED:20240423T092010Z
LAST-MODIFIED:20240423T092010Z
UID:10019495-1716133200-1716136800@www.dancesoul.com.tw
SUMMARY:兒童街舞-傘傘
DESCRIPTION:
URL:https://www.dancesoul.com.tw/schedule/%e5%85%92%e7%ab%a5%e8%a1%97%e8%88%9e-%e5%82%98%e5%82%98-37/2024-05-19/
CATEGORIES:兒童街舞,兒童課,課程
END:VEVENT
BEGIN:VEVENT
DTSTART;TZID=Asia/Shanghai:20240518T154000
DTEND;TZID=Asia/Shanghai:20240518T164000
DTSTAMP:20260422T094816
CREATED:20240423T084617Z
LAST-MODIFIED:20240423T084617Z
UID:10019467-1716046800-1716050400@www.dancesoul.com.tw
SUMMARY:兒童街舞-傘傘
DESCRIPTION:
URL:https://www.dancesoul.com.tw/schedule/%e5%85%92%e7%ab%a5%e8%a1%97%e8%88%9e-%e5%82%98%e5%82%98-36/2024-05-18/
CATEGORIES:兒童街舞,兒童課,課程
END:VEVENT
BEGIN:VEVENT
DTSTART;TZID=Asia/Shanghai:20240512T154000
DTEND;TZID=Asia/Shanghai:20240512T164000
DTSTAMP:20260422T094816
CREATED:20240423T092010Z
LAST-MODIFIED:20240423T092010Z
UID:10019494-1715528400-1715532000@www.dancesoul.com.tw
SUMMARY:兒童街舞-傘傘
DESCRIPTION:
URL:https://www.dancesoul.com.tw/schedule/%e5%85%92%e7%ab%a5%e8%a1%97%e8%88%9e-%e5%82%98%e5%82%98-37/2024-05-12/
CATEGORIES:兒童街舞,兒童課,課程
END:VEVENT
BEGIN:VEVENT
DTSTART;TZID=Asia/Shanghai:20240511T154000
DTEND;TZID=Asia/Shanghai:20240511T164000
DTSTAMP:20260422T094816
CREATED:20240423T084617Z
LAST-MODIFIED:20240423T084617Z
UID:10019466-1715442000-1715445600@www.dancesoul.com.tw
SUMMARY:兒童街舞-傘傘
DESCRIPTION:
URL:https://www.dancesoul.com.tw/schedule/%e5%85%92%e7%ab%a5%e8%a1%97%e8%88%9e-%e5%82%98%e5%82%98-36/2024-05-11/
CATEGORIES:兒童街舞,兒童課,課程
END:VEVENT
BEGIN:VEVENT
DTSTART;TZID=Asia/Shanghai:20240505T154000
DTEND;TZID=Asia/Shanghai:20240505T164000
DTSTAMP:20260422T094816
CREATED:20240423T092010Z
LAST-MODIFIED:20240423T092010Z
UID:10019493-1714923600-1714927200@www.dancesoul.com.tw
SUMMARY:兒童街舞-傘傘
DESCRIPTION:
URL:https://www.dancesoul.com.tw/schedule/%e5%85%92%e7%ab%a5%e8%a1%97%e8%88%9e-%e5%82%98%e5%82%98-37/2024-05-05/
CATEGORIES:兒童街舞,兒童課,課程
END:VEVENT
BEGIN:VEVENT
DTSTART;TZID=Asia/Shanghai:20240504T154000
DTEND;TZID=Asia/Shanghai:20240504T164000
DTSTAMP:20260422T094816
CREATED:20240423T084617Z
LAST-MODIFIED:20240423T084617Z
UID:10019465-1714837200-1714840800@www.dancesoul.com.tw
SUMMARY:兒童街舞-傘傘
DESCRIPTION:
URL:https://www.dancesoul.com.tw/schedule/%e5%85%92%e7%ab%a5%e8%a1%97%e8%88%9e-%e5%82%98%e5%82%98-36/2024-05-04/
CATEGORIES:兒童街舞,兒童課,課程
END:VEVENT
BEGIN:VEVENT
DTSTART;TZID=Asia/Shanghai:20240428T154000
DTEND;TZID=Asia/Shanghai:20240428T164000
DTSTAMP:20260422T094816
CREATED:20240326T091220Z
LAST-MODIFIED:20240326T091220Z
UID:10019376-1714318800-1714322400@www.dancesoul.com.tw
SUMMARY:兒童街舞-傘傘
DESCRIPTION:
URL:https://www.dancesoul.com.tw/schedule/%e5%85%92%e7%ab%a5%e8%a1%97%e8%88%9e-%e5%82%98%e5%82%98-35/2024-04-28/
CATEGORIES:兒童街舞,兒童課,課程
END:VEVENT
BEGIN:VEVENT
DTSTART;TZID=Asia/Shanghai:20240427T154000
DTEND;TZID=Asia/Shanghai:20240427T164000
DTSTAMP:20260422T094816
CREATED:20240326T085833Z
LAST-MODIFIED:20240326T085833Z
UID:10019344-1714232400-1714236000@www.dancesoul.com.tw
SUMMARY:兒童街舞-傘傘
DESCRIPTION:
URL:https://www.dancesoul.com.tw/schedule/%e5%85%92%e7%ab%a5%e8%a1%97%e8%88%9e-%e5%82%98%e5%82%98-34/2024-04-27/
CATEGORIES:兒童街舞,兒童課,課程
END:VEVENT
BEGIN:VEVENT
DTSTART;TZID=Asia/Shanghai:20240421T154000
DTEND;TZID=Asia/Shanghai:20240421T164000
DTSTAMP:20260422T094816
CREATED:20240326T091220Z
LAST-MODIFIED:20240326T091220Z
UID:10019375-1713714000-1713717600@www.dancesoul.com.tw
SUMMARY:兒童街舞-傘傘
DESCRIPTION:
URL:https://www.dancesoul.com.tw/schedule/%e5%85%92%e7%ab%a5%e8%a1%97%e8%88%9e-%e5%82%98%e5%82%98-35/2024-04-21/
CATEGORIES:兒童街舞,兒童課,課程
END:VEVENT
BEGIN:VEVENT
DTSTART;TZID=Asia/Shanghai:20240420T154000
DTEND;TZID=Asia/Shanghai:20240420T164000
DTSTAMP:20260422T094816
CREATED:20240326T085833Z
LAST-MODIFIED:20240326T085833Z
UID:10019343-1713627600-1713631200@www.dancesoul.com.tw
SUMMARY:兒童街舞-傘傘
DESCRIPTION:
URL:https://www.dancesoul.com.tw/schedule/%e5%85%92%e7%ab%a5%e8%a1%97%e8%88%9e-%e5%82%98%e5%82%98-34/2024-04-20/
CATEGORIES:兒童街舞,兒童課,課程
END:VEVENT
BEGIN:VEVENT
DTSTART;TZID=Asia/Shanghai:20240414T154000
DTEND;TZID=Asia/Shanghai:20240414T164000
DTSTAMP:20260422T094816
CREATED:20240326T091220Z
LAST-MODIFIED:20240326T091220Z
UID:10019374-1713109200-1713112800@www.dancesoul.com.tw
SUMMARY:兒童街舞-傘傘
DESCRIPTION:
URL:https://www.dancesoul.com.tw/schedule/%e5%85%92%e7%ab%a5%e8%a1%97%e8%88%9e-%e5%82%98%e5%82%98-35/2024-04-14/
CATEGORIES:兒童街舞,兒童課,課程
END:VEVENT
BEGIN:VEVENT
DTSTART;TZID=Asia/Shanghai:20240413T154000
DTEND;TZID=Asia/Shanghai:20240413T164000
DTSTAMP:20260422T094816
CREATED:20240326T085833Z
LAST-MODIFIED:20240326T085833Z
UID:10019342-1713022800-1713026400@www.dancesoul.com.tw
SUMMARY:兒童街舞-傘傘
DESCRIPTION:
URL:https://www.dancesoul.com.tw/schedule/%e5%85%92%e7%ab%a5%e8%a1%97%e8%88%9e-%e5%82%98%e5%82%98-34/2024-04-13/
CATEGORIES:兒童街舞,兒童課,課程
END:VEVENT
BEGIN:VEVENT
DTSTART;TZID=Asia/Shanghai:20240407T154000
DTEND;TZID=Asia/Shanghai:20240407T164000
DTSTAMP:20260422T094816
CREATED:20240326T091220Z
LAST-MODIFIED:20240326T091220Z
UID:10019373-1712504400-1712508000@www.dancesoul.com.tw
SUMMARY:兒童街舞-傘傘
DESCRIPTION:
URL:https://www.dancesoul.com.tw/schedule/%e5%85%92%e7%ab%a5%e8%a1%97%e8%88%9e-%e5%82%98%e5%82%98-35/2024-04-07/
CATEGORIES:兒童街舞,兒童課,課程
END:VEVENT
BEGIN:VEVENT
DTSTART;TZID=Asia/Shanghai:20240406T154000
DTEND;TZID=Asia/Shanghai:20240406T164000
DTSTAMP:20260422T094816
CREATED:20240326T085833Z
LAST-MODIFIED:20240326T085833Z
UID:10019341-1712418000-1712421600@www.dancesoul.com.tw
SUMMARY:兒童街舞-傘傘
DESCRIPTION:
URL:https://www.dancesoul.com.tw/schedule/%e5%85%92%e7%ab%a5%e8%a1%97%e8%88%9e-%e5%82%98%e5%82%98-34/2024-04-06/
CATEGORIES:兒童街舞,兒童課,課程
END:VEVENT
BEGIN:VEVENT
DTSTART;TZID=Asia/Shanghai:20240331T154000
DTEND;TZID=Asia/Shanghai:20240331T164000
DTSTAMP:20260422T094816
CREATED:20240225T081631Z
LAST-MODIFIED:20240225T081631Z
UID:10019257-1711899600-1711903200@www.dancesoul.com.tw
SUMMARY:兒童街舞-傘傘
DESCRIPTION:
URL:https://www.dancesoul.com.tw/schedule/%e5%85%92%e7%ab%a5%e8%a1%97%e8%88%9e-%e5%82%98%e5%82%98-33/2024-03-31/
CATEGORIES:兒童MV,兒童課,課程
END:VEVENT
BEGIN:VEVENT
DTSTART;TZID=Asia/Shanghai:20240330T154000
DTEND;TZID=Asia/Shanghai:20240330T164000
DTSTAMP:20260422T094816
CREATED:20240225T070827Z
LAST-MODIFIED:20240225T070827Z
UID:10019222-1711813200-1711816800@www.dancesoul.com.tw
SUMMARY:兒童街舞-傘傘
DESCRIPTION:
URL:https://www.dancesoul.com.tw/schedule/%e5%85%92%e7%ab%a5%e8%a1%97%e8%88%9e-%e5%82%98%e5%82%98-32/2024-03-30/
CATEGORIES:兒童街舞,兒童課,課程
END:VEVENT
BEGIN:VEVENT
DTSTART;TZID=Asia/Shanghai:20240324T154000
DTEND;TZID=Asia/Shanghai:20240324T164000
DTSTAMP:20260422T094816
CREATED:20240225T081631Z
LAST-MODIFIED:20240225T081631Z
UID:10019256-1711294800-1711298400@www.dancesoul.com.tw
SUMMARY:兒童街舞-傘傘
DESCRIPTION:
URL:https://www.dancesoul.com.tw/schedule/%e5%85%92%e7%ab%a5%e8%a1%97%e8%88%9e-%e5%82%98%e5%82%98-33/2024-03-24/
CATEGORIES:兒童MV,兒童課,課程
END:VEVENT
BEGIN:VEVENT
DTSTART;TZID=Asia/Shanghai:20240323T154000
DTEND;TZID=Asia/Shanghai:20240323T164000
DTSTAMP:20260422T094816
CREATED:20240225T070827Z
LAST-MODIFIED:20240225T070827Z
UID:10019221-1711208400-1711212000@www.dancesoul.com.tw
SUMMARY:兒童街舞-傘傘
DESCRIPTION:
URL:https://www.dancesoul.com.tw/schedule/%e5%85%92%e7%ab%a5%e8%a1%97%e8%88%9e-%e5%82%98%e5%82%98-32/2024-03-23/
CATEGORIES:兒童街舞,兒童課,課程
END:VEVENT
END:VCALENDAR