BEGIN:VCALENDAR
VERSION:2.0
PRODID:-//DANCE SOUL 舞魂街舞學校 - ECPv6.15.18//NONSGML v1.0//EN
CALSCALE:GREGORIAN
METHOD:PUBLISH
X-ORIGINAL-URL:https://www.dancesoul.com.tw
X-WR-CALDESC:Events for DANCE SOUL 舞魂街舞學校
REFRESH-INTERVAL;VALUE=DURATION:PT1H
X-Robots-Tag:noindex
X-PUBLISHED-TTL:PT1H
BEGIN:VTIMEZONE
TZID:Asia/Shanghai
BEGIN:STANDARD
TZOFFSETFROM:+0800
TZOFFSETTO:+0800
TZNAME:CST
DTSTART:20220101T000000
END:STANDARD
END:VTIMEZONE
BEGIN:VEVENT
DTSTART;TZID=Asia/Shanghai:20231125T132000
DTEND;TZID=Asia/Shanghai:20231125T142000
DTSTAMP:20260423T092805
CREATED:20231024T091558Z
LAST-MODIFIED:20231024T091558Z
UID:10018553-1700918400-1700922000@www.dancesoul.com.tw
SUMMARY:兒童街舞-蕭蕭
DESCRIPTION:
URL:https://www.dancesoul.com.tw/schedule/%e5%85%92%e7%ab%a5%e8%a1%97%e8%88%9e-%e8%95%ad%e8%95%ad-35/2023-11-25/
CATEGORIES:兒童街舞,兒童課,課程
END:VEVENT
BEGIN:VEVENT
DTSTART;TZID=Asia/Shanghai:20231118T132000
DTEND;TZID=Asia/Shanghai:20231118T142000
DTSTAMP:20260423T092805
CREATED:20231024T091558Z
LAST-MODIFIED:20231024T091558Z
UID:10018552-1700313600-1700317200@www.dancesoul.com.tw
SUMMARY:兒童街舞-蕭蕭
DESCRIPTION:
URL:https://www.dancesoul.com.tw/schedule/%e5%85%92%e7%ab%a5%e8%a1%97%e8%88%9e-%e8%95%ad%e8%95%ad-35/2023-11-18/
CATEGORIES:兒童街舞,兒童課,課程
END:VEVENT
BEGIN:VEVENT
DTSTART;TZID=Asia/Shanghai:20231111T132000
DTEND;TZID=Asia/Shanghai:20231111T142000
DTSTAMP:20260423T092805
CREATED:20231024T091558Z
LAST-MODIFIED:20231024T091558Z
UID:10018551-1699708800-1699712400@www.dancesoul.com.tw
SUMMARY:兒童街舞-蕭蕭
DESCRIPTION:
URL:https://www.dancesoul.com.tw/schedule/%e5%85%92%e7%ab%a5%e8%a1%97%e8%88%9e-%e8%95%ad%e8%95%ad-35/2023-11-11/
CATEGORIES:兒童街舞,兒童課,課程
END:VEVENT
BEGIN:VEVENT
DTSTART;TZID=Asia/Shanghai:20231104T132000
DTEND;TZID=Asia/Shanghai:20231104T142000
DTSTAMP:20260423T092805
CREATED:20231024T091558Z
LAST-MODIFIED:20231024T091558Z
UID:10018550-1699104000-1699107600@www.dancesoul.com.tw
SUMMARY:兒童街舞-蕭蕭
DESCRIPTION:
URL:https://www.dancesoul.com.tw/schedule/%e5%85%92%e7%ab%a5%e8%a1%97%e8%88%9e-%e8%95%ad%e8%95%ad-35/2023-11-04/
CATEGORIES:兒童街舞,兒童課,課程
END:VEVENT
BEGIN:VEVENT
DTSTART;TZID=Asia/Shanghai:20231028T132000
DTEND;TZID=Asia/Shanghai:20231028T142000
DTSTAMP:20260423T092805
CREATED:20230924T102634Z
LAST-MODIFIED:20230924T103226Z
UID:10018382-1698499200-1698502800@www.dancesoul.com.tw
SUMMARY:兒童街舞-蕭蕭
DESCRIPTION:
URL:https://www.dancesoul.com.tw/schedule/%e5%85%92%e7%ab%a5%e8%a1%97%e8%88%9e-%e8%95%ad%e8%95%ad-33/2023-10-28/
CATEGORIES:兒童街舞,兒童課,課程
END:VEVENT
BEGIN:VEVENT
DTSTART;TZID=Asia/Shanghai:20231021T132000
DTEND;TZID=Asia/Shanghai:20231021T142000
DTSTAMP:20260423T092805
CREATED:20230924T103414Z
LAST-MODIFIED:20230924T103414Z
UID:10018384-1697894400-1697898000@www.dancesoul.com.tw
SUMMARY:兒童街舞-蕭蕭
DESCRIPTION:
URL:https://www.dancesoul.com.tw/schedule/%e5%85%92%e7%ab%a5%e8%a1%97%e8%88%9e-%e8%95%ad%e8%95%ad-34/
CATEGORIES:兒童街舞,兒童課,課程
END:VEVENT
BEGIN:VEVENT
DTSTART;TZID=Asia/Shanghai:20231014T132000
DTEND;TZID=Asia/Shanghai:20231014T142000
DTSTAMP:20260423T092805
CREATED:20230924T102634Z
LAST-MODIFIED:20230924T103226Z
UID:10018325-1697289600-1697293200@www.dancesoul.com.tw
SUMMARY:兒童街舞-蕭蕭
DESCRIPTION:
URL:https://www.dancesoul.com.tw/schedule/%e5%85%92%e7%ab%a5%e8%a1%97%e8%88%9e-%e8%95%ad%e8%95%ad-33/2023-10-14/
CATEGORIES:兒童街舞,兒童課,課程
END:VEVENT
BEGIN:VEVENT
DTSTART;TZID=Asia/Shanghai:20231007T012000
DTEND;TZID=Asia/Shanghai:20231007T142000
DTSTAMP:20260423T092805
CREATED:20230924T102454Z
LAST-MODIFIED:20230924T102454Z
UID:10018324-1696641600-1696688400@www.dancesoul.com.tw
SUMMARY:兒童街舞-蕭蕭
DESCRIPTION:
URL:https://www.dancesoul.com.tw/schedule/%e5%85%92%e7%ab%a5%e8%a1%97%e8%88%9e-%e8%95%ad%e8%95%ad-32/
CATEGORIES:兒童街舞,兒童課,課程
END:VEVENT
BEGIN:VEVENT
DTSTART;TZID=Asia/Shanghai:20230930T132000
DTEND;TZID=Asia/Shanghai:20230930T142000
DTSTAMP:20260423T092805
CREATED:20230828T064849Z
LAST-MODIFIED:20230828T064849Z
UID:10017923-1696080000-1696083600@www.dancesoul.com.tw
SUMMARY:兒童街舞-蕭蕭(舞展停課）
DESCRIPTION:
URL:https://www.dancesoul.com.tw/schedule/%e5%85%92%e7%ab%a5%e8%a1%97%e8%88%9e-%e8%95%ad%e8%95%ad%e8%88%9e%e5%b1%95%e5%81%9c%e8%aa%b2%ef%bc%89/
CATEGORIES:兒童街舞,兒童課,課程
END:VEVENT
BEGIN:VEVENT
DTSTART;TZID=Asia/Shanghai:20230923T132000
DTEND;TZID=Asia/Shanghai:20230923T142000
DTSTAMP:20260423T092805
CREATED:20230828T064715Z
LAST-MODIFIED:20230828T064715Z
UID:10017918-1695475200-1695478800@www.dancesoul.com.tw
SUMMARY:兒童街舞-蕭蕭
DESCRIPTION:
URL:https://www.dancesoul.com.tw/schedule/%e5%85%92%e7%ab%a5%e8%a1%97%e8%88%9e-%e8%95%ad%e8%95%ad-31/2023-09-23/
CATEGORIES:兒童街舞,兒童課,課程
END:VEVENT
BEGIN:VEVENT
DTSTART;TZID=Asia/Shanghai:20230916T132000
DTEND;TZID=Asia/Shanghai:20230916T142000
DTSTAMP:20260423T092806
CREATED:20230828T064715Z
LAST-MODIFIED:20230828T064715Z
UID:10017917-1694870400-1694874000@www.dancesoul.com.tw
SUMMARY:兒童街舞-蕭蕭
DESCRIPTION:
URL:https://www.dancesoul.com.tw/schedule/%e5%85%92%e7%ab%a5%e8%a1%97%e8%88%9e-%e8%95%ad%e8%95%ad-31/2023-09-16/
CATEGORIES:兒童街舞,兒童課,課程
END:VEVENT
BEGIN:VEVENT
DTSTART;TZID=Asia/Shanghai:20230909T132000
DTEND;TZID=Asia/Shanghai:20230909T142000
DTSTAMP:20260423T092806
CREATED:20230828T064715Z
LAST-MODIFIED:20230828T064715Z
UID:10017916-1694265600-1694269200@www.dancesoul.com.tw
SUMMARY:兒童街舞-蕭蕭
DESCRIPTION:
URL:https://www.dancesoul.com.tw/schedule/%e5%85%92%e7%ab%a5%e8%a1%97%e8%88%9e-%e8%95%ad%e8%95%ad-31/2023-09-09/
CATEGORIES:兒童街舞,兒童課,課程
END:VEVENT
BEGIN:VEVENT
DTSTART;TZID=Asia/Shanghai:20230909T132000
DTEND;TZID=Asia/Shanghai:20230909T142000
DTSTAMP:20260423T092806
CREATED:20220127T090621Z
LAST-MODIFIED:20220127T090621Z
UID:10014933-1694265600-1694269200@www.dancesoul.com.tw
SUMMARY:兒童街舞-蕭蕭
DESCRIPTION:
URL:https://www.dancesoul.com.tw/schedule/%e5%85%92%e7%ab%a5%e8%a1%97%e8%88%9e-%e8%95%ad%e8%95%ad-12/2023-09-09/
LOCATION:仁愛路四段425-1號\, Taipei City\, 104\, 台灣
CATEGORIES:兒童街舞,兒童課
END:VEVENT
BEGIN:VEVENT
DTSTART;TZID=Asia/Shanghai:20230902T132000
DTEND;TZID=Asia/Shanghai:20230902T142000
DTSTAMP:20260423T092806
CREATED:20230828T064715Z
LAST-MODIFIED:20230828T064715Z
UID:10017915-1693660800-1693664400@www.dancesoul.com.tw
SUMMARY:兒童街舞-蕭蕭
DESCRIPTION:
URL:https://www.dancesoul.com.tw/schedule/%e5%85%92%e7%ab%a5%e8%a1%97%e8%88%9e-%e8%95%ad%e8%95%ad-31/2023-09-02/
CATEGORIES:兒童街舞,兒童課,課程
END:VEVENT
BEGIN:VEVENT
DTSTART;TZID=Asia/Shanghai:20230902T132000
DTEND;TZID=Asia/Shanghai:20230902T142000
DTSTAMP:20260423T092806
CREATED:20220127T090621Z
LAST-MODIFIED:20220127T090621Z
UID:10014932-1693660800-1693664400@www.dancesoul.com.tw
SUMMARY:兒童街舞-蕭蕭
DESCRIPTION:
URL:https://www.dancesoul.com.tw/schedule/%e5%85%92%e7%ab%a5%e8%a1%97%e8%88%9e-%e8%95%ad%e8%95%ad-12/2023-09-02/
LOCATION:仁愛路四段425-1號\, Taipei City\, 104\, 台灣
CATEGORIES:兒童街舞,兒童課
END:VEVENT
BEGIN:VEVENT
DTSTART;TZID=Asia/Shanghai:20230826T132000
DTEND;TZID=Asia/Shanghai:20230826T142000
DTSTAMP:20260423T092806
CREATED:20230729T105340Z
LAST-MODIFIED:20230729T105340Z
UID:10016411-1693056000-1693059600@www.dancesoul.com.tw
SUMMARY:兒童街舞-蕭蕭
DESCRIPTION:
URL:https://www.dancesoul.com.tw/schedule/%e5%85%92%e7%ab%a5%e8%a1%97%e8%88%9e-%e8%95%ad%e8%95%ad-30/2023-08-26/
LOCATION:仁愛路四段425-1號\, Taipei City\, 104\, 台灣
CATEGORIES:兒童街舞,兒童課,課程
END:VEVENT
BEGIN:VEVENT
DTSTART;TZID=Asia/Shanghai:20230826T132000
DTEND;TZID=Asia/Shanghai:20230826T142000
DTSTAMP:20260423T092806
CREATED:20220127T090621Z
LAST-MODIFIED:20220127T090621Z
UID:10014931-1693056000-1693059600@www.dancesoul.com.tw
SUMMARY:兒童街舞-蕭蕭
DESCRIPTION:
URL:https://www.dancesoul.com.tw/schedule/%e5%85%92%e7%ab%a5%e8%a1%97%e8%88%9e-%e8%95%ad%e8%95%ad-12/2023-08-26/
LOCATION:仁愛路四段425-1號\, Taipei City\, 104\, 台灣
CATEGORIES:兒童街舞,兒童課
END:VEVENT
BEGIN:VEVENT
DTSTART;TZID=Asia/Shanghai:20230819T132000
DTEND;TZID=Asia/Shanghai:20230819T142000
DTSTAMP:20260423T092806
CREATED:20230729T105340Z
LAST-MODIFIED:20230729T105340Z
UID:10016410-1692451200-1692454800@www.dancesoul.com.tw
SUMMARY:兒童街舞-蕭蕭
DESCRIPTION:
URL:https://www.dancesoul.com.tw/schedule/%e5%85%92%e7%ab%a5%e8%a1%97%e8%88%9e-%e8%95%ad%e8%95%ad-30/2023-08-19/
LOCATION:仁愛路四段425-1號\, Taipei City\, 104\, 台灣
CATEGORIES:兒童街舞,兒童課,課程
END:VEVENT
BEGIN:VEVENT
DTSTART;TZID=Asia/Shanghai:20230819T132000
DTEND;TZID=Asia/Shanghai:20230819T142000
DTSTAMP:20260423T092806
CREATED:20220127T090621Z
LAST-MODIFIED:20220127T090621Z
UID:10014930-1692451200-1692454800@www.dancesoul.com.tw
SUMMARY:兒童街舞-蕭蕭
DESCRIPTION:
URL:https://www.dancesoul.com.tw/schedule/%e5%85%92%e7%ab%a5%e8%a1%97%e8%88%9e-%e8%95%ad%e8%95%ad-12/2023-08-19/
LOCATION:仁愛路四段425-1號\, Taipei City\, 104\, 台灣
CATEGORIES:兒童街舞,兒童課
END:VEVENT
BEGIN:VEVENT
DTSTART;TZID=Asia/Shanghai:20230812T132000
DTEND;TZID=Asia/Shanghai:20230812T142000
DTSTAMP:20260423T092806
CREATED:20230729T105340Z
LAST-MODIFIED:20230729T105340Z
UID:10016409-1691846400-1691850000@www.dancesoul.com.tw
SUMMARY:兒童街舞-蕭蕭
DESCRIPTION:
URL:https://www.dancesoul.com.tw/schedule/%e5%85%92%e7%ab%a5%e8%a1%97%e8%88%9e-%e8%95%ad%e8%95%ad-30/2023-08-12/
LOCATION:仁愛路四段425-1號\, Taipei City\, 104\, 台灣
CATEGORIES:兒童街舞,兒童課,課程
END:VEVENT
BEGIN:VEVENT
DTSTART;TZID=Asia/Shanghai:20230812T132000
DTEND;TZID=Asia/Shanghai:20230812T142000
DTSTAMP:20260423T092806
CREATED:20220127T090621Z
LAST-MODIFIED:20220127T090621Z
UID:10014929-1691846400-1691850000@www.dancesoul.com.tw
SUMMARY:兒童街舞-蕭蕭
DESCRIPTION:
URL:https://www.dancesoul.com.tw/schedule/%e5%85%92%e7%ab%a5%e8%a1%97%e8%88%9e-%e8%95%ad%e8%95%ad-12/2023-08-12/
LOCATION:仁愛路四段425-1號\, Taipei City\, 104\, 台灣
CATEGORIES:兒童街舞,兒童課
END:VEVENT
BEGIN:VEVENT
DTSTART;TZID=Asia/Shanghai:20230805T132000
DTEND;TZID=Asia/Shanghai:20230805T142000
DTSTAMP:20260423T092806
CREATED:20230729T105340Z
LAST-MODIFIED:20230729T105340Z
UID:10016408-1691241600-1691245200@www.dancesoul.com.tw
SUMMARY:兒童街舞-蕭蕭
DESCRIPTION:
URL:https://www.dancesoul.com.tw/schedule/%e5%85%92%e7%ab%a5%e8%a1%97%e8%88%9e-%e8%95%ad%e8%95%ad-30/2023-08-05/
LOCATION:仁愛路四段425-1號\, Taipei City\, 104\, 台灣
CATEGORIES:兒童街舞,兒童課,課程
END:VEVENT
BEGIN:VEVENT
DTSTART;TZID=Asia/Shanghai:20230805T132000
DTEND;TZID=Asia/Shanghai:20230805T142000
DTSTAMP:20260423T092806
CREATED:20220127T090621Z
LAST-MODIFIED:20220127T090621Z
UID:10014928-1691241600-1691245200@www.dancesoul.com.tw
SUMMARY:兒童街舞-蕭蕭
DESCRIPTION:
URL:https://www.dancesoul.com.tw/schedule/%e5%85%92%e7%ab%a5%e8%a1%97%e8%88%9e-%e8%95%ad%e8%95%ad-12/2023-08-05/
LOCATION:仁愛路四段425-1號\, Taipei City\, 104\, 台灣
CATEGORIES:兒童街舞,兒童課
END:VEVENT
BEGIN:VEVENT
DTSTART;TZID=Asia/Shanghai:20230729T132000
DTEND;TZID=Asia/Shanghai:20230729T142000
DTSTAMP:20260423T092806
CREATED:20230628T060628Z
LAST-MODIFIED:20230628T060921Z
UID:10017653-1690636800-1690640400@www.dancesoul.com.tw
SUMMARY:兒童街舞-蕭蕭
DESCRIPTION:
URL:https://www.dancesoul.com.tw/schedule/%e5%85%92%e7%ab%a5%e8%a1%97%e8%88%9e-%e8%95%ad%e8%95%ad-29/2023-07-29/
LOCATION:仁愛路四段425-1號\, Taipei City\, 104\, 台灣
CATEGORIES:兒童街舞,兒童課,課程
END:VEVENT
BEGIN:VEVENT
DTSTART;TZID=Asia/Shanghai:20230729T132000
DTEND;TZID=Asia/Shanghai:20230729T142000
DTSTAMP:20260423T092806
CREATED:20220127T090621Z
LAST-MODIFIED:20220127T090621Z
UID:10014927-1690636800-1690640400@www.dancesoul.com.tw
SUMMARY:兒童街舞-蕭蕭
DESCRIPTION:
URL:https://www.dancesoul.com.tw/schedule/%e5%85%92%e7%ab%a5%e8%a1%97%e8%88%9e-%e8%95%ad%e8%95%ad-12/2023-07-29/
LOCATION:仁愛路四段425-1號\, Taipei City\, 104\, 台灣
CATEGORIES:兒童街舞,兒童課
END:VEVENT
BEGIN:VEVENT
DTSTART;TZID=Asia/Shanghai:20230722T132000
DTEND;TZID=Asia/Shanghai:20230722T142000
DTSTAMP:20260423T092806
CREATED:20230628T060628Z
LAST-MODIFIED:20230628T060921Z
UID:10017652-1690032000-1690035600@www.dancesoul.com.tw
SUMMARY:兒童街舞-蕭蕭
DESCRIPTION:
URL:https://www.dancesoul.com.tw/schedule/%e5%85%92%e7%ab%a5%e8%a1%97%e8%88%9e-%e8%95%ad%e8%95%ad-29/2023-07-22/
LOCATION:仁愛路四段425-1號\, Taipei City\, 104\, 台灣
CATEGORIES:兒童街舞,兒童課,課程
END:VEVENT
BEGIN:VEVENT
DTSTART;TZID=Asia/Shanghai:20230722T132000
DTEND;TZID=Asia/Shanghai:20230722T142000
DTSTAMP:20260423T092806
CREATED:20220127T090621Z
LAST-MODIFIED:20220127T090621Z
UID:10014926-1690032000-1690035600@www.dancesoul.com.tw
SUMMARY:兒童街舞-蕭蕭
DESCRIPTION:
URL:https://www.dancesoul.com.tw/schedule/%e5%85%92%e7%ab%a5%e8%a1%97%e8%88%9e-%e8%95%ad%e8%95%ad-12/2023-07-22/
LOCATION:仁愛路四段425-1號\, Taipei City\, 104\, 台灣
CATEGORIES:兒童街舞,兒童課
END:VEVENT
BEGIN:VEVENT
DTSTART;TZID=Asia/Shanghai:20230715T132000
DTEND;TZID=Asia/Shanghai:20230715T142000
DTSTAMP:20260423T092806
CREATED:20230628T060628Z
LAST-MODIFIED:20230628T060921Z
UID:10017651-1689427200-1689430800@www.dancesoul.com.tw
SUMMARY:兒童街舞-蕭蕭
DESCRIPTION:
URL:https://www.dancesoul.com.tw/schedule/%e5%85%92%e7%ab%a5%e8%a1%97%e8%88%9e-%e8%95%ad%e8%95%ad-29/2023-07-15/
LOCATION:仁愛路四段425-1號\, Taipei City\, 104\, 台灣
CATEGORIES:兒童街舞,兒童課,課程
END:VEVENT
BEGIN:VEVENT
DTSTART;TZID=Asia/Shanghai:20230715T132000
DTEND;TZID=Asia/Shanghai:20230715T142000
DTSTAMP:20260423T092806
CREATED:20220127T090621Z
LAST-MODIFIED:20220127T090621Z
UID:10014925-1689427200-1689430800@www.dancesoul.com.tw
SUMMARY:兒童街舞-蕭蕭
DESCRIPTION:
URL:https://www.dancesoul.com.tw/schedule/%e5%85%92%e7%ab%a5%e8%a1%97%e8%88%9e-%e8%95%ad%e8%95%ad-12/2023-07-15/
LOCATION:仁愛路四段425-1號\, Taipei City\, 104\, 台灣
CATEGORIES:兒童街舞,兒童課
END:VEVENT
BEGIN:VEVENT
DTSTART;TZID=Asia/Shanghai:20230708T132000
DTEND;TZID=Asia/Shanghai:20230708T142000
DTSTAMP:20260423T092806
CREATED:20230628T060628Z
LAST-MODIFIED:20230628T060921Z
UID:10017650-1688822400-1688826000@www.dancesoul.com.tw
SUMMARY:兒童街舞-蕭蕭
DESCRIPTION:
URL:https://www.dancesoul.com.tw/schedule/%e5%85%92%e7%ab%a5%e8%a1%97%e8%88%9e-%e8%95%ad%e8%95%ad-29/2023-07-08/
LOCATION:仁愛路四段425-1號\, Taipei City\, 104\, 台灣
CATEGORIES:兒童街舞,兒童課,課程
END:VEVENT
END:VCALENDAR