BEGIN:VCALENDAR
VERSION:2.0
PRODID:-//DANCE SOUL 舞魂街舞學校 - ECPv6.15.18//NONSGML v1.0//EN
CALSCALE:GREGORIAN
METHOD:PUBLISH
X-ORIGINAL-URL:https://www.dancesoul.com.tw
X-WR-CALDESC:Events for DANCE SOUL 舞魂街舞學校
REFRESH-INTERVAL;VALUE=DURATION:PT1H
X-Robots-Tag:noindex
X-PUBLISHED-TTL:PT1H
BEGIN:VTIMEZONE
TZID:Asia/Shanghai
BEGIN:STANDARD
TZOFFSETFROM:+0800
TZOFFSETTO:+0800
TZNAME:CST
DTSTART:20230101T000000
END:STANDARD
END:VTIMEZONE
BEGIN:VEVENT
DTSTART;TZID=Asia/Shanghai:20250531T132000
DTEND;TZID=Asia/Shanghai:20250531T142000
DTSTAMP:20260422T031721
CREATED:20250417T100338Z
LAST-MODIFIED:20250417T100338Z
UID:10021575-1748697600-1748701200@www.dancesoul.com.tw
SUMMARY:兒童街舞-薇臻
DESCRIPTION:
URL:https://www.dancesoul.com.tw/schedule/%e5%85%92%e7%ab%a5%e8%a1%97%e8%88%9e-%e8%96%87%e8%87%bb-18/2025-05-31/
CATEGORIES:兒童基礎街舞,兒童街舞,兒童課,常態課_一般,課程
END:VEVENT
BEGIN:VEVENT
DTSTART;TZID=Asia/Shanghai:20250524T132000
DTEND;TZID=Asia/Shanghai:20250524T142000
DTSTAMP:20260422T031721
CREATED:20250417T100338Z
LAST-MODIFIED:20250417T100338Z
UID:10021574-1748092800-1748096400@www.dancesoul.com.tw
SUMMARY:兒童街舞-薇臻
DESCRIPTION:
URL:https://www.dancesoul.com.tw/schedule/%e5%85%92%e7%ab%a5%e8%a1%97%e8%88%9e-%e8%96%87%e8%87%bb-18/2025-05-24/
CATEGORIES:兒童基礎街舞,兒童街舞,兒童課,常態課_一般,課程
END:VEVENT
BEGIN:VEVENT
DTSTART;TZID=Asia/Shanghai:20250517T132000
DTEND;TZID=Asia/Shanghai:20250517T142000
DTSTAMP:20260422T031721
CREATED:20250417T100338Z
LAST-MODIFIED:20250417T100338Z
UID:10021573-1747488000-1747491600@www.dancesoul.com.tw
SUMMARY:兒童街舞-薇臻
DESCRIPTION:
URL:https://www.dancesoul.com.tw/schedule/%e5%85%92%e7%ab%a5%e8%a1%97%e8%88%9e-%e8%96%87%e8%87%bb-18/2025-05-17/
CATEGORIES:兒童基礎街舞,兒童街舞,兒童課,常態課_一般,課程
END:VEVENT
BEGIN:VEVENT
DTSTART;TZID=Asia/Shanghai:20250510T132000
DTEND;TZID=Asia/Shanghai:20250510T142000
DTSTAMP:20260422T031721
CREATED:20250417T100338Z
LAST-MODIFIED:20250417T100338Z
UID:10021572-1746883200-1746886800@www.dancesoul.com.tw
SUMMARY:兒童街舞-薇臻
DESCRIPTION:
URL:https://www.dancesoul.com.tw/schedule/%e5%85%92%e7%ab%a5%e8%a1%97%e8%88%9e-%e8%96%87%e8%87%bb-18/2025-05-10/
CATEGORIES:兒童基礎街舞,兒童街舞,兒童課,常態課_一般,課程
END:VEVENT
BEGIN:VEVENT
DTSTART;TZID=Asia/Shanghai:20250503T132000
DTEND;TZID=Asia/Shanghai:20250503T142000
DTSTAMP:20260422T031721
CREATED:20250417T100338Z
LAST-MODIFIED:20250417T100338Z
UID:10021571-1746278400-1746282000@www.dancesoul.com.tw
SUMMARY:兒童街舞-薇臻
DESCRIPTION:
URL:https://www.dancesoul.com.tw/schedule/%e5%85%92%e7%ab%a5%e8%a1%97%e8%88%9e-%e8%96%87%e8%87%bb-18/2025-05-03/
CATEGORIES:兒童基礎街舞,兒童街舞,兒童課,常態課_一般,課程
END:VEVENT
BEGIN:VEVENT
DTSTART;TZID=Asia/Shanghai:20250426T132000
DTEND;TZID=Asia/Shanghai:20250426T142000
DTSTAMP:20260422T031721
CREATED:20250328T082417Z
LAST-MODIFIED:20250328T082417Z
UID:10021391-1745673600-1745677200@www.dancesoul.com.tw
SUMMARY:兒童街舞-薇臻
DESCRIPTION:
URL:https://www.dancesoul.com.tw/schedule/%e5%85%92%e7%ab%a5%e8%a1%97%e8%88%9e-%e8%96%87%e8%87%bb-17/2025-04-26/
CATEGORIES:兒童街舞,兒童課,課程
END:VEVENT
BEGIN:VEVENT
DTSTART;TZID=Asia/Shanghai:20250419T132000
DTEND;TZID=Asia/Shanghai:20250419T142000
DTSTAMP:20260422T031721
CREATED:20250328T082417Z
LAST-MODIFIED:20250328T082417Z
UID:10021390-1745068800-1745072400@www.dancesoul.com.tw
SUMMARY:兒童街舞-薇臻
DESCRIPTION:
URL:https://www.dancesoul.com.tw/schedule/%e5%85%92%e7%ab%a5%e8%a1%97%e8%88%9e-%e8%96%87%e8%87%bb-17/2025-04-19/
CATEGORIES:兒童街舞,兒童課,課程
END:VEVENT
BEGIN:VEVENT
DTSTART;TZID=Asia/Shanghai:20250412T132000
DTEND;TZID=Asia/Shanghai:20250412T142000
DTSTAMP:20260422T031721
CREATED:20250328T082417Z
LAST-MODIFIED:20250328T082417Z
UID:10021389-1744464000-1744467600@www.dancesoul.com.tw
SUMMARY:兒童街舞-薇臻
DESCRIPTION:
URL:https://www.dancesoul.com.tw/schedule/%e5%85%92%e7%ab%a5%e8%a1%97%e8%88%9e-%e8%96%87%e8%87%bb-17/2025-04-12/
CATEGORIES:兒童街舞,兒童課,課程
END:VEVENT
BEGIN:VEVENT
DTSTART;TZID=Asia/Shanghai:20250405T132000
DTEND;TZID=Asia/Shanghai:20250405T142000
DTSTAMP:20260422T031721
CREATED:20250328T082417Z
LAST-MODIFIED:20250328T082417Z
UID:10021388-1743859200-1743862800@www.dancesoul.com.tw
SUMMARY:兒童街舞-薇臻
DESCRIPTION:
URL:https://www.dancesoul.com.tw/schedule/%e5%85%92%e7%ab%a5%e8%a1%97%e8%88%9e-%e8%96%87%e8%87%bb-17/2025-04-05/
CATEGORIES:兒童街舞,兒童課,課程
END:VEVENT
BEGIN:VEVENT
DTSTART;TZID=Asia/Shanghai:20250329T132000
DTEND;TZID=Asia/Shanghai:20250329T142000
DTSTAMP:20260422T031721
CREATED:20250223T080224Z
LAST-MODIFIED:20250223T080224Z
UID:10021145-1743254400-1743258000@www.dancesoul.com.tw
SUMMARY:兒童街舞-薇臻
DESCRIPTION:
URL:https://www.dancesoul.com.tw/schedule/%e5%85%92%e7%ab%a5%e8%a1%97%e8%88%9e-%e8%96%87%e8%87%bb-16/2025-03-29/
CATEGORIES:兒童街舞,兒童課,課程
END:VEVENT
BEGIN:VEVENT
DTSTART;TZID=Asia/Shanghai:20250322T132000
DTEND;TZID=Asia/Shanghai:20250322T142000
DTSTAMP:20260422T031721
CREATED:20250223T080224Z
LAST-MODIFIED:20250223T080224Z
UID:10021144-1742649600-1742653200@www.dancesoul.com.tw
SUMMARY:兒童街舞-薇臻
DESCRIPTION:
URL:https://www.dancesoul.com.tw/schedule/%e5%85%92%e7%ab%a5%e8%a1%97%e8%88%9e-%e8%96%87%e8%87%bb-16/2025-03-22/
CATEGORIES:兒童街舞,兒童課,課程
END:VEVENT
BEGIN:VEVENT
DTSTART;TZID=Asia/Shanghai:20250315T132000
DTEND;TZID=Asia/Shanghai:20250315T142000
DTSTAMP:20260422T031721
CREATED:20250223T080224Z
LAST-MODIFIED:20250223T080224Z
UID:10021143-1742044800-1742048400@www.dancesoul.com.tw
SUMMARY:兒童街舞-薇臻
DESCRIPTION:
URL:https://www.dancesoul.com.tw/schedule/%e5%85%92%e7%ab%a5%e8%a1%97%e8%88%9e-%e8%96%87%e8%87%bb-16/2025-03-15/
CATEGORIES:兒童街舞,兒童課,課程
END:VEVENT
BEGIN:VEVENT
DTSTART;TZID=Asia/Shanghai:20250308T132000
DTEND;TZID=Asia/Shanghai:20250308T142000
DTSTAMP:20260422T031721
CREATED:20250223T080224Z
LAST-MODIFIED:20250223T080224Z
UID:10021142-1741440000-1741443600@www.dancesoul.com.tw
SUMMARY:兒童街舞-薇臻
DESCRIPTION:
URL:https://www.dancesoul.com.tw/schedule/%e5%85%92%e7%ab%a5%e8%a1%97%e8%88%9e-%e8%96%87%e8%87%bb-16/2025-03-08/
CATEGORIES:兒童街舞,兒童課,課程
END:VEVENT
BEGIN:VEVENT
DTSTART;TZID=Asia/Shanghai:20250301T132000
DTEND;TZID=Asia/Shanghai:20250301T142000
DTSTAMP:20260422T031721
CREATED:20250223T080224Z
LAST-MODIFIED:20250223T080224Z
UID:10021141-1740835200-1740838800@www.dancesoul.com.tw
SUMMARY:兒童街舞-薇臻
DESCRIPTION:
URL:https://www.dancesoul.com.tw/schedule/%e5%85%92%e7%ab%a5%e8%a1%97%e8%88%9e-%e8%96%87%e8%87%bb-16/2025-03-01/
CATEGORIES:兒童街舞,兒童課,課程
END:VEVENT
BEGIN:VEVENT
DTSTART;TZID=Asia/Shanghai:20250222T132000
DTEND;TZID=Asia/Shanghai:20250222T142000
DTSTAMP:20260422T031721
CREATED:20250125T060555Z
LAST-MODIFIED:20250213T201526Z
UID:10020979-1740230400-1740234000@www.dancesoul.com.tw
SUMMARY:兒童街舞-薇臻
DESCRIPTION:
URL:https://www.dancesoul.com.tw/schedule/%e5%85%92%e7%ab%a5%e8%a1%97%e8%88%9e-%e8%96%87%e8%87%bb-15/2025-02-22/
CATEGORIES:Popping 初級,兒童街舞,兒童課,課程
ATTACH;FMTTYPE=image/png:https://www.dancesoul.com.tw/wp-content/uploads/2024/08/cropped-7d6e50f3-09e4-471e-bff6-b3cb6b4e2fb2__1_-removebg-preview.png
END:VEVENT
BEGIN:VEVENT
DTSTART;TZID=Asia/Shanghai:20250215T132000
DTEND;TZID=Asia/Shanghai:20250215T142000
DTSTAMP:20260422T031721
CREATED:20250125T060555Z
LAST-MODIFIED:20250213T201526Z
UID:10020978-1739625600-1739629200@www.dancesoul.com.tw
SUMMARY:兒童街舞-薇臻
DESCRIPTION:
URL:https://www.dancesoul.com.tw/schedule/%e5%85%92%e7%ab%a5%e8%a1%97%e8%88%9e-%e8%96%87%e8%87%bb-15/2025-02-15/
CATEGORIES:Popping 初級,兒童街舞,兒童課,課程
ATTACH;FMTTYPE=image/png:https://www.dancesoul.com.tw/wp-content/uploads/2024/08/cropped-7d6e50f3-09e4-471e-bff6-b3cb6b4e2fb2__1_-removebg-preview.png
END:VEVENT
BEGIN:VEVENT
DTSTART;TZID=Asia/Shanghai:20250208T132000
DTEND;TZID=Asia/Shanghai:20250208T142000
DTSTAMP:20260422T031721
CREATED:20250125T060555Z
LAST-MODIFIED:20250213T201526Z
UID:10020977-1739020800-1739024400@www.dancesoul.com.tw
SUMMARY:兒童街舞-薇臻
DESCRIPTION:
URL:https://www.dancesoul.com.tw/schedule/%e5%85%92%e7%ab%a5%e8%a1%97%e8%88%9e-%e8%96%87%e8%87%bb-15/2025-02-08/
CATEGORIES:Popping 初級,兒童街舞,兒童課,課程
ATTACH;FMTTYPE=image/png:https://www.dancesoul.com.tw/wp-content/uploads/2024/08/cropped-7d6e50f3-09e4-471e-bff6-b3cb6b4e2fb2__1_-removebg-preview.png
END:VEVENT
BEGIN:VEVENT
DTSTART;TZID=Asia/Shanghai:20250125T132000
DTEND;TZID=Asia/Shanghai:20250125T142000
DTSTAMP:20260422T031721
CREATED:20241230T071935Z
LAST-MODIFIED:20241230T071935Z
UID:10020774-1737811200-1737814800@www.dancesoul.com.tw
SUMMARY:兒童街舞-薇臻
DESCRIPTION:
URL:https://www.dancesoul.com.tw/schedule/%e5%85%92%e7%ab%a5%e8%a1%97%e8%88%9e-%e8%96%87%e8%87%bb-14/2025-01-25/
CATEGORIES:Popping 初級,兒童街舞,兒童課,課程
END:VEVENT
BEGIN:VEVENT
DTSTART;TZID=Asia/Shanghai:20250118T132000
DTEND;TZID=Asia/Shanghai:20250118T142000
DTSTAMP:20260422T031721
CREATED:20241230T071935Z
LAST-MODIFIED:20241230T071935Z
UID:10020773-1737206400-1737210000@www.dancesoul.com.tw
SUMMARY:兒童街舞-薇臻
DESCRIPTION:
URL:https://www.dancesoul.com.tw/schedule/%e5%85%92%e7%ab%a5%e8%a1%97%e8%88%9e-%e8%96%87%e8%87%bb-14/2025-01-18/
CATEGORIES:Popping 初級,兒童街舞,兒童課,課程
END:VEVENT
BEGIN:VEVENT
DTSTART;TZID=Asia/Shanghai:20250111T132000
DTEND;TZID=Asia/Shanghai:20250111T142000
DTSTAMP:20260422T031721
CREATED:20241230T071935Z
LAST-MODIFIED:20241230T071935Z
UID:10020772-1736601600-1736605200@www.dancesoul.com.tw
SUMMARY:兒童街舞-薇臻
DESCRIPTION:
URL:https://www.dancesoul.com.tw/schedule/%e5%85%92%e7%ab%a5%e8%a1%97%e8%88%9e-%e8%96%87%e8%87%bb-14/2025-01-11/
CATEGORIES:Popping 初級,兒童街舞,兒童課,課程
END:VEVENT
BEGIN:VEVENT
DTSTART;TZID=Asia/Shanghai:20250104T132000
DTEND;TZID=Asia/Shanghai:20250104T142000
DTSTAMP:20260422T031721
CREATED:20241230T071935Z
LAST-MODIFIED:20241230T071935Z
UID:10020771-1735996800-1736000400@www.dancesoul.com.tw
SUMMARY:兒童街舞-薇臻
DESCRIPTION:
URL:https://www.dancesoul.com.tw/schedule/%e5%85%92%e7%ab%a5%e8%a1%97%e8%88%9e-%e8%96%87%e8%87%bb-14/2025-01-04/
CATEGORIES:Popping 初級,兒童街舞,兒童課,課程
END:VEVENT
BEGIN:VEVENT
DTSTART;TZID=Asia/Shanghai:20241228T132000
DTEND;TZID=Asia/Shanghai:20241228T142000
DTSTAMP:20260422T031721
CREATED:20241125T100450Z
LAST-MODIFIED:20241125T100450Z
UID:10020604-1735392000-1735395600@www.dancesoul.com.tw
SUMMARY:兒童街舞-薇臻
DESCRIPTION:
URL:https://www.dancesoul.com.tw/schedule/%e5%85%92%e7%ab%a5%e8%a1%97%e8%88%9e-%e8%96%87%e8%87%bb-13/2024-12-28/
CATEGORIES:Lyrical Jazz,Popping 初級,兒童街舞,兒童課,課程
END:VEVENT
BEGIN:VEVENT
DTSTART;TZID=Asia/Shanghai:20241221T132000
DTEND;TZID=Asia/Shanghai:20241221T142000
DTSTAMP:20260422T031721
CREATED:20241125T100450Z
LAST-MODIFIED:20241125T100450Z
UID:10020603-1734787200-1734790800@www.dancesoul.com.tw
SUMMARY:兒童街舞-薇臻
DESCRIPTION:
URL:https://www.dancesoul.com.tw/schedule/%e5%85%92%e7%ab%a5%e8%a1%97%e8%88%9e-%e8%96%87%e8%87%bb-13/2024-12-21/
CATEGORIES:Lyrical Jazz,Popping 初級,兒童街舞,兒童課,課程
END:VEVENT
BEGIN:VEVENT
DTSTART;TZID=Asia/Shanghai:20241214T132000
DTEND;TZID=Asia/Shanghai:20241214T142000
DTSTAMP:20260422T031721
CREATED:20241125T100450Z
LAST-MODIFIED:20241125T100450Z
UID:10020602-1734182400-1734186000@www.dancesoul.com.tw
SUMMARY:兒童街舞-薇臻
DESCRIPTION:
URL:https://www.dancesoul.com.tw/schedule/%e5%85%92%e7%ab%a5%e8%a1%97%e8%88%9e-%e8%96%87%e8%87%bb-13/2024-12-14/
CATEGORIES:Lyrical Jazz,Popping 初級,兒童街舞,兒童課,課程
END:VEVENT
BEGIN:VEVENT
DTSTART;TZID=Asia/Shanghai:20241207T132000
DTEND;TZID=Asia/Shanghai:20241207T142000
DTSTAMP:20260422T031721
CREATED:20241125T100450Z
LAST-MODIFIED:20241125T100450Z
UID:10020601-1733577600-1733581200@www.dancesoul.com.tw
SUMMARY:兒童街舞-薇臻
DESCRIPTION:
URL:https://www.dancesoul.com.tw/schedule/%e5%85%92%e7%ab%a5%e8%a1%97%e8%88%9e-%e8%96%87%e8%87%bb-13/2024-12-07/
CATEGORIES:Lyrical Jazz,Popping 初級,兒童街舞,兒童課,課程
END:VEVENT
BEGIN:VEVENT
DTSTART;TZID=Asia/Shanghai:20241130T132000
DTEND;TZID=Asia/Shanghai:20241130T142000
DTSTAMP:20260422T031721
CREATED:20241028T071133Z
LAST-MODIFIED:20241028T071133Z
UID:10020506-1732972800-1732976400@www.dancesoul.com.tw
SUMMARY:兒童街舞-薇臻
DESCRIPTION:
URL:https://www.dancesoul.com.tw/schedule/%e5%85%92%e7%ab%a5%e8%a1%97%e8%88%9e-%e8%96%87%e8%87%bb-12/2024-11-30/
CATEGORIES:兒童街舞,兒童課,課程
END:VEVENT
BEGIN:VEVENT
DTSTART;TZID=Asia/Shanghai:20241123T132000
DTEND;TZID=Asia/Shanghai:20241123T142000
DTSTAMP:20260422T031721
CREATED:20241028T071133Z
LAST-MODIFIED:20241028T071133Z
UID:10020505-1732368000-1732371600@www.dancesoul.com.tw
SUMMARY:兒童街舞-薇臻
DESCRIPTION:
URL:https://www.dancesoul.com.tw/schedule/%e5%85%92%e7%ab%a5%e8%a1%97%e8%88%9e-%e8%96%87%e8%87%bb-12/2024-11-23/
CATEGORIES:兒童街舞,兒童課,課程
END:VEVENT
BEGIN:VEVENT
DTSTART;TZID=Asia/Shanghai:20241116T132000
DTEND;TZID=Asia/Shanghai:20241116T142000
DTSTAMP:20260422T031721
CREATED:20241028T071133Z
LAST-MODIFIED:20241028T071133Z
UID:10020504-1731763200-1731766800@www.dancesoul.com.tw
SUMMARY:兒童街舞-薇臻
DESCRIPTION:
URL:https://www.dancesoul.com.tw/schedule/%e5%85%92%e7%ab%a5%e8%a1%97%e8%88%9e-%e8%96%87%e8%87%bb-12/2024-11-16/
CATEGORIES:兒童街舞,兒童課,課程
END:VEVENT
BEGIN:VEVENT
DTSTART;TZID=Asia/Shanghai:20241109T132000
DTEND;TZID=Asia/Shanghai:20241109T142000
DTSTAMP:20260422T031721
CREATED:20241028T071133Z
LAST-MODIFIED:20241028T071133Z
UID:10020503-1731158400-1731162000@www.dancesoul.com.tw
SUMMARY:兒童街舞-薇臻
DESCRIPTION:
URL:https://www.dancesoul.com.tw/schedule/%e5%85%92%e7%ab%a5%e8%a1%97%e8%88%9e-%e8%96%87%e8%87%bb-12/2024-11-09/
CATEGORIES:兒童街舞,兒童課,課程
END:VEVENT
BEGIN:VEVENT
DTSTART;TZID=Asia/Shanghai:20241026T132000
DTEND;TZID=Asia/Shanghai:20241026T142000
DTSTAMP:20260422T031721
CREATED:20240924T081208Z
LAST-MODIFIED:20240924T081208Z
UID:10020311-1729948800-1729952400@www.dancesoul.com.tw
SUMMARY:兒童街舞-薇臻
DESCRIPTION:
URL:https://www.dancesoul.com.tw/schedule/%e5%85%92%e7%ab%a5%e8%a1%97%e8%88%9e-%e8%96%87%e8%87%bb-11/2024-10-26/
CATEGORIES:兒童街舞,兒童課,課程
END:VEVENT
END:VCALENDAR