BEGIN:VCALENDAR
VERSION:2.0
PRODID:-//DANCE SOUL 舞魂街舞學校 - ECPv6.15.18//NONSGML v1.0//EN
CALSCALE:GREGORIAN
METHOD:PUBLISH
X-WR-CALNAME:DANCE SOUL 舞魂街舞學校
X-ORIGINAL-URL:https://www.dancesoul.com.tw
X-WR-CALDESC:Events for DANCE SOUL 舞魂街舞學校
REFRESH-INTERVAL;VALUE=DURATION:PT1H
X-Robots-Tag:noindex
X-PUBLISHED-TTL:PT1H
BEGIN:VTIMEZONE
TZID:Asia/Shanghai
BEGIN:STANDARD
TZOFFSETFROM:+0800
TZOFFSETTO:+0800
TZNAME:CST
DTSTART:20220101T000000
END:STANDARD
END:VTIMEZONE
BEGIN:VEVENT
DTSTART;TZID=Asia/Shanghai:20230828T132000
DTEND;TZID=Asia/Shanghai:20230828T142000
DTSTAMP:20260422T071234
CREATED:20230729T075956Z
LAST-MODIFIED:20230729T075956Z
UID:10016315-1693228800-1693232400@www.dancesoul.com.tw
SUMMARY:基礎入門-Yoko
DESCRIPTION:
URL:https://www.dancesoul.com.tw/schedule/%e5%9f%ba%e7%a4%8e%e5%85%a5%e9%96%80-yoko-2/2023-08-28/
LOCATION:仁愛路四段425-1號\, Taipei City\, 104\, 台灣
CATEGORIES:基礎入門,常態課_初級,課程
END:VEVENT
BEGIN:VEVENT
DTSTART;TZID=Asia/Shanghai:20230821T132000
DTEND;TZID=Asia/Shanghai:20230821T142000
DTSTAMP:20260422T071234
CREATED:20230729T075956Z
LAST-MODIFIED:20230729T075956Z
UID:10016314-1692624000-1692627600@www.dancesoul.com.tw
SUMMARY:基礎入門-Yoko
DESCRIPTION:
URL:https://www.dancesoul.com.tw/schedule/%e5%9f%ba%e7%a4%8e%e5%85%a5%e9%96%80-yoko-2/2023-08-21/
LOCATION:仁愛路四段425-1號\, Taipei City\, 104\, 台灣
CATEGORIES:基礎入門,常態課_初級,課程
END:VEVENT
BEGIN:VEVENT
DTSTART;TZID=Asia/Shanghai:20230814T132000
DTEND;TZID=Asia/Shanghai:20230814T142000
DTSTAMP:20260422T071234
CREATED:20230729T075956Z
LAST-MODIFIED:20230729T075956Z
UID:10016313-1692019200-1692022800@www.dancesoul.com.tw
SUMMARY:基礎入門-Yoko
DESCRIPTION:
URL:https://www.dancesoul.com.tw/schedule/%e5%9f%ba%e7%a4%8e%e5%85%a5%e9%96%80-yoko-2/2023-08-14/
LOCATION:仁愛路四段425-1號\, Taipei City\, 104\, 台灣
CATEGORIES:基礎入門,常態課_初級,課程
END:VEVENT
BEGIN:VEVENT
DTSTART;TZID=Asia/Shanghai:20230807T132000
DTEND;TZID=Asia/Shanghai:20230807T142000
DTSTAMP:20260422T071234
CREATED:20230729T075956Z
LAST-MODIFIED:20230729T075956Z
UID:10016312-1691414400-1691418000@www.dancesoul.com.tw
SUMMARY:基礎入門-Yoko
DESCRIPTION:
URL:https://www.dancesoul.com.tw/schedule/%e5%9f%ba%e7%a4%8e%e5%85%a5%e9%96%80-yoko-2/2023-08-07/
LOCATION:仁愛路四段425-1號\, Taipei City\, 104\, 台灣
CATEGORIES:基礎入門,常態課_初級,課程
END:VEVENT
BEGIN:VEVENT
DTSTART;TZID=Asia/Shanghai:20230731T132000
DTEND;TZID=Asia/Shanghai:20230731T142000
DTSTAMP:20260422T071234
CREATED:20230627T102724Z
LAST-MODIFIED:20230627T102724Z
UID:10017552-1690809600-1690813200@www.dancesoul.com.tw
SUMMARY:基礎入門-Yoko
DESCRIPTION:
URL:https://www.dancesoul.com.tw/schedule/%e5%9f%ba%e7%a4%8e%e5%85%a5%e9%96%80-yoko/2023-07-31/
LOCATION:仁愛路四段425-1號\, Taipei City\, 104\, 台灣
CATEGORIES:基礎入門,常態課_初級,課程
END:VEVENT
BEGIN:VEVENT
DTSTART;TZID=Asia/Shanghai:20230724T132000
DTEND;TZID=Asia/Shanghai:20230724T142000
DTSTAMP:20260422T071234
CREATED:20230627T102724Z
LAST-MODIFIED:20230627T102724Z
UID:10017551-1690204800-1690208400@www.dancesoul.com.tw
SUMMARY:基礎入門-Yoko
DESCRIPTION:
URL:https://www.dancesoul.com.tw/schedule/%e5%9f%ba%e7%a4%8e%e5%85%a5%e9%96%80-yoko/2023-07-24/
LOCATION:仁愛路四段425-1號\, Taipei City\, 104\, 台灣
CATEGORIES:基礎入門,常態課_初級,課程
END:VEVENT
BEGIN:VEVENT
DTSTART;TZID=Asia/Shanghai:20230717T132000
DTEND;TZID=Asia/Shanghai:20230717T142000
DTSTAMP:20260422T071234
CREATED:20230627T102724Z
LAST-MODIFIED:20230627T102724Z
UID:10017550-1689600000-1689603600@www.dancesoul.com.tw
SUMMARY:基礎入門-Yoko
DESCRIPTION:
URL:https://www.dancesoul.com.tw/schedule/%e5%9f%ba%e7%a4%8e%e5%85%a5%e9%96%80-yoko/2023-07-17/
LOCATION:仁愛路四段425-1號\, Taipei City\, 104\, 台灣
CATEGORIES:基礎入門,常態課_初級,課程
END:VEVENT
BEGIN:VEVENT
DTSTART;TZID=Asia/Shanghai:20230710T132000
DTEND;TZID=Asia/Shanghai:20230710T142000
DTSTAMP:20260422T071234
CREATED:20230627T102724Z
LAST-MODIFIED:20230627T102724Z
UID:10017549-1688995200-1688998800@www.dancesoul.com.tw
SUMMARY:基礎入門-Yoko
DESCRIPTION:
URL:https://www.dancesoul.com.tw/schedule/%e5%9f%ba%e7%a4%8e%e5%85%a5%e9%96%80-yoko/2023-07-10/
LOCATION:仁愛路四段425-1號\, Taipei City\, 104\, 台灣
CATEGORIES:基礎入門,常態課_初級,課程
END:VEVENT
BEGIN:VEVENT
DTSTART;TZID=Asia/Shanghai:20230703T132000
DTEND;TZID=Asia/Shanghai:20230703T142000
DTSTAMP:20260422T071234
CREATED:20230627T102724Z
LAST-MODIFIED:20230627T102724Z
UID:10017548-1688390400-1688394000@www.dancesoul.com.tw
SUMMARY:基礎入門-Yoko
DESCRIPTION:
URL:https://www.dancesoul.com.tw/schedule/%e5%9f%ba%e7%a4%8e%e5%85%a5%e9%96%80-yoko/2023-07-03/
LOCATION:仁愛路四段425-1號\, Taipei City\, 104\, 台灣
CATEGORIES:基礎入門,常態課_初級,課程
END:VEVENT
END:VCALENDAR