BEGIN:VCALENDAR
VERSION:2.0
PRODID:-//DANCE SOUL 舞魂街舞學校 - ECPv6.15.18//NONSGML v1.0//EN
CALSCALE:GREGORIAN
METHOD:PUBLISH
X-ORIGINAL-URL:https://www.dancesoul.com.tw
X-WR-CALDESC:Events for DANCE SOUL 舞魂街舞學校
REFRESH-INTERVAL;VALUE=DURATION:PT1H
X-Robots-Tag:noindex
X-PUBLISHED-TTL:PT1H
BEGIN:VTIMEZONE
TZID:Asia/Shanghai
BEGIN:STANDARD
TZOFFSETFROM:+0800
TZOFFSETTO:+0800
TZNAME:CST
DTSTART:20220101T000000
END:STANDARD
END:VTIMEZONE
BEGIN:VEVENT
DTSTART;TZID=Asia/Shanghai:20230907T143000
DTEND;TZID=Asia/Shanghai:20230907T153000
DTSTAMP:20260421T230819
CREATED:20211230T061710Z
LAST-MODIFIED:20211230T061710Z
UID:10014675-1694097000-1694100600@www.dancesoul.com.tw
SUMMARY:基礎入門-弈夫
DESCRIPTION:
URL:https://www.dancesoul.com.tw/schedule/%e5%9f%ba%e7%a4%8e%e5%85%a5%e9%96%80-%e5%bc%88%e5%a4%ab-19/2023-09-07/
LOCATION:仁愛路四段425-1號\, Taipei City\, 104\, 台灣
CATEGORIES:基礎入門,常態課_初級,課程
END:VEVENT
BEGIN:VEVENT
DTSTART;TZID=Asia/Shanghai:20230905T143000
DTEND;TZID=Asia/Shanghai:20230905T153000
DTSTAMP:20260421T230819
CREATED:20211230T060643Z
LAST-MODIFIED:20211230T060643Z
UID:10014165-1693924200-1693927800@www.dancesoul.com.tw
SUMMARY:基礎入門-弈夫
DESCRIPTION:
URL:https://www.dancesoul.com.tw/schedule/%e5%9f%ba%e7%a4%8e%e5%85%a5%e9%96%80-%e5%bc%88%e5%a4%ab-18/2023-09-05/
LOCATION:仁愛路四段425-1號\, Taipei City\, 104\, 台灣
CATEGORIES:基礎入門,常態課_初級,課程
END:VEVENT
BEGIN:VEVENT
DTSTART;TZID=Asia/Shanghai:20230831T143000
DTEND;TZID=Asia/Shanghai:20230831T153000
DTSTAMP:20260421T230819
CREATED:20211230T061710Z
LAST-MODIFIED:20211230T061710Z
UID:10014674-1693492200-1693495800@www.dancesoul.com.tw
SUMMARY:基礎入門-弈夫
DESCRIPTION:
URL:https://www.dancesoul.com.tw/schedule/%e5%9f%ba%e7%a4%8e%e5%85%a5%e9%96%80-%e5%bc%88%e5%a4%ab-19/2023-08-31/
LOCATION:仁愛路四段425-1號\, Taipei City\, 104\, 台灣
CATEGORIES:基礎入門,常態課_初級,課程
END:VEVENT
BEGIN:VEVENT
DTSTART;TZID=Asia/Shanghai:20230829T143000
DTEND;TZID=Asia/Shanghai:20230829T153000
DTSTAMP:20260421T230819
CREATED:20211230T060643Z
LAST-MODIFIED:20211230T060643Z
UID:10014164-1693319400-1693323000@www.dancesoul.com.tw
SUMMARY:基礎入門-弈夫
DESCRIPTION:
URL:https://www.dancesoul.com.tw/schedule/%e5%9f%ba%e7%a4%8e%e5%85%a5%e9%96%80-%e5%bc%88%e5%a4%ab-18/2023-08-29/
LOCATION:仁愛路四段425-1號\, Taipei City\, 104\, 台灣
CATEGORIES:基礎入門,常態課_初級,課程
END:VEVENT
BEGIN:VEVENT
DTSTART;TZID=Asia/Shanghai:20230824T143000
DTEND;TZID=Asia/Shanghai:20230824T153000
DTSTAMP:20260421T230819
CREATED:20211230T061710Z
LAST-MODIFIED:20211230T061710Z
UID:10014673-1692887400-1692891000@www.dancesoul.com.tw
SUMMARY:基礎入門-弈夫
DESCRIPTION:
URL:https://www.dancesoul.com.tw/schedule/%e5%9f%ba%e7%a4%8e%e5%85%a5%e9%96%80-%e5%bc%88%e5%a4%ab-19/2023-08-24/
LOCATION:仁愛路四段425-1號\, Taipei City\, 104\, 台灣
CATEGORIES:基礎入門,常態課_初級,課程
END:VEVENT
BEGIN:VEVENT
DTSTART;TZID=Asia/Shanghai:20230822T143000
DTEND;TZID=Asia/Shanghai:20230822T153000
DTSTAMP:20260421T230819
CREATED:20211230T060643Z
LAST-MODIFIED:20211230T060643Z
UID:10014163-1692714600-1692718200@www.dancesoul.com.tw
SUMMARY:基礎入門-弈夫
DESCRIPTION:
URL:https://www.dancesoul.com.tw/schedule/%e5%9f%ba%e7%a4%8e%e5%85%a5%e9%96%80-%e5%bc%88%e5%a4%ab-18/2023-08-22/
LOCATION:仁愛路四段425-1號\, Taipei City\, 104\, 台灣
CATEGORIES:基礎入門,常態課_初級,課程
END:VEVENT
BEGIN:VEVENT
DTSTART;TZID=Asia/Shanghai:20230817T143000
DTEND;TZID=Asia/Shanghai:20230817T153000
DTSTAMP:20260421T230819
CREATED:20211230T061710Z
LAST-MODIFIED:20211230T061710Z
UID:10014672-1692282600-1692286200@www.dancesoul.com.tw
SUMMARY:基礎入門-弈夫
DESCRIPTION:
URL:https://www.dancesoul.com.tw/schedule/%e5%9f%ba%e7%a4%8e%e5%85%a5%e9%96%80-%e5%bc%88%e5%a4%ab-19/2023-08-17/
LOCATION:仁愛路四段425-1號\, Taipei City\, 104\, 台灣
CATEGORIES:基礎入門,常態課_初級,課程
END:VEVENT
BEGIN:VEVENT
DTSTART;TZID=Asia/Shanghai:20230815T143000
DTEND;TZID=Asia/Shanghai:20230815T153000
DTSTAMP:20260421T230819
CREATED:20211230T060643Z
LAST-MODIFIED:20211230T060643Z
UID:10014162-1692109800-1692113400@www.dancesoul.com.tw
SUMMARY:基礎入門-弈夫
DESCRIPTION:
URL:https://www.dancesoul.com.tw/schedule/%e5%9f%ba%e7%a4%8e%e5%85%a5%e9%96%80-%e5%bc%88%e5%a4%ab-18/2023-08-15/
LOCATION:仁愛路四段425-1號\, Taipei City\, 104\, 台灣
CATEGORIES:基礎入門,常態課_初級,課程
END:VEVENT
BEGIN:VEVENT
DTSTART;TZID=Asia/Shanghai:20230810T143000
DTEND;TZID=Asia/Shanghai:20230810T153000
DTSTAMP:20260421T230819
CREATED:20211230T061710Z
LAST-MODIFIED:20211230T061710Z
UID:10014671-1691677800-1691681400@www.dancesoul.com.tw
SUMMARY:基礎入門-弈夫
DESCRIPTION:
URL:https://www.dancesoul.com.tw/schedule/%e5%9f%ba%e7%a4%8e%e5%85%a5%e9%96%80-%e5%bc%88%e5%a4%ab-19/2023-08-10/
LOCATION:仁愛路四段425-1號\, Taipei City\, 104\, 台灣
CATEGORIES:基礎入門,常態課_初級,課程
END:VEVENT
BEGIN:VEVENT
DTSTART;TZID=Asia/Shanghai:20230808T143000
DTEND;TZID=Asia/Shanghai:20230808T153000
DTSTAMP:20260421T230819
CREATED:20211230T060643Z
LAST-MODIFIED:20211230T060643Z
UID:10014161-1691505000-1691508600@www.dancesoul.com.tw
SUMMARY:基礎入門-弈夫
DESCRIPTION:
URL:https://www.dancesoul.com.tw/schedule/%e5%9f%ba%e7%a4%8e%e5%85%a5%e9%96%80-%e5%bc%88%e5%a4%ab-18/2023-08-08/
LOCATION:仁愛路四段425-1號\, Taipei City\, 104\, 台灣
CATEGORIES:基礎入門,常態課_初級,課程
END:VEVENT
BEGIN:VEVENT
DTSTART;TZID=Asia/Shanghai:20230803T143000
DTEND;TZID=Asia/Shanghai:20230803T153000
DTSTAMP:20260421T230819
CREATED:20211230T061710Z
LAST-MODIFIED:20211230T061710Z
UID:10014670-1691073000-1691076600@www.dancesoul.com.tw
SUMMARY:基礎入門-弈夫
DESCRIPTION:
URL:https://www.dancesoul.com.tw/schedule/%e5%9f%ba%e7%a4%8e%e5%85%a5%e9%96%80-%e5%bc%88%e5%a4%ab-19/2023-08-03/
LOCATION:仁愛路四段425-1號\, Taipei City\, 104\, 台灣
CATEGORIES:基礎入門,常態課_初級,課程
END:VEVENT
BEGIN:VEVENT
DTSTART;TZID=Asia/Shanghai:20230801T143000
DTEND;TZID=Asia/Shanghai:20230801T153000
DTSTAMP:20260421T230819
CREATED:20211230T060643Z
LAST-MODIFIED:20211230T060643Z
UID:10014160-1690900200-1690903800@www.dancesoul.com.tw
SUMMARY:基礎入門-弈夫
DESCRIPTION:
URL:https://www.dancesoul.com.tw/schedule/%e5%9f%ba%e7%a4%8e%e5%85%a5%e9%96%80-%e5%bc%88%e5%a4%ab-18/2023-08-01/
LOCATION:仁愛路四段425-1號\, Taipei City\, 104\, 台灣
CATEGORIES:基礎入門,常態課_初級,課程
END:VEVENT
BEGIN:VEVENT
DTSTART;TZID=Asia/Shanghai:20230727T143000
DTEND;TZID=Asia/Shanghai:20230727T153000
DTSTAMP:20260421T230819
CREATED:20211230T061710Z
LAST-MODIFIED:20211230T061710Z
UID:10014669-1690468200-1690471800@www.dancesoul.com.tw
SUMMARY:基礎入門-弈夫
DESCRIPTION:
URL:https://www.dancesoul.com.tw/schedule/%e5%9f%ba%e7%a4%8e%e5%85%a5%e9%96%80-%e5%bc%88%e5%a4%ab-19/2023-07-27/
LOCATION:仁愛路四段425-1號\, Taipei City\, 104\, 台灣
CATEGORIES:基礎入門,常態課_初級,課程
END:VEVENT
BEGIN:VEVENT
DTSTART;TZID=Asia/Shanghai:20230725T143000
DTEND;TZID=Asia/Shanghai:20230725T153000
DTSTAMP:20260421T230819
CREATED:20211230T060643Z
LAST-MODIFIED:20211230T060643Z
UID:10014159-1690295400-1690299000@www.dancesoul.com.tw
SUMMARY:基礎入門-弈夫
DESCRIPTION:
URL:https://www.dancesoul.com.tw/schedule/%e5%9f%ba%e7%a4%8e%e5%85%a5%e9%96%80-%e5%bc%88%e5%a4%ab-18/2023-07-25/
LOCATION:仁愛路四段425-1號\, Taipei City\, 104\, 台灣
CATEGORIES:基礎入門,常態課_初級,課程
END:VEVENT
BEGIN:VEVENT
DTSTART;TZID=Asia/Shanghai:20230720T143000
DTEND;TZID=Asia/Shanghai:20230720T153000
DTSTAMP:20260421T230819
CREATED:20211230T061710Z
LAST-MODIFIED:20211230T061710Z
UID:10014668-1689863400-1689867000@www.dancesoul.com.tw
SUMMARY:基礎入門-弈夫
DESCRIPTION:
URL:https://www.dancesoul.com.tw/schedule/%e5%9f%ba%e7%a4%8e%e5%85%a5%e9%96%80-%e5%bc%88%e5%a4%ab-19/2023-07-20/
LOCATION:仁愛路四段425-1號\, Taipei City\, 104\, 台灣
CATEGORIES:基礎入門,常態課_初級,課程
END:VEVENT
BEGIN:VEVENT
DTSTART;TZID=Asia/Shanghai:20230718T143000
DTEND;TZID=Asia/Shanghai:20230718T153000
DTSTAMP:20260421T230819
CREATED:20211230T060643Z
LAST-MODIFIED:20211230T060643Z
UID:10014158-1689690600-1689694200@www.dancesoul.com.tw
SUMMARY:基礎入門-弈夫
DESCRIPTION:
URL:https://www.dancesoul.com.tw/schedule/%e5%9f%ba%e7%a4%8e%e5%85%a5%e9%96%80-%e5%bc%88%e5%a4%ab-18/2023-07-18/
LOCATION:仁愛路四段425-1號\, Taipei City\, 104\, 台灣
CATEGORIES:基礎入門,常態課_初級,課程
END:VEVENT
BEGIN:VEVENT
DTSTART;TZID=Asia/Shanghai:20230713T143000
DTEND;TZID=Asia/Shanghai:20230713T153000
DTSTAMP:20260421T230819
CREATED:20211230T061710Z
LAST-MODIFIED:20211230T061710Z
UID:10014667-1689258600-1689262200@www.dancesoul.com.tw
SUMMARY:基礎入門-弈夫
DESCRIPTION:
URL:https://www.dancesoul.com.tw/schedule/%e5%9f%ba%e7%a4%8e%e5%85%a5%e9%96%80-%e5%bc%88%e5%a4%ab-19/2023-07-13/
LOCATION:仁愛路四段425-1號\, Taipei City\, 104\, 台灣
CATEGORIES:基礎入門,常態課_初級,課程
END:VEVENT
BEGIN:VEVENT
DTSTART;TZID=Asia/Shanghai:20230711T143000
DTEND;TZID=Asia/Shanghai:20230711T153000
DTSTAMP:20260421T230819
CREATED:20211230T060643Z
LAST-MODIFIED:20211230T060643Z
UID:10014157-1689085800-1689089400@www.dancesoul.com.tw
SUMMARY:基礎入門-弈夫
DESCRIPTION:
URL:https://www.dancesoul.com.tw/schedule/%e5%9f%ba%e7%a4%8e%e5%85%a5%e9%96%80-%e5%bc%88%e5%a4%ab-18/2023-07-11/
LOCATION:仁愛路四段425-1號\, Taipei City\, 104\, 台灣
CATEGORIES:基礎入門,常態課_初級,課程
END:VEVENT
BEGIN:VEVENT
DTSTART;TZID=Asia/Shanghai:20230706T143000
DTEND;TZID=Asia/Shanghai:20230706T153000
DTSTAMP:20260421T230819
CREATED:20211230T061710Z
LAST-MODIFIED:20211230T061710Z
UID:10014666-1688653800-1688657400@www.dancesoul.com.tw
SUMMARY:基礎入門-弈夫
DESCRIPTION:
URL:https://www.dancesoul.com.tw/schedule/%e5%9f%ba%e7%a4%8e%e5%85%a5%e9%96%80-%e5%bc%88%e5%a4%ab-19/2023-07-06/
LOCATION:仁愛路四段425-1號\, Taipei City\, 104\, 台灣
CATEGORIES:基礎入門,常態課_初級,課程
END:VEVENT
BEGIN:VEVENT
DTSTART;TZID=Asia/Shanghai:20230704T143000
DTEND;TZID=Asia/Shanghai:20230704T153000
DTSTAMP:20260421T230819
CREATED:20211230T060643Z
LAST-MODIFIED:20211230T060643Z
UID:10014156-1688481000-1688484600@www.dancesoul.com.tw
SUMMARY:基礎入門-弈夫
DESCRIPTION:
URL:https://www.dancesoul.com.tw/schedule/%e5%9f%ba%e7%a4%8e%e5%85%a5%e9%96%80-%e5%bc%88%e5%a4%ab-18/2023-07-04/
LOCATION:仁愛路四段425-1號\, Taipei City\, 104\, 台灣
CATEGORIES:基礎入門,常態課_初級,課程
END:VEVENT
BEGIN:VEVENT
DTSTART;TZID=Asia/Shanghai:20230629T143000
DTEND;TZID=Asia/Shanghai:20230629T153000
DTSTAMP:20260421T230819
CREATED:20211230T061710Z
LAST-MODIFIED:20211230T061710Z
UID:10014665-1688049000-1688052600@www.dancesoul.com.tw
SUMMARY:基礎入門-弈夫
DESCRIPTION:
URL:https://www.dancesoul.com.tw/schedule/%e5%9f%ba%e7%a4%8e%e5%85%a5%e9%96%80-%e5%bc%88%e5%a4%ab-19/2023-06-29/
LOCATION:仁愛路四段425-1號\, Taipei City\, 104\, 台灣
CATEGORIES:基礎入門,常態課_初級,課程
END:VEVENT
BEGIN:VEVENT
DTSTART;TZID=Asia/Shanghai:20230627T143000
DTEND;TZID=Asia/Shanghai:20230627T153000
DTSTAMP:20260421T230819
CREATED:20211230T060643Z
LAST-MODIFIED:20211230T060643Z
UID:10014155-1687876200-1687879800@www.dancesoul.com.tw
SUMMARY:基礎入門-弈夫
DESCRIPTION:
URL:https://www.dancesoul.com.tw/schedule/%e5%9f%ba%e7%a4%8e%e5%85%a5%e9%96%80-%e5%bc%88%e5%a4%ab-18/2023-06-27/
LOCATION:仁愛路四段425-1號\, Taipei City\, 104\, 台灣
CATEGORIES:基礎入門,常態課_初級,課程
END:VEVENT
BEGIN:VEVENT
DTSTART;TZID=Asia/Shanghai:20230622T143000
DTEND;TZID=Asia/Shanghai:20230622T153000
DTSTAMP:20260421T230819
CREATED:20211230T061710Z
LAST-MODIFIED:20211230T061710Z
UID:10014664-1687444200-1687447800@www.dancesoul.com.tw
SUMMARY:基礎入門-弈夫
DESCRIPTION:
URL:https://www.dancesoul.com.tw/schedule/%e5%9f%ba%e7%a4%8e%e5%85%a5%e9%96%80-%e5%bc%88%e5%a4%ab-19/2023-06-22/
LOCATION:仁愛路四段425-1號\, Taipei City\, 104\, 台灣
CATEGORIES:基礎入門,常態課_初級,課程
END:VEVENT
BEGIN:VEVENT
DTSTART;TZID=Asia/Shanghai:20230620T143000
DTEND;TZID=Asia/Shanghai:20230620T153000
DTSTAMP:20260421T230819
CREATED:20211230T060643Z
LAST-MODIFIED:20211230T060643Z
UID:10014154-1687271400-1687275000@www.dancesoul.com.tw
SUMMARY:基礎入門-弈夫
DESCRIPTION:
URL:https://www.dancesoul.com.tw/schedule/%e5%9f%ba%e7%a4%8e%e5%85%a5%e9%96%80-%e5%bc%88%e5%a4%ab-18/2023-06-20/
LOCATION:仁愛路四段425-1號\, Taipei City\, 104\, 台灣
CATEGORIES:基礎入門,常態課_初級,課程
END:VEVENT
BEGIN:VEVENT
DTSTART;TZID=Asia/Shanghai:20230615T143000
DTEND;TZID=Asia/Shanghai:20230615T153000
DTSTAMP:20260421T230819
CREATED:20211230T061710Z
LAST-MODIFIED:20211230T061710Z
UID:10014663-1686839400-1686843000@www.dancesoul.com.tw
SUMMARY:基礎入門-弈夫
DESCRIPTION:
URL:https://www.dancesoul.com.tw/schedule/%e5%9f%ba%e7%a4%8e%e5%85%a5%e9%96%80-%e5%bc%88%e5%a4%ab-19/2023-06-15/
LOCATION:仁愛路四段425-1號\, Taipei City\, 104\, 台灣
CATEGORIES:基礎入門,常態課_初級,課程
END:VEVENT
BEGIN:VEVENT
DTSTART;TZID=Asia/Shanghai:20230613T143000
DTEND;TZID=Asia/Shanghai:20230613T153000
DTSTAMP:20260421T230819
CREATED:20211230T060643Z
LAST-MODIFIED:20211230T060643Z
UID:10014153-1686666600-1686670200@www.dancesoul.com.tw
SUMMARY:基礎入門-弈夫
DESCRIPTION:
URL:https://www.dancesoul.com.tw/schedule/%e5%9f%ba%e7%a4%8e%e5%85%a5%e9%96%80-%e5%bc%88%e5%a4%ab-18/2023-06-13/
LOCATION:仁愛路四段425-1號\, Taipei City\, 104\, 台灣
CATEGORIES:基礎入門,常態課_初級,課程
END:VEVENT
BEGIN:VEVENT
DTSTART;TZID=Asia/Shanghai:20230608T143000
DTEND;TZID=Asia/Shanghai:20230608T153000
DTSTAMP:20260421T230819
CREATED:20211230T061710Z
LAST-MODIFIED:20211230T061710Z
UID:10014662-1686234600-1686238200@www.dancesoul.com.tw
SUMMARY:基礎入門-弈夫
DESCRIPTION:
URL:https://www.dancesoul.com.tw/schedule/%e5%9f%ba%e7%a4%8e%e5%85%a5%e9%96%80-%e5%bc%88%e5%a4%ab-19/2023-06-08/
LOCATION:仁愛路四段425-1號\, Taipei City\, 104\, 台灣
CATEGORIES:基礎入門,常態課_初級,課程
END:VEVENT
BEGIN:VEVENT
DTSTART;TZID=Asia/Shanghai:20230606T143000
DTEND;TZID=Asia/Shanghai:20230606T153000
DTSTAMP:20260421T230819
CREATED:20211230T060643Z
LAST-MODIFIED:20211230T060643Z
UID:10014152-1686061800-1686065400@www.dancesoul.com.tw
SUMMARY:基礎入門-弈夫
DESCRIPTION:
URL:https://www.dancesoul.com.tw/schedule/%e5%9f%ba%e7%a4%8e%e5%85%a5%e9%96%80-%e5%bc%88%e5%a4%ab-18/2023-06-06/
LOCATION:仁愛路四段425-1號\, Taipei City\, 104\, 台灣
CATEGORIES:基礎入門,常態課_初級,課程
END:VEVENT
BEGIN:VEVENT
DTSTART;TZID=Asia/Shanghai:20230601T143000
DTEND;TZID=Asia/Shanghai:20230601T153000
DTSTAMP:20260421T230819
CREATED:20211230T061710Z
LAST-MODIFIED:20211230T061710Z
UID:10014661-1685629800-1685633400@www.dancesoul.com.tw
SUMMARY:基礎入門-弈夫
DESCRIPTION:
URL:https://www.dancesoul.com.tw/schedule/%e5%9f%ba%e7%a4%8e%e5%85%a5%e9%96%80-%e5%bc%88%e5%a4%ab-19/2023-06-01/
LOCATION:仁愛路四段425-1號\, Taipei City\, 104\, 台灣
CATEGORIES:基礎入門,常態課_初級,課程
END:VEVENT
BEGIN:VEVENT
DTSTART;TZID=Asia/Shanghai:20230530T143000
DTEND;TZID=Asia/Shanghai:20230530T153000
DTSTAMP:20260421T230819
CREATED:20211230T060643Z
LAST-MODIFIED:20211230T060643Z
UID:10014151-1685457000-1685460600@www.dancesoul.com.tw
SUMMARY:基礎入門-弈夫
DESCRIPTION:
URL:https://www.dancesoul.com.tw/schedule/%e5%9f%ba%e7%a4%8e%e5%85%a5%e9%96%80-%e5%bc%88%e5%a4%ab-18/2023-05-30/
LOCATION:仁愛路四段425-1號\, Taipei City\, 104\, 台灣
CATEGORIES:基礎入門,常態課_初級,課程
END:VEVENT
END:VCALENDAR