BEGIN:VCALENDAR
VERSION:2.0
PRODID:-//DANCE SOUL 舞魂街舞學校 - ECPv6.15.18//NONSGML v1.0//EN
CALSCALE:GREGORIAN
METHOD:PUBLISH
X-WR-CALNAME:DANCE SOUL 舞魂街舞學校
X-ORIGINAL-URL:https://www.dancesoul.com.tw
X-WR-CALDESC:Events for DANCE SOUL 舞魂街舞學校
REFRESH-INTERVAL;VALUE=DURATION:PT1H
X-Robots-Tag:noindex
X-PUBLISHED-TTL:PT1H
BEGIN:VTIMEZONE
TZID:Asia/Shanghai
BEGIN:STANDARD
TZOFFSETFROM:+0800
TZOFFSETTO:+0800
TZNAME:CST
DTSTART:20220101T000000
END:STANDARD
END:VTIMEZONE
BEGIN:VEVENT
DTSTART;TZID=Asia/Shanghai:20230829T143000
DTEND;TZID=Asia/Shanghai:20230829T153000
DTSTAMP:20260422T215503
CREATED:20230729T101857Z
LAST-MODIFIED:20230729T101857Z
UID:10016370-1693319400-1693323000@www.dancesoul.com.tw
SUMMARY:基礎入門-林彤
DESCRIPTION:
URL:https://www.dancesoul.com.tw/schedule/%e5%9f%ba%e7%a4%8e%e5%85%a5%e9%96%80-%e6%9e%97%e5%bd%a4-2/2023-08-29/
LOCATION:仁愛路四段425-1號\, Taipei City\, 104\, 台灣
CATEGORIES:基礎入門,常態課_初級,課程
END:VEVENT
BEGIN:VEVENT
DTSTART;TZID=Asia/Shanghai:20230822T143000
DTEND;TZID=Asia/Shanghai:20230822T153000
DTSTAMP:20260422T215503
CREATED:20230729T101857Z
LAST-MODIFIED:20230729T101857Z
UID:10016369-1692714600-1692718200@www.dancesoul.com.tw
SUMMARY:基礎入門-林彤
DESCRIPTION:
URL:https://www.dancesoul.com.tw/schedule/%e5%9f%ba%e7%a4%8e%e5%85%a5%e9%96%80-%e6%9e%97%e5%bd%a4-2/2023-08-22/
LOCATION:仁愛路四段425-1號\, Taipei City\, 104\, 台灣
CATEGORIES:基礎入門,常態課_初級,課程
END:VEVENT
BEGIN:VEVENT
DTSTART;TZID=Asia/Shanghai:20230815T143000
DTEND;TZID=Asia/Shanghai:20230815T153000
DTSTAMP:20260422T215503
CREATED:20230729T101857Z
LAST-MODIFIED:20230729T101857Z
UID:10016368-1692109800-1692113400@www.dancesoul.com.tw
SUMMARY:基礎入門-林彤
DESCRIPTION:
URL:https://www.dancesoul.com.tw/schedule/%e5%9f%ba%e7%a4%8e%e5%85%a5%e9%96%80-%e6%9e%97%e5%bd%a4-2/2023-08-15/
LOCATION:仁愛路四段425-1號\, Taipei City\, 104\, 台灣
CATEGORIES:基礎入門,常態課_初級,課程
END:VEVENT
BEGIN:VEVENT
DTSTART;TZID=Asia/Shanghai:20230808T143000
DTEND;TZID=Asia/Shanghai:20230808T153000
DTSTAMP:20260422T215503
CREATED:20230729T101857Z
LAST-MODIFIED:20230729T101857Z
UID:10016367-1691505000-1691508600@www.dancesoul.com.tw
SUMMARY:基礎入門-林彤
DESCRIPTION:
URL:https://www.dancesoul.com.tw/schedule/%e5%9f%ba%e7%a4%8e%e5%85%a5%e9%96%80-%e6%9e%97%e5%bd%a4-2/2023-08-08/
LOCATION:仁愛路四段425-1號\, Taipei City\, 104\, 台灣
CATEGORIES:基礎入門,常態課_初級,課程
END:VEVENT
BEGIN:VEVENT
DTSTART;TZID=Asia/Shanghai:20230801T143000
DTEND;TZID=Asia/Shanghai:20230801T153000
DTSTAMP:20260422T215503
CREATED:20230729T101857Z
LAST-MODIFIED:20230729T101857Z
UID:10016366-1690900200-1690903800@www.dancesoul.com.tw
SUMMARY:基礎入門-林彤
DESCRIPTION:
URL:https://www.dancesoul.com.tw/schedule/%e5%9f%ba%e7%a4%8e%e5%85%a5%e9%96%80-%e6%9e%97%e5%bd%a4-2/2023-08-01/
LOCATION:仁愛路四段425-1號\, Taipei City\, 104\, 台灣
CATEGORIES:基礎入門,常態課_初級,課程
END:VEVENT
BEGIN:VEVENT
DTSTART;TZID=Asia/Shanghai:20230725T143000
DTEND;TZID=Asia/Shanghai:20230725T153000
DTSTAMP:20260422T215503
CREATED:20230627T105712Z
LAST-MODIFIED:20230627T105712Z
UID:10016214-1690295400-1690299000@www.dancesoul.com.tw
SUMMARY:基礎入門-林彤
DESCRIPTION:
URL:https://www.dancesoul.com.tw/schedule/%e5%9f%ba%e7%a4%8e%e5%85%a5%e9%96%80-%e6%9e%97%e5%bd%a4/2023-07-25/
LOCATION:仁愛路四段425-1號\, Taipei City\, 104\, 台灣
CATEGORIES:基礎入門,常態課_初級,課程
END:VEVENT
BEGIN:VEVENT
DTSTART;TZID=Asia/Shanghai:20230718T143000
DTEND;TZID=Asia/Shanghai:20230718T153000
DTSTAMP:20260422T215503
CREATED:20230627T105712Z
LAST-MODIFIED:20230627T105712Z
UID:10016213-1689690600-1689694200@www.dancesoul.com.tw
SUMMARY:基礎入門-林彤
DESCRIPTION:
URL:https://www.dancesoul.com.tw/schedule/%e5%9f%ba%e7%a4%8e%e5%85%a5%e9%96%80-%e6%9e%97%e5%bd%a4/2023-07-18/
LOCATION:仁愛路四段425-1號\, Taipei City\, 104\, 台灣
CATEGORIES:基礎入門,常態課_初級,課程
END:VEVENT
BEGIN:VEVENT
DTSTART;TZID=Asia/Shanghai:20230711T143000
DTEND;TZID=Asia/Shanghai:20230711T153000
DTSTAMP:20260422T215503
CREATED:20230627T105712Z
LAST-MODIFIED:20230627T105712Z
UID:10016212-1689085800-1689089400@www.dancesoul.com.tw
SUMMARY:基礎入門-林彤
DESCRIPTION:
URL:https://www.dancesoul.com.tw/schedule/%e5%9f%ba%e7%a4%8e%e5%85%a5%e9%96%80-%e6%9e%97%e5%bd%a4/2023-07-11/
LOCATION:仁愛路四段425-1號\, Taipei City\, 104\, 台灣
CATEGORIES:基礎入門,常態課_初級,課程
END:VEVENT
BEGIN:VEVENT
DTSTART;TZID=Asia/Shanghai:20230704T143000
DTEND;TZID=Asia/Shanghai:20230704T153000
DTSTAMP:20260422T215503
CREATED:20230627T105712Z
LAST-MODIFIED:20230627T105712Z
UID:10016211-1688481000-1688484600@www.dancesoul.com.tw
SUMMARY:基礎入門-林彤
DESCRIPTION:
URL:https://www.dancesoul.com.tw/schedule/%e5%9f%ba%e7%a4%8e%e5%85%a5%e9%96%80-%e6%9e%97%e5%bd%a4/2023-07-04/
LOCATION:仁愛路四段425-1號\, Taipei City\, 104\, 台灣
CATEGORIES:基礎入門,常態課_初級,課程
END:VEVENT
END:VCALENDAR