BEGIN:VCALENDAR
VERSION:2.0
PRODID:-//DANCE SOUL 舞魂街舞學校 - ECPv6.15.18//NONSGML v1.0//EN
CALSCALE:GREGORIAN
METHOD:PUBLISH
X-WR-CALNAME:DANCE SOUL 舞魂街舞學校
X-ORIGINAL-URL:https://www.dancesoul.com.tw
X-WR-CALDESC:Events for DANCE SOUL 舞魂街舞學校
REFRESH-INTERVAL;VALUE=DURATION:PT1H
X-Robots-Tag:noindex
X-PUBLISHED-TTL:PT1H
BEGIN:VTIMEZONE
TZID:Asia/Shanghai
BEGIN:STANDARD
TZOFFSETFROM:+0800
TZOFFSETTO:+0800
TZNAME:CST
DTSTART:20230101T000000
END:STANDARD
END:VTIMEZONE
BEGIN:VEVENT
DTSTART;TZID=Asia/Shanghai:20240219T183000
DTEND;TZID=Asia/Shanghai:20240219T193000
DTSTAMP:20260425T234632
CREATED:20240128T071449Z
LAST-MODIFIED:20240128T071449Z
UID:10019104-1708367400-1708371000@www.dancesoul.com.tw
SUMMARY:Twerk(初)-碗公
DESCRIPTION:
URL:https://www.dancesoul.com.tw/schedule/twerk%e5%88%9d-%e7%a2%97%e5%85%ac-27/2024-02-19/
CATEGORIES:Twerk 初級,常態課_初級,課程
END:VEVENT
BEGIN:VEVENT
DTSTART;TZID=Asia/Shanghai:20240219T194000
DTEND;TZID=Asia/Shanghai:20240219T204000
DTSTAMP:20260425T234632
CREATED:20240128T071651Z
LAST-MODIFIED:20240128T071746Z
UID:10019109-1708371600-1708375200@www.dancesoul.com.tw
SUMMARY:Heels(初)-宋靜
DESCRIPTION:
URL:https://www.dancesoul.com.tw/schedule/heels%e5%88%9d-%e5%ae%8b%e9%9d%9c-25/2024-02-19/
CATEGORIES:Heels 初級,常態課_初級,課程
END:VEVENT
BEGIN:VEVENT
DTSTART;TZID=Asia/Shanghai:20240219T205000
DTEND;TZID=Asia/Shanghai:20240219T215000
DTSTAMP:20260425T234632
CREATED:20240128T071942Z
LAST-MODIFIED:20240128T071942Z
UID:10019112-1708375800-1708379400@www.dancesoul.com.tw
SUMMARY:Jazz Funk-魏小美
DESCRIPTION:
URL:https://www.dancesoul.com.tw/schedule/jazz-funk-%e9%ad%8f%e5%b0%8f%e7%be%8e-68/2024-02-19/
CATEGORIES:Jazz Funk,常態課_一般,課程
END:VEVENT
BEGIN:VEVENT
DTSTART;TZID=Asia/Shanghai:20240220T183000
DTEND;TZID=Asia/Shanghai:20240220T193000
DTSTAMP:20260425T234632
CREATED:20240128T072207Z
LAST-MODIFIED:20240128T072207Z
UID:10019115-1708453800-1708457400@www.dancesoul.com.tw
SUMMARY:Hip Hop(初)-阿禾
DESCRIPTION:
URL:https://www.dancesoul.com.tw/schedule/hip-hop%e5%88%9d-%e9%98%bf%e7%a6%be-46/2024-02-20/
CATEGORIES:Hip Hop 初級,常態課_初級,課程
END:VEVENT
BEGIN:VEVENT
DTSTART;TZID=Asia/Shanghai:20240220T194000
DTEND;TZID=Asia/Shanghai:20240220T204000
DTSTAMP:20260425T234632
CREATED:20240128T072408Z
LAST-MODIFIED:20240128T072408Z
UID:10019118-1708458000-1708461600@www.dancesoul.com.tw
SUMMARY:Street Jazz-Denis
DESCRIPTION:
URL:https://www.dancesoul.com.tw/schedule/street-jazz-denis-41/2024-02-20/
CATEGORIES:STREET JAZZ,常態課_一般,課程
END:VEVENT
BEGIN:VEVENT
DTSTART;TZID=Asia/Shanghai:20240220T205000
DTEND;TZID=Asia/Shanghai:20240220T215000
DTSTAMP:20260425T234632
CREATED:20240128T072612Z
LAST-MODIFIED:20240128T072612Z
UID:10019121-1708462200-1708465800@www.dancesoul.com.tw
SUMMARY:Choreography-少麟
DESCRIPTION:
URL:https://www.dancesoul.com.tw/schedule/choreography-%e5%b0%91%e9%ba%9f-4/2024-02-20/
CATEGORIES:Choreography,常態課_一般,課程
END:VEVENT
BEGIN:VEVENT
DTSTART;TZID=Asia/Shanghai:20240221T183000
DTEND;TZID=Asia/Shanghai:20240221T193000
DTSTAMP:20260425T234632
CREATED:20240128T072749Z
LAST-MODIFIED:20240128T073000Z
UID:10019125-1708540200-1708543800@www.dancesoul.com.tw
SUMMARY:Street Jazz(初)-Kyle
DESCRIPTION:
URL:https://www.dancesoul.com.tw/schedule/street-jazz%e5%88%9d-kyle-9/2024-02-21/
CATEGORIES:STREET JAZZ 初級,常態課_初級,課程
END:VEVENT
BEGIN:VEVENT
DTSTART;TZID=Asia/Shanghai:20240221T194000
DTEND;TZID=Asia/Shanghai:20240221T204000
DTSTAMP:20260425T234632
CREATED:20240128T072848Z
LAST-MODIFIED:20240128T072848Z
UID:10019181-1708544400-1708548000@www.dancesoul.com.tw
SUMMARY:Street Jazz-Larry
DESCRIPTION:
URL:https://www.dancesoul.com.tw/schedule/street-jazz-larry-12/2024-02-21/
CATEGORIES:STREET JAZZ,常態課_一般,課程
END:VEVENT
BEGIN:VEVENT
DTSTART;TZID=Asia/Shanghai:20240221T205000
DTEND;TZID=Asia/Shanghai:20240221T215000
DTSTAMP:20260425T234632
CREATED:20240129T042506Z
LAST-MODIFIED:20240129T042506Z
UID:10019185-1708548600-1708552200@www.dancesoul.com.tw
SUMMARY:Free Style-承達
DESCRIPTION:
URL:https://www.dancesoul.com.tw/schedule/free-style-%e6%89%bf%e9%81%94-35/2024-02-21/
CATEGORIES:Freestyle,常態課_一般,課程
END:VEVENT
BEGIN:VEVENT
DTSTART;TZID=Asia/Shanghai:20240222T183000
DTEND;TZID=Asia/Shanghai:20240222T193000
DTSTAMP:20260425T234632
CREATED:20240129T042738Z
LAST-MODIFIED:20240129T042738Z
UID:10019189-1708626600-1708630200@www.dancesoul.com.tw
SUMMARY:Choreography-芭比
DESCRIPTION:
URL:https://www.dancesoul.com.tw/schedule/choreography-%e8%8a%ad%e6%af%94-18/2024-02-22/
CATEGORIES:Choreography,常態課_一般,課程
END:VEVENT
BEGIN:VEVENT
DTSTART;TZID=Asia/Shanghai:20240222T194000
DTEND;TZID=Asia/Shanghai:20240222T204000
DTSTAMP:20260425T234632
CREATED:20240129T042942Z
LAST-MODIFIED:20240129T042942Z
UID:10019193-1708630800-1708634400@www.dancesoul.com.tw
SUMMARY:Hip Hop-林彤
DESCRIPTION:
URL:https://www.dancesoul.com.tw/schedule/hip-hop-%e6%9e%97%e5%bd%a4-14/2024-02-22/
CATEGORIES:Hip Hop,常態課_一般,課程
END:VEVENT
BEGIN:VEVENT
DTSTART;TZID=Asia/Shanghai:20240222T205000
DTEND;TZID=Asia/Shanghai:20240222T215000
DTSTAMP:20260425T234632
CREATED:20240129T043129Z
LAST-MODIFIED:20240129T043129Z
UID:10019197-1708635000-1708638600@www.dancesoul.com.tw
SUMMARY:Jazz Funk-育暉
DESCRIPTION:
URL:https://www.dancesoul.com.tw/schedule/jazz-funk-%e8%82%b2%e6%9a%89-7/2024-02-22/
CATEGORIES:Jazz Funk,常態課_一般,課程
END:VEVENT
BEGIN:VEVENT
DTSTART;TZID=Asia/Shanghai:20240223T183000
DTEND;TZID=Asia/Shanghai:20240223T193000
DTSTAMP:20260425T234632
CREATED:20240129T043353Z
LAST-MODIFIED:20240129T043353Z
UID:10019201-1708713000-1708716600@www.dancesoul.com.tw
SUMMARY:Street Jazz(初)-Cen妹
DESCRIPTION:
URL:https://www.dancesoul.com.tw/schedule/street-jazz%e5%88%9d-cen%e5%a6%b9-28/2024-02-23/
CATEGORIES:STREET JAZZ 初級,常態課_初級,課程
END:VEVENT
BEGIN:VEVENT
DTSTART;TZID=Asia/Shanghai:20240223T194000
DTEND;TZID=Asia/Shanghai:20240223T204000
DTSTAMP:20260425T234632
CREATED:20240129T043558Z
LAST-MODIFIED:20240129T043558Z
UID:10019204-1708717200-1708720800@www.dancesoul.com.tw
SUMMARY:Hip Hop(初)-佐佐
DESCRIPTION:
URL:https://www.dancesoul.com.tw/schedule/hip-hop%e5%88%9d-%e4%bd%90%e4%bd%90-7/2024-02-23/
CATEGORIES:Hip Hop 初級,常態課_初級,課程
END:VEVENT
BEGIN:VEVENT
DTSTART;TZID=Asia/Shanghai:20240223T205000
DTEND;TZID=Asia/Shanghai:20240223T215000
DTSTAMP:20260425T234632
CREATED:20240129T043800Z
LAST-MODIFIED:20240129T043800Z
UID:10019207-1708721400-1708725000@www.dancesoul.com.tw
SUMMARY:Jazz Funk-鈴鐺
DESCRIPTION:
URL:https://www.dancesoul.com.tw/schedule/jazz-funk-%e9%88%b4%e9%90%ba-15/2024-02-23/
CATEGORIES:Jazz Funk,常態課_一般,課程
END:VEVENT
BEGIN:VEVENT
DTSTART;TZID=Asia/Shanghai:20240224T132000
DTEND;TZID=Asia/Shanghai:20240224T142000
DTSTAMP:20260425T234632
CREATED:20240128T063448Z
LAST-MODIFIED:20240128T063630Z
UID:10019014-1708780800-1708784400@www.dancesoul.com.tw
SUMMARY:兒童街舞-薇臻
DESCRIPTION:
URL:https://www.dancesoul.com.tw/schedule/%e5%85%92%e7%ab%a5%e8%a1%97%e8%88%9e-%e8%96%87%e8%87%bb-3/2024-02-24/
CATEGORIES:兒童街舞,兒童課,課程
END:VEVENT
BEGIN:VEVENT
DTSTART;TZID=Asia/Shanghai:20240224T143000
DTEND;TZID=Asia/Shanghai:20240224T153000
DTSTAMP:20260425T234632
CREATED:20240128T064120Z
LAST-MODIFIED:20240128T064120Z
UID:10019069-1708785000-1708788600@www.dancesoul.com.tw
SUMMARY:兒童MV-(ITZY - UNTOUCHABLE)-薇臻
DESCRIPTION:
URL:https://www.dancesoul.com.tw/schedule/%e5%85%92%e7%ab%a5mv-itzy-untouchable-%e8%96%87%e8%87%bb-2/2024-02-24/
CATEGORIES:兒童MV,兒童課,課程
END:VEVENT
BEGIN:VEVENT
DTSTART;TZID=Asia/Shanghai:20240224T154000
DTEND;TZID=Asia/Shanghai:20240224T164000
DTSTAMP:20260425T234632
CREATED:20240128T064337Z
LAST-MODIFIED:20240128T064337Z
UID:10019072-1708789200-1708792800@www.dancesoul.com.tw
SUMMARY:兒童街舞-傘傘
DESCRIPTION:
URL:https://www.dancesoul.com.tw/schedule/%e5%85%92%e7%ab%a5%e8%a1%97%e8%88%9e-%e5%82%98%e5%82%98-29/2024-02-24/
CATEGORIES:兒童街舞,兒童課,課程
END:VEVENT
BEGIN:VEVENT
DTSTART;TZID=Asia/Shanghai:20240224T165000
DTEND;TZID=Asia/Shanghai:20240224T175000
DTSTAMP:20260425T234632
CREATED:20240128T064602Z
LAST-MODIFIED:20240128T064602Z
UID:10019075-1708793400-1708797000@www.dancesoul.com.tw
SUMMARY:MV-(ITZY - UNTOUCHABLE)-怡妏
DESCRIPTION:
URL:https://www.dancesoul.com.tw/schedule/mv-itzy-untouchable-%e6%80%a1%e5%a6%8f-2/2024-02-24/
CATEGORIES:MV課,課程
END:VEVENT
BEGIN:VEVENT
DTSTART;TZID=Asia/Shanghai:20240224T180000
DTEND;TZID=Asia/Shanghai:20240224T190000
DTSTAMP:20260425T234632
CREATED:20240128T064802Z
LAST-MODIFIED:20240128T064802Z
UID:10019078-1708797600-1708801200@www.dancesoul.com.tw
SUMMARY:Popping-紀威
DESCRIPTION:
URL:https://www.dancesoul.com.tw/schedule/popping-%e7%b4%80%e5%a8%81-37/2024-02-24/
CATEGORIES:Poppin,常態課_一般,課程
END:VEVENT
BEGIN:VEVENT
DTSTART;TZID=Asia/Shanghai:20240224T191000
DTEND;TZID=Asia/Shanghai:20240224T201000
DTSTAMP:20260425T234632
CREATED:20240128T065108Z
LAST-MODIFIED:20240128T065108Z
UID:10019081-1708801800-1708805400@www.dancesoul.com.tw
SUMMARY:Hip Hop(初)-阿祥
DESCRIPTION:
URL:https://www.dancesoul.com.tw/schedule/hip-hop%e5%88%9d-%e9%98%bf%e7%a5%a5-10/2024-02-24/
CATEGORIES:Hip Hop 初級,常態課_初級,課程
END:VEVENT
BEGIN:VEVENT
DTSTART;TZID=Asia/Shanghai:20240224T202000
DTEND;TZID=Asia/Shanghai:20240224T212000
DTSTAMP:20260425T234632
CREATED:20240128T065319Z
LAST-MODIFIED:20240128T065319Z
UID:10019084-1708806000-1708809600@www.dancesoul.com.tw
SUMMARY:基礎入門-雞蛋
DESCRIPTION:
URL:https://www.dancesoul.com.tw/schedule/%e5%9f%ba%e7%a4%8e%e5%85%a5%e9%96%80-%e9%9b%9e%e8%9b%8b-24/2024-02-24/
CATEGORIES:基礎入門,常態課_初級,課程
END:VEVENT
BEGIN:VEVENT
DTSTART;TZID=Asia/Shanghai:20240225T132000
DTEND;TZID=Asia/Shanghai:20240225T142000
DTSTAMP:20260425T234632
CREATED:20240128T065547Z
LAST-MODIFIED:20240128T065547Z
UID:10019087-1708867200-1708870800@www.dancesoul.com.tw
SUMMARY:兒童街舞-羿芃
DESCRIPTION:
URL:https://www.dancesoul.com.tw/schedule/%e5%85%92%e7%ab%a5%e8%a1%97%e8%88%9e-%e7%be%bf%e8%8a%83-2/2024-02-25/
CATEGORIES:兒童街舞,兒童課,課程
END:VEVENT
BEGIN:VEVENT
DTSTART;TZID=Asia/Shanghai:20240225T143000
DTEND;TZID=Asia/Shanghai:20240225T153000
DTSTAMP:20260425T234632
CREATED:20240128T065815Z
LAST-MODIFIED:20240128T065815Z
UID:10019089-1708871400-1708875000@www.dancesoul.com.tw
SUMMARY:兒童MV-((G)I-DLE - Wife)-羿芃
DESCRIPTION:
URL:https://www.dancesoul.com.tw/schedule/%e5%85%92%e7%ab%a5mv-gi-dle-wife-%e7%be%bf%e8%8a%83/2024-02-25/
CATEGORIES:兒童MV,兒童課,課程
END:VEVENT
BEGIN:VEVENT
DTSTART;TZID=Asia/Shanghai:20240225T154000
DTEND;TZID=Asia/Shanghai:20240225T164000
DTSTAMP:20260425T234632
CREATED:20240128T070050Z
LAST-MODIFIED:20240128T070050Z
UID:10019093-1708875600-1708879200@www.dancesoul.com.tw
SUMMARY:兒童街舞-傘傘
DESCRIPTION:
URL:https://www.dancesoul.com.tw/schedule/%e5%85%92%e7%ab%a5%e8%a1%97%e8%88%9e-%e5%82%98%e5%82%98-31/2024-02-25/
CATEGORIES:兒童街舞,兒童課,課程
END:VEVENT
BEGIN:VEVENT
DTSTART;TZID=Asia/Shanghai:20240225T165000
DTEND;TZID=Asia/Shanghai:20240225T175000
DTSTAMP:20260425T234632
CREATED:20240128T070729Z
LAST-MODIFIED:20240128T070729Z
UID:10019096-1708879800-1708883400@www.dancesoul.com.tw
SUMMARY:MV-(ITZY - BORN TO BE)-瑜庭
DESCRIPTION:
URL:https://www.dancesoul.com.tw/schedule/mv-itzy-born-to-be-%e7%91%9c%e5%ba%ad-2/2024-02-25/
CATEGORIES:MV課,課程
END:VEVENT
BEGIN:VEVENT
DTSTART;TZID=Asia/Shanghai:20240225T180000
DTEND;TZID=Asia/Shanghai:20240225T190000
DTSTAMP:20260425T234632
CREATED:20240128T070932Z
LAST-MODIFIED:20240128T070932Z
UID:10019099-1708884000-1708887600@www.dancesoul.com.tw
SUMMARY:Street Jazz-育暉
DESCRIPTION:
URL:https://www.dancesoul.com.tw/schedule/street-jazz-%e8%82%b2%e6%9a%89-44/2024-02-25/
CATEGORIES:STREET JAZZ,常態課_一般,課程
END:VEVENT
BEGIN:VEVENT
DTSTART;TZID=Asia/Shanghai:20240225T191000
DTEND;TZID=Asia/Shanghai:20240225T201000
DTSTAMP:20260425T234632
CREATED:20240128T071225Z
LAST-MODIFIED:20240128T071225Z
UID:10019102-1708888200-1708891800@www.dancesoul.com.tw
SUMMARY:Free Style(初)-佳儒
DESCRIPTION:
URL:https://www.dancesoul.com.tw/schedule/free-style%e5%88%9d-%e4%bd%b3%e5%84%92-6/2024-02-25/
CATEGORIES:Freestyle 初級,常態課_初級,課程
END:VEVENT
END:VCALENDAR