BEGIN:VCALENDAR
VERSION:2.0
PRODID:-//DANCE SOUL 舞魂街舞學校 - ECPv6.15.18//NONSGML v1.0//EN
CALSCALE:GREGORIAN
METHOD:PUBLISH
X-ORIGINAL-URL:https://www.dancesoul.com.tw
X-WR-CALDESC:Events for DANCE SOUL 舞魂街舞學校
REFRESH-INTERVAL;VALUE=DURATION:PT1H
X-Robots-Tag:noindex
X-PUBLISHED-TTL:PT1H
BEGIN:VTIMEZONE
TZID:Asia/Shanghai
BEGIN:STANDARD
TZOFFSETFROM:+0800
TZOFFSETTO:+0800
TZNAME:CST
DTSTART:20230101T000000
END:STANDARD
END:VTIMEZONE
BEGIN:VEVENT
DTSTART;TZID=Asia/Shanghai:20240318T183000
DTEND;TZID=Asia/Shanghai:20240318T193000
DTSTAMP:20260425T215133
CREATED:20240225T082439Z
LAST-MODIFIED:20240225T082439Z
UID:10019275-1710786600-1710790200@www.dancesoul.com.tw
SUMMARY:Twerk(初)-碗公
DESCRIPTION:
URL:https://www.dancesoul.com.tw/schedule/twerk%e5%88%9d-%e7%a2%97%e5%85%ac-28/2024-03-18/
CATEGORIES:Twerk 初級,常態課_初級,課程
END:VEVENT
BEGIN:VEVENT
DTSTART;TZID=Asia/Shanghai:20240318T194000
DTEND;TZID=Asia/Shanghai:20240318T204000
DTSTAMP:20260425T215133
CREATED:20240225T082540Z
LAST-MODIFIED:20240225T082540Z
UID:10019279-1710790800-1710794400@www.dancesoul.com.tw
SUMMARY:Heels(初)-宋靜
DESCRIPTION:
URL:https://www.dancesoul.com.tw/schedule/heels%e5%88%9d-%e5%ae%8b%e9%9d%9c-26/2024-03-18/
CATEGORIES:Heels 初級,常態課_初級,課程
END:VEVENT
BEGIN:VEVENT
DTSTART;TZID=Asia/Shanghai:20240318T205000
DTEND;TZID=Asia/Shanghai:20240318T215000
DTSTAMP:20260425T215133
CREATED:20240225T082703Z
LAST-MODIFIED:20240225T082703Z
UID:10019283-1710795000-1710798600@www.dancesoul.com.tw
SUMMARY:Jazz Funk-魏小美
DESCRIPTION:
URL:https://www.dancesoul.com.tw/schedule/jazz-funk-%e9%ad%8f%e5%b0%8f%e7%be%8e-69/2024-03-18/
CATEGORIES:Jazz Funk,常態課_一般,課程
END:VEVENT
BEGIN:VEVENT
DTSTART;TZID=Asia/Shanghai:20240319T183000
DTEND;TZID=Asia/Shanghai:20240319T193000
DTSTAMP:20260425T215133
CREATED:20240225T082812Z
LAST-MODIFIED:20240225T082812Z
UID:10019287-1710873000-1710876600@www.dancesoul.com.tw
SUMMARY:Hip Hop(初)-阿禾
DESCRIPTION:
URL:https://www.dancesoul.com.tw/schedule/hip-hop%e5%88%9d-%e9%98%bf%e7%a6%be-47/2024-03-19/
CATEGORIES:Hip Hop 初級,常態課_初級,課程
END:VEVENT
BEGIN:VEVENT
DTSTART;TZID=Asia/Shanghai:20240319T194000
DTEND;TZID=Asia/Shanghai:20240319T204000
DTSTAMP:20260425T215133
CREATED:20240225T082935Z
LAST-MODIFIED:20240225T082935Z
UID:10019291-1710877200-1710880800@www.dancesoul.com.tw
SUMMARY:Street Jazz-Denis
DESCRIPTION:
URL:https://www.dancesoul.com.tw/schedule/street-jazz-denis-42/2024-03-19/
CATEGORIES:STREET JAZZ,常態課_一般,課程
END:VEVENT
BEGIN:VEVENT
DTSTART;TZID=Asia/Shanghai:20240319T205000
DTEND;TZID=Asia/Shanghai:20240319T215000
DTSTAMP:20260425T215133
CREATED:20240225T083044Z
LAST-MODIFIED:20240225T083044Z
UID:10019296-1710881400-1710885000@www.dancesoul.com.tw
SUMMARY:Choreography-少麟
DESCRIPTION:
URL:https://www.dancesoul.com.tw/schedule/choreography-%e5%b0%91%e9%ba%9f-5/2024-03-19/
CATEGORIES:Choreography,常態課_一般,課程
END:VEVENT
BEGIN:VEVENT
DTSTART;TZID=Asia/Shanghai:20240320T183000
DTEND;TZID=Asia/Shanghai:20240320T193000
DTSTAMP:20260425T215133
CREATED:20240225T083230Z
LAST-MODIFIED:20240225T083230Z
UID:10019300-1710959400-1710963000@www.dancesoul.com.tw
SUMMARY:Street Jazz(初)-Kyle
DESCRIPTION:
URL:https://www.dancesoul.com.tw/schedule/street-jazz%e5%88%9d-kyle-10/2024-03-20/
CATEGORIES:STREET JAZZ 初級,常態課_初級,課程
END:VEVENT
BEGIN:VEVENT
DTSTART;TZID=Asia/Shanghai:20240320T194000
DTEND;TZID=Asia/Shanghai:20240320T204000
DTSTAMP:20260425T215133
CREATED:20240225T083327Z
LAST-MODIFIED:20240225T083327Z
UID:10019304-1710963600-1710967200@www.dancesoul.com.tw
SUMMARY:Street Jazz-Larry
DESCRIPTION:
URL:https://www.dancesoul.com.tw/schedule/street-jazz-larry-13/2024-03-20/
CATEGORIES:STREET JAZZ,常態課_一般,課程
END:VEVENT
BEGIN:VEVENT
DTSTART;TZID=Asia/Shanghai:20240320T205000
DTEND;TZID=Asia/Shanghai:20240320T215000
DTSTAMP:20260425T215133
CREATED:20240225T083512Z
LAST-MODIFIED:20240225T083512Z
UID:10019308-1710967800-1710971400@www.dancesoul.com.tw
SUMMARY:Free Style-承達
DESCRIPTION:
URL:https://www.dancesoul.com.tw/schedule/free-style-%e6%89%bf%e9%81%94-36/2024-03-20/
CATEGORIES:Freestyle,常態課_一般,課程
END:VEVENT
BEGIN:VEVENT
DTSTART;TZID=Asia/Shanghai:20240321T183000
DTEND;TZID=Asia/Shanghai:20240321T193000
DTSTAMP:20260425T215133
CREATED:20240225T083617Z
LAST-MODIFIED:20240225T083617Z
UID:10019312-1711045800-1711049400@www.dancesoul.com.tw
SUMMARY:Choreography-芭比
DESCRIPTION:
URL:https://www.dancesoul.com.tw/schedule/choreography-%e8%8a%ad%e6%af%94-19/2024-03-21/
CATEGORIES:Choreography,常態課_一般,課程
END:VEVENT
BEGIN:VEVENT
DTSTART;TZID=Asia/Shanghai:20240321T194000
DTEND;TZID=Asia/Shanghai:20240321T204000
DTSTAMP:20260425T215133
CREATED:20240225T083740Z
LAST-MODIFIED:20240225T083740Z
UID:10019316-1711050000-1711053600@www.dancesoul.com.tw
SUMMARY:Hip Hop-林彤
DESCRIPTION:
URL:https://www.dancesoul.com.tw/schedule/hip-hop-%e6%9e%97%e5%bd%a4-15/2024-03-21/
CATEGORIES:Hip Hop,常態課_一般,課程
END:VEVENT
BEGIN:VEVENT
DTSTART;TZID=Asia/Shanghai:20240321T205000
DTEND;TZID=Asia/Shanghai:20240321T215000
DTSTAMP:20260425T215133
CREATED:20240225T083831Z
LAST-MODIFIED:20240225T083831Z
UID:10019320-1711054200-1711057800@www.dancesoul.com.tw
SUMMARY:Jazz Funk-育暉
DESCRIPTION:
URL:https://www.dancesoul.com.tw/schedule/jazz-funk-%e8%82%b2%e6%9a%89-8/2024-03-21/
CATEGORIES:Jazz Funk,常態課_一般,課程
END:VEVENT
BEGIN:VEVENT
DTSTART;TZID=Asia/Shanghai:20240322T183000
DTEND;TZID=Asia/Shanghai:20240322T193000
DTSTAMP:20260425T215133
CREATED:20240225T083944Z
LAST-MODIFIED:20240225T083944Z
UID:10019325-1711132200-1711135800@www.dancesoul.com.tw
SUMMARY:Street Jazz(初)-Cen妹
DESCRIPTION:
URL:https://www.dancesoul.com.tw/schedule/street-jazz%e5%88%9d-cen%e5%a6%b9-29/2024-03-22/
CATEGORIES:STREET JAZZ 初級,常態課_初級,課程
END:VEVENT
BEGIN:VEVENT
DTSTART;TZID=Asia/Shanghai:20240322T194000
DTEND;TZID=Asia/Shanghai:20240322T204000
DTSTAMP:20260425T215133
CREATED:20240225T084111Z
LAST-MODIFIED:20240225T084111Z
UID:10019330-1711136400-1711140000@www.dancesoul.com.tw
SUMMARY:Hip Hop(初)-佐佐
DESCRIPTION:
URL:https://www.dancesoul.com.tw/schedule/hip-hop%e5%88%9d-%e4%bd%90%e4%bd%90-8/2024-03-22/
CATEGORIES:Hip Hop 初級,常態課_初級,課程
END:VEVENT
BEGIN:VEVENT
DTSTART;TZID=Asia/Shanghai:20240322T205000
DTEND;TZID=Asia/Shanghai:20240322T215000
DTSTAMP:20260425T215133
CREATED:20240225T084204Z
LAST-MODIFIED:20240225T084204Z
UID:10019335-1711140600-1711144200@www.dancesoul.com.tw
SUMMARY:Jazz Funk-鈴鐺
DESCRIPTION:
URL:https://www.dancesoul.com.tw/schedule/jazz-funk-%e9%88%b4%e9%90%ba-16/2024-03-22/
CATEGORIES:Jazz Funk,常態課_一般,課程
END:VEVENT
BEGIN:VEVENT
DTSTART;TZID=Asia/Shanghai:20240323T132000
DTEND;TZID=Asia/Shanghai:20240323T142000
DTSTAMP:20260425T215133
CREATED:20240225T070405Z
LAST-MODIFIED:20240225T070405Z
UID:10019211-1711200000-1711203600@www.dancesoul.com.tw
SUMMARY:兒童街舞-薇臻
DESCRIPTION:
URL:https://www.dancesoul.com.tw/schedule/%e5%85%92%e7%ab%a5%e8%a1%97%e8%88%9e-%e8%96%87%e8%87%bb-4/2024-03-23/
CATEGORIES:兒童街舞,兒童課,課程
END:VEVENT
BEGIN:VEVENT
DTSTART;TZID=Asia/Shanghai:20240323T143000
DTEND;TZID=Asia/Shanghai:20240323T153000
DTSTAMP:20260425T215133
CREATED:20240225T070638Z
LAST-MODIFIED:20240225T070638Z
UID:10019216-1711204200-1711207800@www.dancesoul.com.tw
SUMMARY:兒童MV-(NMIXX - Dash)-薇臻
DESCRIPTION:
URL:https://www.dancesoul.com.tw/schedule/%e5%85%92%e7%ab%a5mv-nmixx-dash-%e8%96%87%e8%87%bb/2024-03-23/
CATEGORIES:兒童MV,兒童課,課程
END:VEVENT
BEGIN:VEVENT
DTSTART;TZID=Asia/Shanghai:20240323T154000
DTEND;TZID=Asia/Shanghai:20240323T164000
DTSTAMP:20260425T215133
CREATED:20240225T070827Z
LAST-MODIFIED:20240225T070827Z
UID:10019221-1711208400-1711212000@www.dancesoul.com.tw
SUMMARY:兒童街舞-傘傘
DESCRIPTION:
URL:https://www.dancesoul.com.tw/schedule/%e5%85%92%e7%ab%a5%e8%a1%97%e8%88%9e-%e5%82%98%e5%82%98-32/2024-03-23/
CATEGORIES:兒童街舞,兒童課,課程
END:VEVENT
BEGIN:VEVENT
DTSTART;TZID=Asia/Shanghai:20240323T165000
DTEND;TZID=Asia/Shanghai:20240323T175000
DTSTAMP:20260425T215133
CREATED:20240225T071241Z
LAST-MODIFIED:20240225T071241Z
UID:10019226-1711212600-1711216200@www.dancesoul.com.tw
SUMMARY:MV-(NMIXX - Dash)-薇臻
DESCRIPTION:
URL:https://www.dancesoul.com.tw/schedule/mv-nmixx-dash-%e8%96%87%e8%87%bb/2024-03-23/
CATEGORIES:MV課,課程
END:VEVENT
BEGIN:VEVENT
DTSTART;TZID=Asia/Shanghai:20240323T180000
DTEND;TZID=Asia/Shanghai:20240323T190000
DTSTAMP:20260425T215133
CREATED:20240225T071431Z
LAST-MODIFIED:20240225T071431Z
UID:10019231-1711216800-1711220400@www.dancesoul.com.tw
SUMMARY:Popping-紀威
DESCRIPTION:
URL:https://www.dancesoul.com.tw/schedule/popping-%e7%b4%80%e5%a8%81-38/2024-03-23/
CATEGORIES:Poppin,常態課_一般,課程
END:VEVENT
BEGIN:VEVENT
DTSTART;TZID=Asia/Shanghai:20240323T191000
DTEND;TZID=Asia/Shanghai:20240323T201000
DTSTAMP:20260425T215133
CREATED:20240225T071529Z
LAST-MODIFIED:20240225T071529Z
UID:10019236-1711221000-1711224600@www.dancesoul.com.tw
SUMMARY:Hip Hop(初)-阿祥
DESCRIPTION:
URL:https://www.dancesoul.com.tw/schedule/hip-hop%e5%88%9d-%e9%98%bf%e7%a5%a5-11/2024-03-23/
CATEGORIES:Hip Hop 初級,常態課_初級,課程
END:VEVENT
BEGIN:VEVENT
DTSTART;TZID=Asia/Shanghai:20240323T202000
DTEND;TZID=Asia/Shanghai:20240323T212000
DTSTAMP:20260425T215133
CREATED:20240225T071715Z
LAST-MODIFIED:20240225T071715Z
UID:10019241-1711225200-1711228800@www.dancesoul.com.tw
SUMMARY:基礎入門-雞蛋
DESCRIPTION:
URL:https://www.dancesoul.com.tw/schedule/%e5%9f%ba%e7%a4%8e%e5%85%a5%e9%96%80-%e9%9b%9e%e8%9b%8b-25/2024-03-23/
CATEGORIES:基礎入門,常態課_初級,課程
END:VEVENT
BEGIN:VEVENT
DTSTART;TZID=Asia/Shanghai:20240324T132000
DTEND;TZID=Asia/Shanghai:20240324T142000
DTSTAMP:20260425T215133
CREATED:20240225T072102Z
LAST-MODIFIED:20240225T072102Z
UID:10019246-1711286400-1711290000@www.dancesoul.com.tw
SUMMARY:兒童街舞-羿芃
DESCRIPTION:
URL:https://www.dancesoul.com.tw/schedule/%e5%85%92%e7%ab%a5%e8%a1%97%e8%88%9e-%e7%be%bf%e8%8a%83-3/2024-03-24/
CATEGORIES:兒童街舞,兒童課,課程
END:VEVENT
BEGIN:VEVENT
DTSTART;TZID=Asia/Shanghai:20240324T143000
DTEND;TZID=Asia/Shanghai:20240324T153000
DTSTAMP:20260425T215133
CREATED:20240225T072357Z
LAST-MODIFIED:20240225T072357Z
UID:10019251-1711290600-1711294200@www.dancesoul.com.tw
SUMMARY:兒童MV-(LE SSERAFIM - Swan Song)-羿芃
DESCRIPTION:
URL:https://www.dancesoul.com.tw/schedule/%e5%85%92%e7%ab%a5mv-le-sserafim-swan-song-%e7%be%bf%e8%8a%83/2024-03-24/
CATEGORIES:兒童MV,兒童課,課程
END:VEVENT
BEGIN:VEVENT
DTSTART;TZID=Asia/Shanghai:20240324T154000
DTEND;TZID=Asia/Shanghai:20240324T164000
DTSTAMP:20260425T215133
CREATED:20240225T081631Z
LAST-MODIFIED:20240225T081631Z
UID:10019256-1711294800-1711298400@www.dancesoul.com.tw
SUMMARY:兒童街舞-傘傘
DESCRIPTION:
URL:https://www.dancesoul.com.tw/schedule/%e5%85%92%e7%ab%a5%e8%a1%97%e8%88%9e-%e5%82%98%e5%82%98-33/2024-03-24/
CATEGORIES:兒童MV,兒童課,課程
END:VEVENT
BEGIN:VEVENT
DTSTART;TZID=Asia/Shanghai:20240324T165000
DTEND;TZID=Asia/Shanghai:20240324T175000
DTSTAMP:20260425T215133
CREATED:20240225T081824Z
LAST-MODIFIED:20240225T081824Z
UID:10019261-1711299000-1711302600@www.dancesoul.com.tw
SUMMARY:MV-((G)I-DLE - Super Lady)-瑜庭
DESCRIPTION:
URL:https://www.dancesoul.com.tw/schedule/mv-gi-dle-super-lady-%e7%91%9c%e5%ba%ad/2024-03-24/
CATEGORIES:MV課,課程
END:VEVENT
BEGIN:VEVENT
DTSTART;TZID=Asia/Shanghai:20240324T180000
DTEND;TZID=Asia/Shanghai:20240324T190000
DTSTAMP:20260425T215133
CREATED:20240225T082018Z
LAST-MODIFIED:20240225T082018Z
UID:10019266-1711303200-1711306800@www.dancesoul.com.tw
SUMMARY:Street Jazz-育暉
DESCRIPTION:
URL:https://www.dancesoul.com.tw/schedule/street-jazz-%e8%82%b2%e6%9a%89-45/2024-03-24/
CATEGORIES:STREET JAZZ,常態課_一般,課程
END:VEVENT
BEGIN:VEVENT
DTSTART;TZID=Asia/Shanghai:20240324T191000
DTEND;TZID=Asia/Shanghai:20240324T201000
DTSTAMP:20260425T215133
CREATED:20240225T082122Z
LAST-MODIFIED:20240225T082122Z
UID:10019271-1711307400-1711311000@www.dancesoul.com.tw
SUMMARY:Free Style(初)-佳儒
DESCRIPTION:
URL:https://www.dancesoul.com.tw/schedule/free-style%e5%88%9d-%e4%bd%b3%e5%84%92-7/2024-03-24/
CATEGORIES:Freestyle 初級,常態課_初級,課程
END:VEVENT
END:VCALENDAR