BEGIN:VCALENDAR
VERSION:2.0
PRODID:-//DANCE SOUL 舞魂街舞學校 - ECPv6.15.18//NONSGML v1.0//EN
CALSCALE:GREGORIAN
METHOD:PUBLISH
X-WR-CALNAME:DANCE SOUL 舞魂街舞學校
X-ORIGINAL-URL:https://www.dancesoul.com.tw
X-WR-CALDESC:Events for DANCE SOUL 舞魂街舞學校
REFRESH-INTERVAL;VALUE=DURATION:PT1H
X-Robots-Tag:noindex
X-PUBLISHED-TTL:PT1H
BEGIN:VTIMEZONE
TZID:Asia/Shanghai
BEGIN:STANDARD
TZOFFSETFROM:+0800
TZOFFSETTO:+0800
TZNAME:CST
DTSTART:20230101T000000
END:STANDARD
END:VTIMEZONE
BEGIN:VEVENT
DTSTART;TZID=Asia/Shanghai:20240715T150000
DTEND;TZID=Asia/Shanghai:20240715T160000
DTSTAMP:20260422T033141
CREATED:20240625T085801Z
LAST-MODIFIED:20240625T085801Z
UID:10019912-1721055600-1721059200@www.dancesoul.com.tw
SUMMARY:兒童MV-(IVE - Accendio)-昀珊
DESCRIPTION:
URL:https://www.dancesoul.com.tw/schedule/%e5%85%92%e7%ab%a5mv-ive-accendio-%e6%98%80%e7%8f%8a/2024-07-15/
CATEGORIES:兒童MV,兒童課,課程
END:VEVENT
BEGIN:VEVENT
DTSTART;TZID=Asia/Shanghai:20240715T161000
DTEND;TZID=Asia/Shanghai:20240715T171000
DTSTAMP:20260422T033141
CREATED:20240624T090420Z
LAST-MODIFIED:20240624T090420Z
UID:10019773-1721059800-1721063400@www.dancesoul.com.tw
SUMMARY:Street Jazz(初)-Kyle
DESCRIPTION:
URL:https://www.dancesoul.com.tw/schedule/street-jazz%e5%88%9d-kyle-14/2024-07-15/
CATEGORIES:STREET JAZZ 初級,常態課_初級,課程
END:VEVENT
BEGIN:VEVENT
DTSTART;TZID=Asia/Shanghai:20240715T172000
DTEND;TZID=Asia/Shanghai:20240715T182000
DTSTAMP:20260422T033141
CREATED:20240624T090618Z
LAST-MODIFIED:20240624T090618Z
UID:10019778-1721064000-1721067600@www.dancesoul.com.tw
SUMMARY:Choreography-俊宏
DESCRIPTION:
URL:https://www.dancesoul.com.tw/schedule/choreography-%e4%bf%8a%e5%ae%8f/2024-07-15/
CATEGORIES:Choreography,常態課_一般,課程
END:VEVENT
BEGIN:VEVENT
DTSTART;TZID=Asia/Shanghai:20240715T183000
DTEND;TZID=Asia/Shanghai:20240715T193000
DTSTAMP:20260422T033141
CREATED:20240624T090709Z
LAST-MODIFIED:20240624T090709Z
UID:10019783-1721068200-1721071800@www.dancesoul.com.tw
SUMMARY:Twerk(初)-碗公
DESCRIPTION:
URL:https://www.dancesoul.com.tw/schedule/twerk%e5%88%9d-%e7%a2%97%e5%85%ac-32/2024-07-15/
CATEGORIES:Twerk 初級,常態課_初級,課程
END:VEVENT
BEGIN:VEVENT
DTSTART;TZID=Asia/Shanghai:20240715T194000
DTEND;TZID=Asia/Shanghai:20240715T204000
DTSTAMP:20260422T033141
CREATED:20240624T090839Z
LAST-MODIFIED:20240624T090839Z
UID:10019788-1721072400-1721076000@www.dancesoul.com.tw
SUMMARY:Heels(初)-宋靜
DESCRIPTION:
URL:https://www.dancesoul.com.tw/schedule/heels%e5%88%9d-%e5%ae%8b%e9%9d%9c-30/2024-07-15/
CATEGORIES:Heels 初級,常態課_初級,課程
END:VEVENT
BEGIN:VEVENT
DTSTART;TZID=Asia/Shanghai:20240715T205000
DTEND;TZID=Asia/Shanghai:20240715T215000
DTSTAMP:20260422T033141
CREATED:20240624T090926Z
LAST-MODIFIED:20240624T090926Z
UID:10019793-1721076600-1721080200@www.dancesoul.com.tw
SUMMARY:Jazz Funk-魏小美
DESCRIPTION:
URL:https://www.dancesoul.com.tw/schedule/jazz-funk-%e9%ad%8f%e5%b0%8f%e7%be%8e-73/2024-07-15/
CATEGORIES:Jazz Funk,常態課_一般,課程
END:VEVENT
BEGIN:VEVENT
DTSTART;TZID=Asia/Shanghai:20240716T150000
DTEND;TZID=Asia/Shanghai:20240716T160000
DTSTAMP:20260422T033141
CREATED:20240625T090729Z
LAST-MODIFIED:20240625T090729Z
UID:10019926-1721142000-1721145600@www.dancesoul.com.tw
SUMMARY:兒童MV-(NAYEON - ABCD)-薇臻
DESCRIPTION:
URL:https://www.dancesoul.com.tw/schedule/%e5%85%92%e7%ab%a5mv-nayeon-abcd-%e8%96%87%e8%87%bb/2024-07-16/
CATEGORIES:兒童MV,兒童課,課程
END:VEVENT
BEGIN:VEVENT
DTSTART;TZID=Asia/Shanghai:20240716T161000
DTEND;TZID=Asia/Shanghai:20240716T171000
DTSTAMP:20260422T033141
CREATED:20240624T091557Z
LAST-MODIFIED:20240624T091557Z
UID:10019816-1721146200-1721149800@www.dancesoul.com.tw
SUMMARY:Waacking(初)-品后
DESCRIPTION:
URL:https://www.dancesoul.com.tw/schedule/waacking%e5%88%9d-%e5%93%81%e5%90%8e-5/2024-07-16/
CATEGORIES:Waacking 初級,常態課_初級,課程
END:VEVENT
BEGIN:VEVENT
DTSTART;TZID=Asia/Shanghai:20240716T172000
DTEND;TZID=Asia/Shanghai:20240716T182000
DTSTAMP:20260422T033141
CREATED:20240624T091655Z
LAST-MODIFIED:20240624T091751Z
UID:10019826-1721150400-1721154000@www.dancesoul.com.tw
SUMMARY:Hip Hop-子賢
DESCRIPTION:
URL:https://www.dancesoul.com.tw/schedule/hip-hop-%e5%ad%90%e8%b3%a2/2024-07-16/
CATEGORIES:Hip Hop,常態課_一般,課程
END:VEVENT
BEGIN:VEVENT
DTSTART;TZID=Asia/Shanghai:20240716T183000
DTEND;TZID=Asia/Shanghai:20240716T193000
DTSTAMP:20260422T033141
CREATED:20240624T092021Z
LAST-MODIFIED:20240624T092021Z
UID:10019831-1721154600-1721158200@www.dancesoul.com.tw
SUMMARY:Free Style(初)-俊宏
DESCRIPTION:
URL:https://www.dancesoul.com.tw/schedule/free-style%e5%88%9d-%e4%bf%8a%e5%ae%8f-22/2024-07-16/
CATEGORIES:Freestyle 初級,常態課_初級,課程
END:VEVENT
BEGIN:VEVENT
DTSTART;TZID=Asia/Shanghai:20240716T194000
DTEND;TZID=Asia/Shanghai:20240716T204000
DTSTAMP:20260422T033141
CREATED:20240624T092110Z
LAST-MODIFIED:20240624T092110Z
UID:10019836-1721158800-1721162400@www.dancesoul.com.tw
SUMMARY:Street Jazz-Denis
DESCRIPTION:
URL:https://www.dancesoul.com.tw/schedule/street-jazz-denis-46/2024-07-16/
CATEGORIES:STREET JAZZ,常態課_一般,課程
END:VEVENT
BEGIN:VEVENT
DTSTART;TZID=Asia/Shanghai:20240716T205000
DTEND;TZID=Asia/Shanghai:20240716T215000
DTSTAMP:20260422T033141
CREATED:20240624T092244Z
LAST-MODIFIED:20240624T092244Z
UID:10019841-1721163000-1721166600@www.dancesoul.com.tw
SUMMARY:Choreography-少麟
DESCRIPTION:
URL:https://www.dancesoul.com.tw/schedule/choreography-%e5%b0%91%e9%ba%9f-10/2024-07-16/
CATEGORIES:Choreography,常態課_一般,課程
END:VEVENT
BEGIN:VEVENT
DTSTART;TZID=Asia/Shanghai:20240717T150000
DTEND;TZID=Asia/Shanghai:20240717T160000
DTSTAMP:20260422T033141
CREATED:20240625T090011Z
LAST-MODIFIED:20240625T090011Z
UID:10019916-1721228400-1721232000@www.dancesoul.com.tw
SUMMARY:兒童MV-(ILLIT - Magnetic)-昀珊
DESCRIPTION:
URL:https://www.dancesoul.com.tw/schedule/%e5%85%92%e7%ab%a5mv-illit-magnetic-%e6%98%80%e7%8f%8a/2024-07-17/
CATEGORIES:兒童MV,兒童課,課程
END:VEVENT
BEGIN:VEVENT
DTSTART;TZID=Asia/Shanghai:20240717T161000
DTEND;TZID=Asia/Shanghai:20240717T171000
DTSTAMP:20260422T033141
CREATED:20240624T092336Z
LAST-MODIFIED:20240624T092336Z
UID:10019846-1721232600-1721236200@www.dancesoul.com.tw
SUMMARY:基礎入門-無盡
DESCRIPTION:
URL:https://www.dancesoul.com.tw/schedule/%e5%9f%ba%e7%a4%8e%e5%85%a5%e9%96%80-%e7%84%a1%e7%9b%a1-5/2024-07-17/
CATEGORIES:基礎入門,常態課_初級,課程
END:VEVENT
BEGIN:VEVENT
DTSTART;TZID=Asia/Shanghai:20240717T172000
DTEND;TZID=Asia/Shanghai:20240717T182000
DTSTAMP:20260422T033141
CREATED:20240624T092529Z
LAST-MODIFIED:20240624T092529Z
UID:10019851-1721236800-1721240400@www.dancesoul.com.tw
SUMMARY:Choreography-七七
DESCRIPTION:
URL:https://www.dancesoul.com.tw/schedule/choreography-%e4%b8%83%e4%b8%83/2024-07-17/
CATEGORIES:Choreography,常態課_一般,課程
END:VEVENT
BEGIN:VEVENT
DTSTART;TZID=Asia/Shanghai:20240717T183000
DTEND;TZID=Asia/Shanghai:20240717T193000
DTSTAMP:20260422T033141
CREATED:20240624T092623Z
LAST-MODIFIED:20240624T092623Z
UID:10019856-1721241000-1721244600@www.dancesoul.com.tw
SUMMARY:Street Jazz(初)-Kyle
DESCRIPTION:
URL:https://www.dancesoul.com.tw/schedule/street-jazz%e5%88%9d-kyle-15/2024-07-17/
CATEGORIES:STREET JAZZ 初級,常態課_初級,課程
END:VEVENT
BEGIN:VEVENT
DTSTART;TZID=Asia/Shanghai:20240717T194000
DTEND;TZID=Asia/Shanghai:20240717T204000
DTSTAMP:20260422T033141
CREATED:20240624T092800Z
LAST-MODIFIED:20240624T092800Z
UID:10019861-1721245200-1721248800@www.dancesoul.com.tw
SUMMARY:Street Jazz-Larry
DESCRIPTION:
URL:https://www.dancesoul.com.tw/schedule/street-jazz-larry-17/2024-07-17/
CATEGORIES:STREET JAZZ,常態課_一般,課程
END:VEVENT
BEGIN:VEVENT
DTSTART;TZID=Asia/Shanghai:20240717T205000
DTEND;TZID=Asia/Shanghai:20240717T215000
DTSTAMP:20260422T033141
CREATED:20240624T092858Z
LAST-MODIFIED:20240624T092858Z
UID:10019866-1721249400-1721253000@www.dancesoul.com.tw
SUMMARY:Free Style-承達
DESCRIPTION:
URL:https://www.dancesoul.com.tw/schedule/free-style-%e6%89%bf%e9%81%94-40/2024-07-17/
CATEGORIES:Freestyle,常態課_一般,課程
END:VEVENT
BEGIN:VEVENT
DTSTART;TZID=Asia/Shanghai:20240718T150000
DTEND;TZID=Asia/Shanghai:20240718T160000
DTSTAMP:20260422T033141
CREATED:20240625T091051Z
LAST-MODIFIED:20240625T091051Z
UID:10019931-1721314800-1721318400@www.dancesoul.com.tw
SUMMARY:兒童MV-(SUNMI - Balloon in Love)-薇臻
DESCRIPTION:
URL:https://www.dancesoul.com.tw/schedule/%e5%85%92%e7%ab%a5mv-sunmi-balloon-in-love-%e8%96%87%e8%87%bb/2024-07-18/
CATEGORIES:兒童MV,兒童課,課程
END:VEVENT
BEGIN:VEVENT
DTSTART;TZID=Asia/Shanghai:20240718T161000
DTEND;TZID=Asia/Shanghai:20240718T171000
DTSTAMP:20260422T033141
CREATED:20240624T093104Z
LAST-MODIFIED:20240624T093104Z
UID:10019871-1721319000-1721322600@www.dancesoul.com.tw
SUMMARY:基礎入門-承翰
DESCRIPTION:
URL:https://www.dancesoul.com.tw/schedule/%e5%9f%ba%e7%a4%8e%e5%85%a5%e9%96%80-%e6%89%bf%e7%bf%b0/2024-07-18/
CATEGORIES:基礎入門,常態課_初級,課程
END:VEVENT
BEGIN:VEVENT
DTSTART;TZID=Asia/Shanghai:20240718T172000
DTEND;TZID=Asia/Shanghai:20240718T182000
DTSTAMP:20260422T033141
CREATED:20240624T093157Z
LAST-MODIFIED:20240624T093157Z
UID:10019875-1721323200-1721326800@www.dancesoul.com.tw
SUMMARY:Lyrical Jazz-瑜庭
DESCRIPTION:
URL:https://www.dancesoul.com.tw/schedule/lyrical-jazz-%e7%91%9c%e5%ba%ad/2024-07-18/
CATEGORIES:Lyrical Jazz,常態課_一般,課程
END:VEVENT
BEGIN:VEVENT
DTSTART;TZID=Asia/Shanghai:20240718T183000
DTEND;TZID=Asia/Shanghai:20240718T193000
DTSTAMP:20260422T033141
CREATED:20240624T093341Z
LAST-MODIFIED:20240624T093341Z
UID:10019880-1721327400-1721331000@www.dancesoul.com.tw
SUMMARY:Choreography-芭比
DESCRIPTION:
URL:https://www.dancesoul.com.tw/schedule/choreography-%e8%8a%ad%e6%af%94-23/2024-07-18/
CATEGORIES:Choreography,常態課_一般,課程
END:VEVENT
BEGIN:VEVENT
DTSTART;TZID=Asia/Shanghai:20240718T194000
DTEND;TZID=Asia/Shanghai:20240718T204000
DTSTAMP:20260422T033141
CREATED:20240624T093435Z
LAST-MODIFIED:20240624T093435Z
UID:10019884-1721331600-1721335200@www.dancesoul.com.tw
SUMMARY:Hip Hop-林彤
DESCRIPTION:
URL:https://www.dancesoul.com.tw/schedule/hip-hop-%e6%9e%97%e5%bd%a4-19/2024-07-18/
CATEGORIES:Hip Hop,常態課_一般,課程
END:VEVENT
BEGIN:VEVENT
DTSTART;TZID=Asia/Shanghai:20240718T205000
DTEND;TZID=Asia/Shanghai:20240718T215000
DTSTAMP:20260422T033141
CREATED:20240624T093616Z
LAST-MODIFIED:20240624T093616Z
UID:10019888-1721335800-1721339400@www.dancesoul.com.tw
SUMMARY:Afro Style-巴豪
DESCRIPTION:
URL:https://www.dancesoul.com.tw/schedule/afro-style-%e5%b7%b4%e8%b1%aa-2/2024-07-18/
CATEGORIES:Afro Style,常態課_一般,課程
END:VEVENT
BEGIN:VEVENT
DTSTART;TZID=Asia/Shanghai:20240719T150000
DTEND;TZID=Asia/Shanghai:20240719T160000
DTSTAMP:20260422T033141
CREATED:20240625T090147Z
LAST-MODIFIED:20240625T090147Z
UID:10019920-1721401200-1721404800@www.dancesoul.com.tw
SUMMARY:兒童MV-(NAYEON - ABCD)-昀珊
DESCRIPTION:
URL:https://www.dancesoul.com.tw/schedule/%e5%85%92%e7%ab%a5mv-nayeon-abcd-%e6%98%80%e7%8f%8a/2024-07-19/
CATEGORIES:兒童MV,兒童課,課程
END:VEVENT
BEGIN:VEVENT
DTSTART;TZID=Asia/Shanghai:20240719T161000
DTEND;TZID=Asia/Shanghai:20240719T171000
DTSTAMP:20260422T033141
CREATED:20240624T093755Z
LAST-MODIFIED:20240624T093755Z
UID:10019892-1721405400-1721409000@www.dancesoul.com.tw
SUMMARY:Jazz Funk(初)-Larry
DESCRIPTION:
URL:https://www.dancesoul.com.tw/schedule/jazz-funk%e5%88%9d-larry-3/2024-07-19/
CATEGORIES:Jazz Funk 初級,常態課_初級,課程
END:VEVENT
BEGIN:VEVENT
DTSTART;TZID=Asia/Shanghai:20240719T172000
DTEND;TZID=Asia/Shanghai:20240719T182000
DTSTAMP:20260422T033141
CREATED:20240624T094023Z
LAST-MODIFIED:20240624T094023Z
UID:10019896-1721409600-1721413200@www.dancesoul.com.tw
SUMMARY:Choreography-達達
DESCRIPTION:
URL:https://www.dancesoul.com.tw/schedule/choreography-%e9%81%94%e9%81%94/2024-07-19/
CATEGORIES:Choreography,常態課_一般,課程
END:VEVENT
BEGIN:VEVENT
DTSTART;TZID=Asia/Shanghai:20240719T183000
DTEND;TZID=Asia/Shanghai:20240719T193000
DTSTAMP:20260422T033141
CREATED:20240624T094129Z
LAST-MODIFIED:20240624T094129Z
UID:10019900-1721413800-1721417400@www.dancesoul.com.tw
SUMMARY:Street Jazz(初)-Cen妹
DESCRIPTION:
URL:https://www.dancesoul.com.tw/schedule/street-jazz%e5%88%9d-cen%e5%a6%b9-33/2024-07-19/
CATEGORIES:STREET JAZZ 初級,常態課_初級,課程
END:VEVENT
BEGIN:VEVENT
DTSTART;TZID=Asia/Shanghai:20240719T194000
DTEND;TZID=Asia/Shanghai:20240719T204000
DTSTAMP:20260422T033141
CREATED:20240624T094259Z
LAST-MODIFIED:20240624T094259Z
UID:10019904-1721418000-1721421600@www.dancesoul.com.tw
SUMMARY:Hip Hop(初)-佐佐
DESCRIPTION:
URL:https://www.dancesoul.com.tw/schedule/hip-hop%e5%88%9d-%e4%bd%90%e4%bd%90-12/2024-07-19/
CATEGORIES:Hip Hop 初級,常態課_初級,課程
END:VEVENT
BEGIN:VEVENT
DTSTART;TZID=Asia/Shanghai:20240719T205000
DTEND;TZID=Asia/Shanghai:20240719T215000
DTSTAMP:20260422T033141
CREATED:20240624T094352Z
LAST-MODIFIED:20240624T094352Z
UID:10019908-1721422200-1721425800@www.dancesoul.com.tw
SUMMARY:Jazz Funk-鈴鐺
DESCRIPTION:
URL:https://www.dancesoul.com.tw/schedule/jazz-funk-%e9%88%b4%e9%90%ba-20/2024-07-19/
CATEGORIES:Jazz Funk,常態課_一般,課程
END:VEVENT
END:VCALENDAR