BEGIN:VCALENDAR
VERSION:2.0
PRODID:-//DANCE SOUL 舞魂街舞學校 - ECPv6.15.18//NONSGML v1.0//EN
CALSCALE:GREGORIAN
METHOD:PUBLISH
X-WR-CALNAME:DANCE SOUL 舞魂街舞學校
X-ORIGINAL-URL:https://www.dancesoul.com.tw
X-WR-CALDESC:Events for DANCE SOUL 舞魂街舞學校
REFRESH-INTERVAL;VALUE=DURATION:PT1H
X-Robots-Tag:noindex
X-PUBLISHED-TTL:PT1H
BEGIN:VTIMEZONE
TZID:Asia/Shanghai
BEGIN:STANDARD
TZOFFSETFROM:+0800
TZOFFSETTO:+0800
TZNAME:CST
DTSTART:20240101T000000
END:STANDARD
END:VTIMEZONE
BEGIN:VEVENT
DTSTART;TZID=Asia/Shanghai:20250127T143000
DTEND;TZID=Asia/Shanghai:20250127T153000
DTSTAMP:20260421T053650
CREATED:20241231T033812Z
LAST-MODIFIED:20250102T092910Z
UID:10020951-1737988200-1737991800@www.dancesoul.com.tw
SUMMARY:Vogue Fem-默默
DESCRIPTION:
URL:https://www.dancesoul.com.tw/schedule/vogue-fem-%e9%bb%98%e9%bb%98/
CATEGORIES:Vigue Fem,常態課_一般,課程
END:VEVENT
BEGIN:VEVENT
DTSTART;TZID=Asia/Shanghai:20250127T154000
DTEND;TZID=Asia/Shanghai:20250127T164000
DTSTAMP:20260421T053650
CREATED:20241231T033553Z
LAST-MODIFIED:20250102T092951Z
UID:10020950-1737992400-1737996000@www.dancesoul.com.tw
SUMMARY:基礎入門-俊宏
DESCRIPTION:
URL:https://www.dancesoul.com.tw/schedule/%e5%9f%ba%e7%a4%8e%e5%85%a5%e9%96%80-%e4%bf%8a%e5%ae%8f-3/
CATEGORIES:基礎入門,常態課_初級,課程
END:VEVENT
BEGIN:VEVENT
DTSTART;TZID=Asia/Shanghai:20250127T165000
DTEND;TZID=Asia/Shanghai:20250127T175000
DTSTAMP:20260421T053650
CREATED:20241231T033904Z
LAST-MODIFIED:20250102T093022Z
UID:10020952-1737996600-1738000200@www.dancesoul.com.tw
SUMMARY:Heels-姿昀
DESCRIPTION:
URL:https://www.dancesoul.com.tw/schedule/heels-%e5%a7%bf%e6%98%80/
CATEGORIES:Heels,常態課_一般,課程
END:VEVENT
BEGIN:VEVENT
DTSTART;TZID=Asia/Shanghai:20250127T182000
DTEND;TZID=Asia/Shanghai:20250127T192000
DTSTAMP:20260421T053650
CREATED:20241230T071350Z
LAST-MODIFIED:20241230T071350Z
UID:10020762-1738002000-1738005600@www.dancesoul.com.tw
SUMMARY:Twerk(初)-碗公
DESCRIPTION:
URL:https://www.dancesoul.com.tw/schedule/twerk%e5%88%9d-%e7%a2%97%e5%85%ac-38/2025-01-27/
CATEGORIES:Twerk 初級,常態課_初級,課程
END:VEVENT
BEGIN:VEVENT
DTSTART;TZID=Asia/Shanghai:20250127T192500
DTEND;TZID=Asia/Shanghai:20250127T202500
DTSTAMP:20260421T053650
CREATED:20241230T071706Z
LAST-MODIFIED:20241230T071706Z
UID:10020766-1738005900-1738009500@www.dancesoul.com.tw
SUMMARY:Heels(初)-宋靜
DESCRIPTION:
URL:https://www.dancesoul.com.tw/schedule/heels%e5%88%9d-%e5%ae%8b%e9%9d%9c-36/2025-01-27/
CATEGORIES:Heels 初級,常態課_初級,課程
END:VEVENT
BEGIN:VEVENT
DTSTART;TZID=Asia/Shanghai:20250127T203000
DTEND;TZID=Asia/Shanghai:20250127T213000
DTSTAMP:20260421T053650
CREATED:20241230T071800Z
LAST-MODIFIED:20241230T071800Z
UID:10020770-1738009800-1738013400@www.dancesoul.com.tw
SUMMARY:Jazz Funk-魏小美
DESCRIPTION:
URL:https://www.dancesoul.com.tw/schedule/jazz-funk-%e9%ad%8f%e5%b0%8f%e7%be%8e-79/2025-01-27/
CATEGORIES:Jazz Funk,Jazz Funk 初級,Waacking 初級,常態課_一般,課程
END:VEVENT
BEGIN:VEVENT
DTSTART;TZID=Asia/Shanghai:20250202T132000
DTEND;TZID=Asia/Shanghai:20250202T142000
DTSTAMP:20260421T053650
CREATED:20250124T080647Z
LAST-MODIFIED:20250124T080840Z
UID:10020957-1738502400-1738506000@www.dancesoul.com.tw
SUMMARY:兒童街舞-羿芃
DESCRIPTION:
URL:https://www.dancesoul.com.tw/schedule/%e5%85%92%e7%ab%a5%e8%a1%97%e8%88%9e-%e7%be%bf%e8%8a%83-14/2025-02-02/
CATEGORIES:Popping 初級,兒童街舞,兒童課,課程
END:VEVENT
BEGIN:VEVENT
DTSTART;TZID=Asia/Shanghai:20250202T143000
DTEND;TZID=Asia/Shanghai:20250202T153000
DTSTAMP:20260421T053650
CREATED:20250126T122028Z
LAST-MODIFIED:20250126T122028Z
UID:10021137-1738506600-1738510200@www.dancesoul.com.tw
SUMMARY:兒童MV-(BABYMONSTER - Really Like You)-羿芃
DESCRIPTION:
URL:https://www.dancesoul.com.tw/schedule/%e5%85%92%e7%ab%a5mv-babymonster-really-like-you-%e7%be%bf%e8%8a%83/2025-02-02/
CATEGORIES:Popping 初級,兒童MV,兒童課,課程
END:VEVENT
BEGIN:VEVENT
DTSTART;TZID=Asia/Shanghai:20250202T154000
DTEND;TZID=Asia/Shanghai:20250202T164000
DTSTAMP:20260421T053650
CREATED:20250124T080745Z
LAST-MODIFIED:20250124T080855Z
UID:10020958-1738510800-1738514400@www.dancesoul.com.tw
SUMMARY:兒童 Street Jazz-傘傘
DESCRIPTION:
URL:https://www.dancesoul.com.tw/schedule/%e5%85%92%e7%ab%a5-street-jazz-%e5%82%98%e5%82%98-6/2025-02-02/
CATEGORIES:Popping 初級,兒童 Street Jazz,兒童課,課程
END:VEVENT
BEGIN:VEVENT
DTSTART;TZID=Asia/Shanghai:20250202T165000
DTEND;TZID=Asia/Shanghai:20250202T175000
DTSTAMP:20260421T053650
CREATED:20250125T054106Z
LAST-MODIFIED:20250127T071630Z
UID:10020965-1738515000-1738518600@www.dancesoul.com.tw
SUMMARY:MV-(MINNIE-HER)-瑜庭
DESCRIPTION:
URL:https://www.dancesoul.com.tw/schedule/mv-gfriend-season-of-memories-%e7%91%9c%e5%ba%ad/2025-02-02/
CATEGORIES:MV課,課程
END:VEVENT
BEGIN:VEVENT
DTSTART;TZID=Asia/Shanghai:20250202T182000
DTEND;TZID=Asia/Shanghai:20250202T192000
DTSTAMP:20260421T053650
CREATED:20250125T054734Z
LAST-MODIFIED:20250125T054734Z
UID:10020969-1738520400-1738524000@www.dancesoul.com.tw
SUMMARY:Jazz Funk-姿昀
DESCRIPTION:
URL:https://www.dancesoul.com.tw/schedule/jazz-funk-%e5%a7%bf%e6%98%80-8/2025-02-02/
CATEGORIES:Jazz Funk,Jazz Funk 初級,Waacking 初級,常態課_一般,課程
END:VEVENT
BEGIN:VEVENT
DTSTART;TZID=Asia/Shanghai:20250202T192500
DTEND;TZID=Asia/Shanghai:20250202T202500
DTSTAMP:20260421T053650
CREATED:20250125T060440Z
LAST-MODIFIED:20250125T060440Z
UID:10020973-1738524300-1738527900@www.dancesoul.com.tw
SUMMARY:Hip Hop(初)-承翰
DESCRIPTION:
URL:https://www.dancesoul.com.tw/schedule/hip-hop%e5%88%9d-%e6%89%bf%e7%bf%b0-13/2025-02-02/
CATEGORIES:Hip Hop 初級,常態課_初級,課程
END:VEVENT
END:VCALENDAR