BEGIN:VCALENDAR
VERSION:2.0
PRODID:-//DANCE SOUL 舞魂街舞學校 - ECPv6.15.18//NONSGML v1.0//EN
CALSCALE:GREGORIAN
METHOD:PUBLISH
X-ORIGINAL-URL:https://www.dancesoul.com.tw
X-WR-CALDESC:Events for DANCE SOUL 舞魂街舞學校
REFRESH-INTERVAL;VALUE=DURATION:PT1H
X-Robots-Tag:noindex
X-PUBLISHED-TTL:PT1H
BEGIN:VTIMEZONE
TZID:Asia/Shanghai
BEGIN:STANDARD
TZOFFSETFROM:+0800
TZOFFSETTO:+0800
TZNAME:CST
DTSTART:20240101T000000
END:STANDARD
END:VTIMEZONE
BEGIN:VEVENT
DTSTART;TZID=Asia/Shanghai:20250616T182000
DTEND;TZID=Asia/Shanghai:20250616T192000
DTSTAMP:20260421T121509
CREATED:20250417T091105Z
LAST-MODIFIED:20250515T043131Z
UID:10021663-1750098000-1750101600@www.dancesoul.com.tw
SUMMARY:Twerk(初)-碗公
DESCRIPTION:
URL:https://www.dancesoul.com.tw/schedule/twerk%e5%88%9d-%e7%a2%97%e5%85%ac-42/2025-06-16/
CATEGORIES:Twerk 初級,常態課_初級,課程
END:VEVENT
BEGIN:VEVENT
DTSTART;TZID=Asia/Shanghai:20250616T192500
DTEND;TZID=Asia/Shanghai:20250616T202500
DTSTAMP:20260421T121509
CREATED:20250417T091529Z
LAST-MODIFIED:20250515T043326Z
UID:10021669-1750101900-1750105500@www.dancesoul.com.tw
SUMMARY:Heels(初)-宋靜
DESCRIPTION:
URL:https://www.dancesoul.com.tw/schedule/heels%e5%88%9d-%e5%ae%8b%e9%9d%9c-40/2025-06-16/
CATEGORIES:Heels 初級,常態課_初級,課程
END:VEVENT
BEGIN:VEVENT
DTSTART;TZID=Asia/Shanghai:20250616T203000
DTEND;TZID=Asia/Shanghai:20250616T213000
DTSTAMP:20260421T121509
CREATED:20250417T091745Z
LAST-MODIFIED:20250515T043433Z
UID:10021674-1750105800-1750109400@www.dancesoul.com.tw
SUMMARY:Jazz Funk-魏小美
DESCRIPTION:
URL:https://www.dancesoul.com.tw/schedule/jazz-funk-%e9%ad%8f%e5%b0%8f%e7%be%8e-83/2025-06-16/
CATEGORIES:Jazz Funk,常態課_一般,課程
END:VEVENT
BEGIN:VEVENT
DTSTART;TZID=Asia/Shanghai:20250617T182000
DTEND;TZID=Asia/Shanghai:20250617T192000
DTSTAMP:20260421T121509
CREATED:20250515T043745Z
LAST-MODIFIED:20250515T061614Z
UID:10021679-1750184400-1750188000@www.dancesoul.com.tw
SUMMARY:MV(當日Dance Soul IG 限動公布歌曲)-薇臻
DESCRIPTION:
URL:https://www.dancesoul.com.tw/schedule/mvmeovv-hands-up-%e8%96%87%e8%87%bb/2025-06-17/
CATEGORIES:MV課
END:VEVENT
BEGIN:VEVENT
DTSTART;TZID=Asia/Shanghai:20250617T192500
DTEND;TZID=Asia/Shanghai:20250617T202500
DTSTAMP:20260421T121509
CREATED:20250417T093453Z
LAST-MODIFIED:20250515T043908Z
UID:10021683-1750188300-1750191900@www.dancesoul.com.tw
SUMMARY:Street Jazz-Denis
DESCRIPTION:
URL:https://www.dancesoul.com.tw/schedule/street-jazz-denis-56/2025-06-17/
CATEGORIES:STREET JAZZ,常態課_一般,課程
END:VEVENT
BEGIN:VEVENT
DTSTART;TZID=Asia/Shanghai:20250617T203000
DTEND;TZID=Asia/Shanghai:20250617T213000
DTSTAMP:20260421T121509
CREATED:20250417T093643Z
LAST-MODIFIED:20250515T044021Z
UID:10021687-1750192200-1750195800@www.dancesoul.com.tw
SUMMARY:Free Style-俊宏
DESCRIPTION:
URL:https://www.dancesoul.com.tw/schedule/free-style-%e4%bf%8a%e5%ae%8f-27/2025-06-17/
CATEGORIES:Freestyle,常態課_一般,課程
END:VEVENT
BEGIN:VEVENT
DTSTART;TZID=Asia/Shanghai:20250618T182000
DTEND;TZID=Asia/Shanghai:20250618T192000
DTSTAMP:20260421T121509
CREATED:20250417T094623Z
LAST-MODIFIED:20250725T075554Z
UID:10021691-1750270800-1750274400@www.dancesoul.com.tw
SUMMARY:Krump-Coffee
DESCRIPTION:
URL:https://www.dancesoul.com.tw/schedule/krump-coffee-5/2025-06-18/
CATEGORIES:Krump,常態課_一般,課程
END:VEVENT
BEGIN:VEVENT
DTSTART;TZID=Asia/Shanghai:20250618T192500
DTEND;TZID=Asia/Shanghai:20250618T202500
DTSTAMP:20260421T121509
CREATED:20250417T094436Z
LAST-MODIFIED:20250725T075734Z
UID:10021695-1750274700-1750278300@www.dancesoul.com.tw
SUMMARY:Street Jazz-Larry
DESCRIPTION:
URL:https://www.dancesoul.com.tw/schedule/street-jazz-larry-28/2025-06-18/
CATEGORIES:STREET JAZZ,常態課_一般,課程
END:VEVENT
BEGIN:VEVENT
DTSTART;TZID=Asia/Shanghai:20250618T203000
DTEND;TZID=Asia/Shanghai:20250618T213000
DTSTAMP:20260421T121509
CREATED:20250417T094025Z
LAST-MODIFIED:20250515T044303Z
UID:10021699-1750278600-1750282200@www.dancesoul.com.tw
SUMMARY:Street Jazz(初)-Kyle
DESCRIPTION:
URL:https://www.dancesoul.com.tw/schedule/street-jazz%e5%88%9d-kyle-26/2025-06-18/
CATEGORIES:STREET JAZZ 初級,常態課_初級,課程
END:VEVENT
BEGIN:VEVENT
DTSTART;TZID=Asia/Shanghai:20250618T213500
DTEND;TZID=Asia/Shanghai:20250618T223500
DTSTAMP:20260421T121509
CREATED:20250417T094806Z
LAST-MODIFIED:20250515T044442Z
UID:10021703-1750282500-1750286100@www.dancesoul.com.tw
SUMMARY:Free Style-承達
DESCRIPTION:
URL:https://www.dancesoul.com.tw/schedule/free-style-%e6%89%bf%e9%81%94-50/2025-06-18/
CATEGORIES:Freestyle,常態課_一般,課程
END:VEVENT
BEGIN:VEVENT
DTSTART;TZID=Asia/Shanghai:20250619T182000
DTEND;TZID=Asia/Shanghai:20250619T192000
DTSTAMP:20260421T121509
CREATED:20250417T095015Z
LAST-MODIFIED:20250515T044543Z
UID:10021707-1750357200-1750360800@www.dancesoul.com.tw
SUMMARY:Jazz Funk-瑜庭
DESCRIPTION:
URL:https://www.dancesoul.com.tw/schedule/jazz-funk-%e7%91%9c%e5%ba%ad-6/2025-06-19/
CATEGORIES:Jazz Funk,常態課_一般,課程
END:VEVENT
BEGIN:VEVENT
DTSTART;TZID=Asia/Shanghai:20250619T192500
DTEND;TZID=Asia/Shanghai:20250619T202500
DTSTAMP:20260421T121509
CREATED:20250417T095206Z
LAST-MODIFIED:20250515T044717Z
UID:10021711-1750361100-1750364700@www.dancesoul.com.tw
SUMMARY:Hip Hop(初)-佐佐
DESCRIPTION:
URL:https://www.dancesoul.com.tw/schedule/hip-hop%e5%88%9d-%e4%bd%90%e4%bd%90-23/2025-06-19/
CATEGORIES:Hip Hop 初級,常態課_初級,課程
END:VEVENT
BEGIN:VEVENT
DTSTART;TZID=Asia/Shanghai:20250619T203000
DTEND;TZID=Asia/Shanghai:20250619T213000
DTSTAMP:20260421T121509
CREATED:20250417T095336Z
LAST-MODIFIED:20250515T044810Z
UID:10021715-1750365000-1750368600@www.dancesoul.com.tw
SUMMARY:Hip Hop-林彤
DESCRIPTION:
URL:https://www.dancesoul.com.tw/schedule/hip-hop-%e6%9e%97%e5%bd%a4-29/2025-06-19/
CATEGORIES:Hip Hop,常態課_一般,課程
END:VEVENT
BEGIN:VEVENT
DTSTART;TZID=Asia/Shanghai:20250619T213500
DTEND;TZID=Asia/Shanghai:20250619T223500
DTSTAMP:20260421T121509
CREATED:20250417T095519Z
LAST-MODIFIED:20250515T044905Z
UID:10021719-1750368900-1750372500@www.dancesoul.com.tw
SUMMARY:Choreography-巴豪
DESCRIPTION:
URL:https://www.dancesoul.com.tw/schedule/choreography-%e5%b7%b4%e8%b1%aa-5/2025-06-19/
CATEGORIES:Choreography,常態課_一般,課程
END:VEVENT
BEGIN:VEVENT
DTSTART;TZID=Asia/Shanghai:20250620T182000
DTEND;TZID=Asia/Shanghai:20250620T192000
DTSTAMP:20260421T121509
CREATED:20250417T095647Z
LAST-MODIFIED:20250515T045043Z
UID:10021511-1750443600-1750447200@www.dancesoul.com.tw
SUMMARY:Street Jazz(初)-Cen妹
DESCRIPTION:
URL:https://www.dancesoul.com.tw/schedule/street-jazz%e5%88%9d-cen%e5%a6%b9-43/2025-06-20/
CATEGORIES:STREET JAZZ 初級,常態課_初級,課程
END:VEVENT
BEGIN:VEVENT
DTSTART;TZID=Asia/Shanghai:20250620T192500
DTEND;TZID=Asia/Shanghai:20250620T202500
DTSTAMP:20260421T121509
CREATED:20250417T095812Z
LAST-MODIFIED:20250515T045216Z
UID:10021723-1750447500-1750451100@www.dancesoul.com.tw
SUMMARY:Street Jazz-邱邱
DESCRIPTION:
URL:https://www.dancesoul.com.tw/schedule/street-jazz-%e9%82%b1%e9%82%b1-3/2025-06-20/
CATEGORIES:STREET JAZZ,常態課_一般,課程
END:VEVENT
BEGIN:VEVENT
DTSTART;TZID=Asia/Shanghai:20250620T203000
DTEND;TZID=Asia/Shanghai:20250620T213000
DTSTAMP:20260421T121509
CREATED:20250417T095943Z
LAST-MODIFIED:20250515T045301Z
UID:10021727-1750451400-1750455000@www.dancesoul.com.tw
SUMMARY:Jazz Funk-鈴鐺
DESCRIPTION:
URL:https://www.dancesoul.com.tw/schedule/jazz-funk-%e9%88%b4%e9%90%ba-29/2025-06-20/
CATEGORIES:Jazz Funk,常態課_一般,課程
END:VEVENT
BEGIN:VEVENT
DTSTART;TZID=Asia/Shanghai:20250621T133000
DTEND;TZID=Asia/Shanghai:20250621T143000
DTSTAMP:20260421T121509
CREATED:20250515T045605Z
LAST-MODIFIED:20250515T045605Z
UID:10021731-1750512600-1750516200@www.dancesoul.com.tw
SUMMARY:兒童街舞-薇臻
DESCRIPTION:
URL:https://www.dancesoul.com.tw/schedule/%e5%85%92%e7%ab%a5%e8%a1%97%e8%88%9e-%e8%96%87%e8%87%bb-19/2025-06-21/
CATEGORIES:兒童街舞
END:VEVENT
BEGIN:VEVENT
DTSTART;TZID=Asia/Shanghai:20250621T143000
DTEND;TZID=Asia/Shanghai:20250621T153000
DTSTAMP:20260421T121509
CREATED:20250515T045725Z
LAST-MODIFIED:20250515T045725Z
UID:10021735-1750516200-1750519800@www.dancesoul.com.tw
SUMMARY:兒童MV(MEOVV - Hands up)-薇臻
DESCRIPTION:
URL:https://www.dancesoul.com.tw/schedule/%e5%85%92%e7%ab%a5mvmeovv-hands-up-%e8%96%87%e8%87%bb/2025-06-21/
CATEGORIES:兒童MV
END:VEVENT
BEGIN:VEVENT
DTSTART;TZID=Asia/Shanghai:20250621T154000
DTEND;TZID=Asia/Shanghai:20250621T164000
DTSTAMP:20260421T121509
CREATED:20250417T100532Z
LAST-MODIFIED:20250515T045826Z
UID:10021739-1750520400-1750524000@www.dancesoul.com.tw
SUMMARY:兒童Krump-Coffee
DESCRIPTION:
URL:https://www.dancesoul.com.tw/schedule/%e5%85%92%e7%ab%a5krump-coffee-5/2025-06-21/
CATEGORIES:兒童Krump,兒童課,常態課_一般,課程
END:VEVENT
BEGIN:VEVENT
DTSTART;TZID=Asia/Shanghai:20250621T164000
DTEND;TZID=Asia/Shanghai:20250621T174000
DTSTAMP:20260421T121509
CREATED:20250901T055344Z
LAST-MODIFIED:20251202T055314Z
UID:10030716-1750524000-1750527600@www.dancesoul.com.tw
SUMMARY:MV(BABYMONSTER - ‘PSYCHO’)-凝琦
DESCRIPTION:
URL:https://www.dancesoul.com.tw/schedule/mvive-xoxz-%e5%87%9d%e7%90%a6/2025-06-21/
CATEGORIES:MV課,課程
END:VEVENT
BEGIN:VEVENT
DTSTART;TZID=Asia/Shanghai:20250621T165000
DTEND;TZID=Asia/Shanghai:20250621T175000
DTSTAMP:20260421T121509
CREATED:20250515T050454Z
LAST-MODIFIED:20250623T104653Z
UID:10021755-1750524600-1750528200@www.dancesoul.com.tw
SUMMARY:MV-凝琦
DESCRIPTION:
URL:https://www.dancesoul.com.tw/schedule/mv-%e5%87%9d%e7%90%a6/2025-06-21/
CATEGORIES:MV課
END:VEVENT
BEGIN:VEVENT
DTSTART;TZID=Asia/Shanghai:20250621T182000
DTEND;TZID=Asia/Shanghai:20250621T192000
DTSTAMP:20260421T121509
CREATED:20250417T100804Z
LAST-MODIFIED:20250515T050016Z
UID:10021743-1750530000-1750533600@www.dancesoul.com.tw
SUMMARY:Popping-紀威
DESCRIPTION:
URL:https://www.dancesoul.com.tw/schedule/popping-%e7%b4%80%e5%a8%81-52/2025-06-21/
CATEGORIES:Poppin,常態課_一般,課程
END:VEVENT
BEGIN:VEVENT
DTSTART;TZID=Asia/Shanghai:20250621T192500
DTEND;TZID=Asia/Shanghai:20250621T202500
DTSTAMP:20260421T121509
CREATED:20250417T101730Z
LAST-MODIFIED:20250515T050159Z
UID:10021747-1750533900-1750537500@www.dancesoul.com.tw
SUMMARY:Choreography(初)-無盡
DESCRIPTION:
URL:https://www.dancesoul.com.tw/schedule/choreography%e5%88%9d-%e7%84%a1%e7%9b%a1-12/2025-06-21/
CATEGORIES:Choreography 初級,常態課_初級,課程
END:VEVENT
BEGIN:VEVENT
DTSTART;TZID=Asia/Shanghai:20250621T203000
DTEND;TZID=Asia/Shanghai:20250621T213000
DTSTAMP:20260421T121509
CREATED:20250417T102000Z
LAST-MODIFIED:20250515T050254Z
UID:10021751-1750537800-1750541400@www.dancesoul.com.tw
SUMMARY:基礎入門-雞蛋
DESCRIPTION:
URL:https://www.dancesoul.com.tw/schedule/%e5%9f%ba%e7%a4%8e%e5%85%a5%e9%96%80-%e9%9b%9e%e8%9b%8b-39/2025-06-21/
CATEGORIES:基礎入門,常態課_初級,課程
END:VEVENT
BEGIN:VEVENT
DTSTART;TZID=Asia/Shanghai:20250622T132000
DTEND;TZID=Asia/Shanghai:20250622T142000
DTSTAMP:20260421T121509
CREATED:20250515T041317Z
LAST-MODIFIED:20250515T041317Z
UID:10021633-1750598400-1750602000@www.dancesoul.com.tw
SUMMARY:兒童街舞-羿芃
DESCRIPTION:
URL:https://www.dancesoul.com.tw/schedule/%e5%85%92%e7%ab%a5%e8%a1%97%e8%88%9e-%e7%be%bf%e8%8a%83-18/2025-06-22/
CATEGORIES:兒童街舞
END:VEVENT
BEGIN:VEVENT
DTSTART;TZID=Asia/Shanghai:20250622T143000
DTEND;TZID=Asia/Shanghai:20250622T153000
DTSTAMP:20260421T121509
CREATED:20250515T041633Z
LAST-MODIFIED:20250515T041633Z
UID:10021638-1750602600-1750606200@www.dancesoul.com.tw
SUMMARY:兒童MV-羿芃
DESCRIPTION:
URL:https://www.dancesoul.com.tw/schedule/%e5%85%92%e7%ab%a5mv-%e7%be%bf%e8%8a%83/2025-06-22/
CATEGORIES:兒童MV
END:VEVENT
BEGIN:VEVENT
DTSTART;TZID=Asia/Shanghai:20250622T154000
DTEND;TZID=Asia/Shanghai:20250622T164000
DTSTAMP:20260421T121509
CREATED:20250515T042016Z
LAST-MODIFIED:20250515T042016Z
UID:10021643-1750606800-1750610400@www.dancesoul.com.tw
SUMMARY:兒童Street Jazz-傘傘
DESCRIPTION:
URL:https://www.dancesoul.com.tw/schedule/%e5%85%92%e7%ab%a5street-jazz-%e5%82%98%e5%82%98-2/2025-06-22/
CATEGORIES:兒童 Street Jazz
END:VEVENT
BEGIN:VEVENT
DTSTART;TZID=Asia/Shanghai:20250622T165000
DTEND;TZID=Asia/Shanghai:20250622T175000
DTSTAMP:20260421T121509
CREATED:20250515T042232Z
LAST-MODIFIED:20250515T042232Z
UID:10021648-1750611000-1750614600@www.dancesoul.com.tw
SUMMARY:MV(MEOVV - Hands up)-瑜庭
DESCRIPTION:
URL:https://www.dancesoul.com.tw/schedule/mvmeovv-hands-up-%e7%91%9c%e5%ba%ad/2025-06-22/
CATEGORIES:MV課
END:VEVENT
BEGIN:VEVENT
DTSTART;TZID=Asia/Shanghai:20250622T182000
DTEND;TZID=Asia/Shanghai:20250622T192000
DTSTAMP:20260421T121509
CREATED:20250515T042413Z
LAST-MODIFIED:20250515T042413Z
UID:10021653-1750616400-1750620000@www.dancesoul.com.tw
SUMMARY:Jazz Funk-姿昀
DESCRIPTION:
URL:https://www.dancesoul.com.tw/schedule/jazz-funk-%e5%a7%bf%e6%98%80-12/2025-06-22/
CATEGORIES:Jazz Funk
END:VEVENT
END:VCALENDAR