BEGIN:VCALENDAR
VERSION:2.0
PRODID:-//DANCE SOUL 舞魂街舞學校 - ECPv6.15.18//NONSGML v1.0//EN
CALSCALE:GREGORIAN
METHOD:PUBLISH
X-ORIGINAL-URL:https://www.dancesoul.com.tw
X-WR-CALDESC:Events for DANCE SOUL 舞魂街舞學校
REFRESH-INTERVAL;VALUE=DURATION:PT1H
X-Robots-Tag:noindex
X-PUBLISHED-TTL:PT1H
BEGIN:VTIMEZONE
TZID:Asia/Shanghai
BEGIN:STANDARD
TZOFFSETFROM:+0800
TZOFFSETTO:+0800
TZNAME:CST
DTSTART:20240101T000000
END:STANDARD
END:VTIMEZONE
BEGIN:VEVENT
DTSTART;TZID=Asia/Shanghai:20250804T143000
DTEND;TZID=Asia/Shanghai:20250804T153000
DTSTAMP:20260421T060527
CREATED:20250623T105031Z
LAST-MODIFIED:20250725T073812Z
UID:10022043-1754317800-1754321400@www.dancesoul.com.tw
SUMMARY:Choreography-品后
DESCRIPTION:
URL:https://www.dancesoul.com.tw/schedule/choreography-%e5%93%81%e5%90%8e/2025-08-04/
CATEGORIES:Choreography
END:VEVENT
BEGIN:VEVENT
DTSTART;TZID=Asia/Shanghai:20250804T154000
DTEND;TZID=Asia/Shanghai:20250804T164000
DTSTAMP:20260421T060527
CREATED:20250623T105357Z
LAST-MODIFIED:20250725T073854Z
UID:10022047-1754322000-1754325600@www.dancesoul.com.tw
SUMMARY:Street Jazz-羊羊
DESCRIPTION:
URL:https://www.dancesoul.com.tw/schedule/street-jazz-%e7%be%8a%e7%be%8a/2025-08-04/
CATEGORIES:STREET JAZZ
END:VEVENT
BEGIN:VEVENT
DTSTART;TZID=Asia/Shanghai:20250804T165000
DTEND;TZID=Asia/Shanghai:20250804T175000
DTSTAMP:20260421T060527
CREATED:20250725T074201Z
LAST-MODIFIED:20250725T074201Z
UID:10022051-1754326200-1754329800@www.dancesoul.com.tw
SUMMARY:Choreography-承達x無盡
DESCRIPTION:
URL:https://www.dancesoul.com.tw/schedule/choreography-%e6%89%bf%e9%81%94x%e7%84%a1%e7%9b%a1/2025-08-04/
CATEGORIES:Choreography,特別課程
END:VEVENT
BEGIN:VEVENT
DTSTART;TZID=Asia/Shanghai:20250804T192500
DTEND;TZID=Asia/Shanghai:20250804T202500
DTSTAMP:20260421T060527
CREATED:20250623T120211Z
LAST-MODIFIED:20250725T072353Z
UID:10022031-1754335500-1754339100@www.dancesoul.com.tw
SUMMARY:Heels-宋靜
DESCRIPTION:
URL:https://www.dancesoul.com.tw/schedule/heels-%e5%ae%8b%e9%9d%9c-2/2025-08-04/
CATEGORIES:Heels
END:VEVENT
BEGIN:VEVENT
DTSTART;TZID=Asia/Shanghai:20250804T203000
DTEND;TZID=Asia/Shanghai:20250804T213000
DTSTAMP:20260421T060527
CREATED:20250623T120332Z
LAST-MODIFIED:20250725T073323Z
UID:10022039-1754339400-1754343000@www.dancesoul.com.tw
SUMMARY:Jazz Funk-姿昀
DESCRIPTION:
URL:https://www.dancesoul.com.tw/schedule/jazz-funk-%e5%a7%bf%e6%98%80-13/2025-08-04/
CATEGORIES:Jazz Funk
END:VEVENT
BEGIN:VEVENT
DTSTART;TZID=Asia/Shanghai:20250805T143000
DTEND;TZID=Asia/Shanghai:20250805T153000
DTSTAMP:20260421T060527
CREATED:20250623T120518Z
LAST-MODIFIED:20250725T074800Z
UID:10022055-1754404200-1754407800@www.dancesoul.com.tw
SUMMARY:Street Jazz-Cen妹
DESCRIPTION:
URL:https://www.dancesoul.com.tw/schedule/street-jazz-cen%e5%a6%b9/2025-08-05/
CATEGORIES:STREET JAZZ
END:VEVENT
BEGIN:VEVENT
DTSTART;TZID=Asia/Shanghai:20250805T154000
DTEND;TZID=Asia/Shanghai:20250805T164000
DTSTAMP:20260421T060527
CREATED:20250623T121009Z
LAST-MODIFIED:20250725T074903Z
UID:10022059-1754408400-1754412000@www.dancesoul.com.tw
SUMMARY:MV-俊宏
DESCRIPTION:
URL:https://www.dancesoul.com.tw/schedule/mv-%e4%bf%8a%e5%ae%8f/2025-08-05/
CATEGORIES:MV課
END:VEVENT
BEGIN:VEVENT
DTSTART;TZID=Asia/Shanghai:20250805T165000
DTEND;TZID=Asia/Shanghai:20250805T175000
DTSTAMP:20260421T060527
CREATED:20250725T075045Z
LAST-MODIFIED:20250725T075045Z
UID:10022063-1754412600-1754416200@www.dancesoul.com.tw
SUMMARY:MV-俊宏x薇臻
DESCRIPTION:
URL:https://www.dancesoul.com.tw/schedule/mv-%e4%bf%8a%e5%ae%8fx%e8%96%87%e8%87%bb/2025-08-05/
CATEGORIES:MV課,特別課程
END:VEVENT
BEGIN:VEVENT
DTSTART;TZID=Asia/Shanghai:20250805T182000
DTEND;TZID=Asia/Shanghai:20250805T192000
DTSTAMP:20260421T060527
CREATED:20250623T121300Z
LAST-MODIFIED:20250725T075226Z
UID:10022067-1754418000-1754421600@www.dancesoul.com.tw
SUMMARY:MV-薇臻
DESCRIPTION:
URL:https://www.dancesoul.com.tw/schedule/mv-%e8%96%87%e8%87%bb-3/2025-08-05/
CATEGORIES:MV課
END:VEVENT
BEGIN:VEVENT
DTSTART;TZID=Asia/Shanghai:20250805T192500
DTEND;TZID=Asia/Shanghai:20250805T202500
DTSTAMP:20260421T060527
CREATED:20250623T121421Z
LAST-MODIFIED:20250725T075312Z
UID:10022071-1754421900-1754425500@www.dancesoul.com.tw
SUMMARY:Street Jazz-Denis
DESCRIPTION:
URL:https://www.dancesoul.com.tw/schedule/street-jazz-denis-57/2025-08-05/
CATEGORIES:STREET JAZZ
END:VEVENT
BEGIN:VEVENT
DTSTART;TZID=Asia/Shanghai:20250805T203000
DTEND;TZID=Asia/Shanghai:20250805T213000
DTSTAMP:20260421T060527
CREATED:20250623T121559Z
LAST-MODIFIED:20250725T075356Z
UID:10022075-1754425800-1754429400@www.dancesoul.com.tw
SUMMARY:Free Style-俊宏
DESCRIPTION:
URL:https://www.dancesoul.com.tw/schedule/free-style-%e4%bf%8a%e5%ae%8f-28/2025-08-05/
CATEGORIES:Freestyle
END:VEVENT
BEGIN:VEVENT
DTSTART;TZID=Asia/Shanghai:20250806T143000
DTEND;TZID=Asia/Shanghai:20250806T153000
DTSTAMP:20260421T060527
CREATED:20250623T121721Z
LAST-MODIFIED:20250725T080546Z
UID:10022109-1754490600-1754494200@www.dancesoul.com.tw
SUMMARY:基礎入門-無盡
DESCRIPTION:
URL:https://www.dancesoul.com.tw/schedule/%e5%9f%ba%e7%a4%8e%e5%85%a5%e9%96%80-%e7%84%a1%e7%9b%a1-9/2025-08-06/
CATEGORIES:基礎入門
END:VEVENT
BEGIN:VEVENT
DTSTART;TZID=Asia/Shanghai:20250806T154000
DTEND;TZID=Asia/Shanghai:20250806T164000
DTSTAMP:20260421T060527
CREATED:20250725T080447Z
LAST-MODIFIED:20250725T080447Z
UID:10022105-1754494800-1754498400@www.dancesoul.com.tw
SUMMARY:Hip Hop-Rod
DESCRIPTION:
URL:https://www.dancesoul.com.tw/schedule/hip-hop-rod/2025-08-06/
CATEGORIES:Hip Hop,常態課_一般,課程
END:VEVENT
BEGIN:VEVENT
DTSTART;TZID=Asia/Shanghai:20250806T165000
DTEND;TZID=Asia/Shanghai:20250806T175000
DTSTAMP:20260421T060527
CREATED:20250725T080003Z
LAST-MODIFIED:20250725T080003Z
UID:10022097-1754499000-1754502600@www.dancesoul.com.tw
SUMMARY:Choreography-羅毅
DESCRIPTION:
URL:https://www.dancesoul.com.tw/schedule/choreography-%e7%be%85%e6%af%85/2025-08-06/
CATEGORIES:Choreography,常態課_一般,課程
END:VEVENT
BEGIN:VEVENT
DTSTART;TZID=Asia/Shanghai:20250806T182000
DTEND;TZID=Asia/Shanghai:20250806T192000
DTSTAMP:20260421T060527
CREATED:20250417T094623Z
LAST-MODIFIED:20250725T075554Z
UID:10022084-1754504400-1754508000@www.dancesoul.com.tw
SUMMARY:Krump-Coffee
DESCRIPTION:
URL:https://www.dancesoul.com.tw/schedule/krump-coffee-5/2025-08-06/
CATEGORIES:Krump,常態課_一般,課程
END:VEVENT
BEGIN:VEVENT
DTSTART;TZID=Asia/Shanghai:20250806T192500
DTEND;TZID=Asia/Shanghai:20250806T202500
DTSTAMP:20260421T060527
CREATED:20250417T094436Z
LAST-MODIFIED:20250725T075734Z
UID:10022093-1754508300-1754511900@www.dancesoul.com.tw
SUMMARY:Street Jazz-Larry
DESCRIPTION:
URL:https://www.dancesoul.com.tw/schedule/street-jazz-larry-28/2025-08-06/
CATEGORIES:STREET JAZZ,常態課_一般,課程
END:VEVENT
BEGIN:VEVENT
DTSTART;TZID=Asia/Shanghai:20250806T203000
DTEND;TZID=Asia/Shanghai:20250806T213000
DTSTAMP:20260421T060527
CREATED:20250725T080152Z
LAST-MODIFIED:20250725T080152Z
UID:10022101-1754512200-1754515800@www.dancesoul.com.tw
SUMMARY:Free Style-承達
DESCRIPTION:
URL:https://www.dancesoul.com.tw/schedule/free-style-%e6%89%bf%e9%81%94-52/2025-08-06/
CATEGORIES:Freestyle,常態課_一般,課程
END:VEVENT
BEGIN:VEVENT
DTSTART;TZID=Asia/Shanghai:20250807T143000
DTEND;TZID=Asia/Shanghai:20250807T153000
DTSTAMP:20260421T060527
CREATED:20250623T122838Z
LAST-MODIFIED:20250725T080850Z
UID:10022113-1754577000-1754580600@www.dancesoul.com.tw
SUMMARY:Jazz Funk-米其林
DESCRIPTION:
URL:https://www.dancesoul.com.tw/schedule/jazz-funk-%e7%b1%b3%e5%85%b6%e6%9e%97-3/2025-08-07/
CATEGORIES:Jazz Funk
END:VEVENT
BEGIN:VEVENT
DTSTART;TZID=Asia/Shanghai:20250807T154000
DTEND;TZID=Asia/Shanghai:20250807T164000
DTSTAMP:20260421T060527
CREATED:20250623T123015Z
LAST-MODIFIED:20250725T080946Z
UID:10022117-1754581200-1754584800@www.dancesoul.com.tw
SUMMARY:Street Jazz-小翁
DESCRIPTION:
URL:https://www.dancesoul.com.tw/schedule/street-jazz-%e5%b0%8f%e7%bf%81/2025-08-07/
CATEGORIES:STREET JAZZ
END:VEVENT
BEGIN:VEVENT
DTSTART;TZID=Asia/Shanghai:20250807T165000
DTEND;TZID=Asia/Shanghai:20250807T175000
DTSTAMP:20260421T060527
CREATED:20250725T081305Z
LAST-MODIFIED:20250725T081305Z
UID:10022121-1754585400-1754589000@www.dancesoul.com.tw
SUMMARY:Choreography-姿昀xKylex宜蓁
DESCRIPTION:
URL:https://www.dancesoul.com.tw/schedule/choreography-%e5%a7%bf%e6%98%80xkylex%e5%ae%9c%e8%93%81/2025-08-07/
CATEGORIES:Choreography,特別課程
END:VEVENT
BEGIN:VEVENT
DTSTART;TZID=Asia/Shanghai:20250807T182000
DTEND;TZID=Asia/Shanghai:20250807T192000
DTSTAMP:20260421T060527
CREATED:20250623T123413Z
LAST-MODIFIED:20250725T081555Z
UID:10022125-1754590800-1754594400@www.dancesoul.com.tw
SUMMARY:Jazz Funk-瑜庭
DESCRIPTION:
URL:https://www.dancesoul.com.tw/schedule/jazz-funk-%e7%91%9c%e5%ba%ad-7/2025-08-07/
CATEGORIES:Jazz Funk
END:VEVENT
BEGIN:VEVENT
DTSTART;TZID=Asia/Shanghai:20250807T192500
DTEND;TZID=Asia/Shanghai:20250807T202500
DTSTAMP:20260421T060527
CREATED:20250623T123638Z
LAST-MODIFIED:20250725T081646Z
UID:10022129-1754594700-1754598300@www.dancesoul.com.tw
SUMMARY:Hip Hop-佐佐
DESCRIPTION:
URL:https://www.dancesoul.com.tw/schedule/hip-hop-%e4%bd%90%e4%bd%90/2025-08-07/
CATEGORIES:Hip Hop
END:VEVENT
BEGIN:VEVENT
DTSTART;TZID=Asia/Shanghai:20250807T203000
DTEND;TZID=Asia/Shanghai:20250807T213000
DTSTAMP:20260421T060527
CREATED:20250623T123744Z
LAST-MODIFIED:20250725T081741Z
UID:10022133-1754598600-1754602200@www.dancesoul.com.tw
SUMMARY:Hip Hop-林彤
DESCRIPTION:
URL:https://www.dancesoul.com.tw/schedule/hip-hop-%e6%9e%97%e5%bd%a4-30/2025-08-07/
CATEGORIES:Hip Hop
END:VEVENT
BEGIN:VEVENT
DTSTART;TZID=Asia/Shanghai:20250807T213500
DTEND;TZID=Asia/Shanghai:20250807T223500
DTSTAMP:20260421T060527
CREATED:20250623T123930Z
LAST-MODIFIED:20250725T081853Z
UID:10022137-1754602500-1754606100@www.dancesoul.com.tw
SUMMARY:Choreography-巴豪
DESCRIPTION:
URL:https://www.dancesoul.com.tw/schedule/choreography-%e5%b7%b4%e8%b1%aa-6/2025-08-07/
CATEGORIES:Choreography
END:VEVENT
BEGIN:VEVENT
DTSTART;TZID=Asia/Shanghai:20250808T143000
DTEND;TZID=Asia/Shanghai:20250808T143000
DTSTAMP:20260421T060527
CREATED:20250725T082101Z
LAST-MODIFIED:20250725T082101Z
UID:10022142-1754663400-1754663400@www.dancesoul.com.tw
SUMMARY:MV-瑜庭
DESCRIPTION:
URL:https://www.dancesoul.com.tw/schedule/mv-%e7%91%9c%e5%ba%ad/2025-08-08/
CATEGORIES:MV課,常態課_一般,課程
END:VEVENT
BEGIN:VEVENT
DTSTART;TZID=Asia/Shanghai:20250808T154000
DTEND;TZID=Asia/Shanghai:20250808T164000
DTSTAMP:20260421T060527
CREATED:20250623T130858Z
LAST-MODIFIED:20250725T082212Z
UID:10022147-1754667600-1754671200@www.dancesoul.com.tw
SUMMARY:Street Jazz-大可
DESCRIPTION:
URL:https://www.dancesoul.com.tw/schedule/street-jazz-%e5%a4%a7%e5%8f%af/2025-08-08/
CATEGORIES:STREET JAZZ
END:VEVENT
BEGIN:VEVENT
DTSTART;TZID=Asia/Shanghai:20250808T165000
DTEND;TZID=Asia/Shanghai:20250808T175000
DTSTAMP:20260421T060527
CREATED:20250725T082349Z
LAST-MODIFIED:20250725T082349Z
UID:10022152-1754671800-1754675400@www.dancesoul.com.tw
SUMMARY:Choreography-瑜庭x大可
DESCRIPTION:
URL:https://www.dancesoul.com.tw/schedule/choreography-%e7%91%9c%e5%ba%adx%e5%a4%a7%e5%8f%af/2025-08-08/
CATEGORIES:Choreography,特別課程
END:VEVENT
BEGIN:VEVENT
DTSTART;TZID=Asia/Shanghai:20250808T182000
DTEND;TZID=Asia/Shanghai:20250808T192000
DTSTAMP:20260421T060527
CREATED:20250623T131317Z
LAST-MODIFIED:20250725T082638Z
UID:10022157-1754677200-1754680800@www.dancesoul.com.tw
SUMMARY:Street Jazz-Cen妹
DESCRIPTION:
URL:https://www.dancesoul.com.tw/schedule/street-jazz-cen%e5%a6%b9-2/2025-08-08/
CATEGORIES:STREET JAZZ
END:VEVENT
BEGIN:VEVENT
DTSTART;TZID=Asia/Shanghai:20250808T192500
DTEND;TZID=Asia/Shanghai:20250808T202500
DTSTAMP:20260421T060527
CREATED:20250623T131637Z
LAST-MODIFIED:20250725T082736Z
UID:10022162-1754681100-1754684700@www.dancesoul.com.tw
SUMMARY:Street Jazz-邱邱
DESCRIPTION:
URL:https://www.dancesoul.com.tw/schedule/street-jazz-%e9%82%b1%e9%82%b1-4/2025-08-08/
CATEGORIES:STREET JAZZ
END:VEVENT
BEGIN:VEVENT
DTSTART;TZID=Asia/Shanghai:20250808T203000
DTEND;TZID=Asia/Shanghai:20250808T213000
DTSTAMP:20260421T060527
CREATED:20250623T131740Z
LAST-MODIFIED:20250725T082828Z
UID:10022167-1754685000-1754688600@www.dancesoul.com.tw
SUMMARY:Jazz Funk-鈴鐺
DESCRIPTION:
URL:https://www.dancesoul.com.tw/schedule/jazz-funk-%e9%88%b4%e9%90%ba-30/2025-08-08/
CATEGORIES:Jazz Funk
END:VEVENT
END:VCALENDAR