BEGIN:VCALENDAR
VERSION:2.0
PRODID:-//DANCE SOUL 舞魂街舞學校 - ECPv6.15.18//NONSGML v1.0//EN
CALSCALE:GREGORIAN
METHOD:PUBLISH
X-ORIGINAL-URL:https://www.dancesoul.com.tw
X-WR-CALDESC:Events for DANCE SOUL 舞魂街舞學校
REFRESH-INTERVAL;VALUE=DURATION:PT1H
X-Robots-Tag:noindex
X-PUBLISHED-TTL:PT1H
BEGIN:VTIMEZONE
TZID:Asia/Shanghai
BEGIN:STANDARD
TZOFFSETFROM:+0800
TZOFFSETTO:+0800
TZNAME:CST
DTSTART:20240101T000000
END:STANDARD
END:VTIMEZONE
BEGIN:VEVENT
DTSTART;TZID=Asia/Shanghai:20251020T192500
DTEND;TZID=Asia/Shanghai:20251020T202500
DTSTAMP:20260421T044349
CREATED:20250828T095129Z
LAST-MODIFIED:20250828T095129Z
UID:10023098-1760988300-1760991900@www.dancesoul.com.tw
SUMMARY:Heels-宋靜
DESCRIPTION:
URL:https://www.dancesoul.com.tw/schedule/heels-%e5%ae%8b%e9%9d%9c-3/2025-10-20/
END:VEVENT
BEGIN:VEVENT
DTSTART;TZID=Asia/Shanghai:20251020T202000
DTEND;TZID=Asia/Shanghai:20251020T212000
DTSTAMP:20260421T044349
CREATED:20250828T095322Z
LAST-MODIFIED:20250828T095338Z
UID:10023359-1760991600-1760995200@www.dancesoul.com.tw
SUMMARY:Jazz Funk-魏小美
DESCRIPTION:
URL:https://www.dancesoul.com.tw/schedule/jazz-funk-%e9%ad%8f%e5%b0%8f%e7%be%8e-84/2025-10-20/
END:VEVENT
BEGIN:VEVENT
DTSTART;TZID=Asia/Shanghai:20251021T182000
DTEND;TZID=Asia/Shanghai:20251021T192000
DTSTAMP:20260421T044349
CREATED:20250828T095545Z
LAST-MODIFIED:20250828T095545Z
UID:10023620-1761070800-1761074400@www.dancesoul.com.tw
SUMMARY:MV-薇臻
DESCRIPTION:
URL:https://www.dancesoul.com.tw/schedule/mv-%e8%96%87%e8%87%bb-4/2025-10-21/
END:VEVENT
BEGIN:VEVENT
DTSTART;TZID=Asia/Shanghai:20251021T202000
DTEND;TZID=Asia/Shanghai:20251021T212000
DTSTAMP:20260421T044349
CREATED:20250828T100203Z
LAST-MODIFIED:20250828T100203Z
UID:10023882-1761078000-1761081600@www.dancesoul.com.tw
SUMMARY:Free Style-俊宏
DESCRIPTION:
URL:https://www.dancesoul.com.tw/schedule/free-style-%e4%bf%8a%e5%ae%8f-29/2025-10-21/
CATEGORIES:Freestyle,常態課_一般,課程
END:VEVENT
BEGIN:VEVENT
DTSTART;TZID=Asia/Shanghai:20251022T192500
DTEND;TZID=Asia/Shanghai:20251022T202500
DTSTAMP:20260421T044349
CREATED:20250828T102504Z
LAST-MODIFIED:20250828T102504Z
UID:10024665-1761161100-1761164700@www.dancesoul.com.tw
SUMMARY:Street Jazz-Larry
DESCRIPTION:
URL:https://www.dancesoul.com.tw/schedule/street-jazz-larry-30/2025-10-22/
CATEGORIES:STREET JAZZ,常態課_一般,課程
END:VEVENT
BEGIN:VEVENT
DTSTART;TZID=Asia/Shanghai:20251022T203000
DTEND;TZID=Asia/Shanghai:20251022T213000
DTSTAMP:20260421T044349
CREATED:20250828T103540Z
LAST-MODIFIED:20250828T103540Z
UID:10024926-1761165000-1761168600@www.dancesoul.com.tw
SUMMARY:Street Jazz-Kyle
DESCRIPTION:
URL:https://www.dancesoul.com.tw/schedule/street-jazz-kyle-4/2025-10-22/
CATEGORIES:STREET JAZZ,常態課_一般,課程
END:VEVENT
BEGIN:VEVENT
DTSTART;TZID=Asia/Shanghai:20251023T182000
DTEND;TZID=Asia/Shanghai:20251023T192000
DTSTAMP:20260421T044349
CREATED:20250828T103838Z
LAST-MODIFIED:20250828T103838Z
UID:10025448-1761243600-1761247200@www.dancesoul.com.tw
SUMMARY:Hip Hop-佐佐
DESCRIPTION:
URL:https://www.dancesoul.com.tw/schedule/hip-hop-%e4%bd%90%e4%bd%90-2/2025-10-23/
CATEGORIES:Hip Hop,常態課_一般,課程
END:VEVENT
BEGIN:VEVENT
DTSTART;TZID=Asia/Shanghai:20251023T213500
DTEND;TZID=Asia/Shanghai:20251023T223500
DTSTAMP:20260421T044349
CREATED:20250828T104929Z
LAST-MODIFIED:20250828T104929Z
UID:10026228-1761255300-1761258900@www.dancesoul.com.tw
SUMMARY:Choreography-巴豪
DESCRIPTION:
URL:https://www.dancesoul.com.tw/schedule/choreography-%e5%b7%b4%e8%b1%aa-7/2025-10-23/
CATEGORIES:Choreography,常態課_一般,課程
END:VEVENT
BEGIN:VEVENT
DTSTART;TZID=Asia/Shanghai:20251025T132000
DTEND;TZID=Asia/Shanghai:20251025T142000
DTSTAMP:20260421T044349
CREATED:20250828T110222Z
LAST-MODIFIED:20250901T054527Z
UID:10027268-1761398400-1761402000@www.dancesoul.com.tw
SUMMARY:兒童MV(初)(izna-GOLDEN)-薇臻
DESCRIPTION:
URL:https://www.dancesoul.com.tw/schedule/%e5%85%92%e7%ab%a5%e8%a1%97%e8%88%9e-%e8%96%87%e8%87%bb-21/2025-10-25/
CATEGORIES:兒童街舞,兒童課
END:VEVENT
BEGIN:VEVENT
DTSTART;TZID=Asia/Shanghai:20251025T132000
DTEND;TZID=Asia/Shanghai:20251025T142000
DTSTAMP:20260421T044349
CREATED:20251201T070320Z
LAST-MODIFIED:20260315T072345Z
UID:10031404-1761398400-1761402000@www.dancesoul.com.tw
SUMMARY:兒童MV(初)(i-dle - 'Mona(Feat.skaiwater)')-薇臻
DESCRIPTION:
URL:https://www.dancesoul.com.tw/schedule/%e5%85%92%e7%ab%a5%e8%a1%97%e8%88%9e-%e8%96%87%e8%87%bb-21-2-2-2/2025-10-25/
CATEGORIES:兒童街舞,兒童課
END:VEVENT
BEGIN:VEVENT
DTSTART;TZID=Asia/Shanghai:20251025T143000
DTEND;TZID=Asia/Shanghai:20251025T153000
DTSTAMP:20260421T044349
CREATED:20250901T054940Z
LAST-MODIFIED:20250901T054940Z
UID:10027529-1761402600-1761406200@www.dancesoul.com.tw
SUMMARY:兒童MV(BABYMONSTER-HOT SAUCE)-薇臻
DESCRIPTION:
URL:https://www.dancesoul.com.tw/schedule/%e5%85%92%e7%ab%a5mvbabymonster-hot-sauce-%e8%96%87%e8%87%bb/2025-10-25/
CATEGORIES:MV課,兒童MV,課程
END:VEVENT
BEGIN:VEVENT
DTSTART;TZID=Asia/Shanghai:20251025T143000
DTEND;TZID=Asia/Shanghai:20251025T153000
DTSTAMP:20260421T044349
CREATED:20251202T055414Z
LAST-MODIFIED:20260315T072223Z
UID:10031373-1761402600-1761406200@www.dancesoul.com.tw
SUMMARY:兒童MV(IVE - 'BANG BANG')-薇臻
DESCRIPTION:
URL:https://www.dancesoul.com.tw/schedule/%e5%85%92%e7%ab%a5mvbabymonster-hot-sauce-%e8%96%87%e8%87%bb-2/2025-10-25/
CATEGORIES:MV課,兒童MV,課程
END:VEVENT
BEGIN:VEVENT
DTSTART;TZID=Asia/Shanghai:20251025T164000
DTEND;TZID=Asia/Shanghai:20251025T174000
DTSTAMP:20260421T044349
CREATED:20250901T055344Z
LAST-MODIFIED:20251202T055314Z
UID:10027791-1761410400-1761414000@www.dancesoul.com.tw
SUMMARY:MV(BABYMONSTER - ‘PSYCHO’)-凝琦
DESCRIPTION:
URL:https://www.dancesoul.com.tw/schedule/mvive-xoxz-%e5%87%9d%e7%90%a6/2025-10-25/
CATEGORIES:MV課,課程
END:VEVENT
BEGIN:VEVENT
DTSTART;TZID=Asia/Shanghai:20251025T164000
DTEND;TZID=Asia/Shanghai:20251025T174000
DTSTAMP:20260421T044349
CREATED:20260315T072002Z
LAST-MODIFIED:20260315T072518Z
UID:10031435-1761410400-1761414000@www.dancesoul.com.tw
SUMMARY:MV(IVE - ‘BANG BANG’)-薇臻
DESCRIPTION:
URL:https://www.dancesoul.com.tw/schedule/mvive-xoxz-%e5%87%9d%e7%90%a6-2-2/2025-10-25/
CATEGORIES:MV課,課程
END:VEVENT
BEGIN:VEVENT
DTSTART;TZID=Asia/Shanghai:20251025T182000
DTEND;TZID=Asia/Shanghai:20251025T192000
DTSTAMP:20260421T044349
CREATED:20250901T055441Z
LAST-MODIFIED:20250901T055457Z
UID:10028052-1761416400-1761420000@www.dancesoul.com.tw
SUMMARY:Popping-紀威
DESCRIPTION:
URL:https://www.dancesoul.com.tw/schedule/popping-%e7%b4%80%e5%a8%81-54/2025-10-25/
CATEGORIES:Poppin,常態課_一般,課程
END:VEVENT
BEGIN:VEVENT
DTSTART;TZID=Asia/Shanghai:20251026T132000
DTEND;TZID=Asia/Shanghai:20251026T142000
DTSTAMP:20260421T044349
CREATED:20250901T055750Z
LAST-MODIFIED:20250901T055750Z
UID:10028835-1761484800-1761488400@www.dancesoul.com.tw
SUMMARY:兒童街舞-羿芃
DESCRIPTION:
URL:https://www.dancesoul.com.tw/schedule/%e5%85%92%e7%ab%a5%e8%a1%97%e8%88%9e-%e7%be%bf%e8%8a%83-20/2025-10-26/
CATEGORIES:兒童街舞,課程
END:VEVENT
BEGIN:VEVENT
DTSTART;TZID=Asia/Shanghai:20251026T143000
DTEND;TZID=Asia/Shanghai:20251026T153000
DTSTAMP:20260421T044349
CREATED:20250901T060121Z
LAST-MODIFIED:20250901T060121Z
UID:10029096-1761489000-1761492600@www.dancesoul.com.tw
SUMMARY:兒童MV(IZNA-SASS)-羿芃
DESCRIPTION:
URL:https://www.dancesoul.com.tw/schedule/%e5%85%92%e7%ab%a5mvizna-sass-%e7%be%bf%e8%8a%83/2025-10-26/
CATEGORIES:兒童MV,兒童課
END:VEVENT
BEGIN:VEVENT
DTSTART;TZID=Asia/Shanghai:20251026T154000
DTEND;TZID=Asia/Shanghai:20251026T164000
DTSTAMP:20260421T044349
CREATED:20250901T060229Z
LAST-MODIFIED:20250901T060229Z
UID:10029357-1761493200-1761496800@www.dancesoul.com.tw
SUMMARY:兒童Street Jazz-傘傘
DESCRIPTION:
URL:https://www.dancesoul.com.tw/schedule/%e5%85%92%e7%ab%a5street-jazz-%e5%82%98%e5%82%98-4/2025-10-26/
CATEGORIES:兒童街舞,兒童課
END:VEVENT
BEGIN:VEVENT
DTSTART;TZID=Asia/Shanghai:20251026T165000
DTEND;TZID=Asia/Shanghai:20251026T175000
DTSTAMP:20260421T044349
CREATED:20251201T095640Z
LAST-MODIFIED:20260315T071631Z
UID:10031285-1761497400-1761501000@www.dancesoul.com.tw
SUMMARY:MV(Apink - 'Love Me More')-Jenny
DESCRIPTION:
URL:https://www.dancesoul.com.tw/schedule/mvsomi-closer-%e7%91%9c%e5%ba%ad-2/2025-10-26/
CATEGORIES:MV課,課程
END:VEVENT
BEGIN:VEVENT
DTSTART;TZID=Asia/Shanghai:20251026T192500
DTEND;TZID=Asia/Shanghai:20251026T202500
DTSTAMP:20260421T044349
CREATED:20250901T060526Z
LAST-MODIFIED:20250901T060526Z
UID:10030140-1761506700-1761510300@www.dancesoul.com.tw
SUMMARY:Hip Hop-承翰
DESCRIPTION:
URL:https://www.dancesoul.com.tw/schedule/hip-hop-%e6%89%bf%e7%bf%b0-2/2025-10-26/
CATEGORIES:Hip Hop,常態課_一般,課程
END:VEVENT
END:VCALENDAR