BEGIN:VCALENDAR
VERSION:2.0
PRODID:-//DANCE SOUL 舞魂街舞學校 - ECPv6.15.18//NONSGML v1.0//EN
CALSCALE:GREGORIAN
METHOD:PUBLISH
X-ORIGINAL-URL:https://www.dancesoul.com.tw
X-WR-CALDESC:Events for DANCE SOUL 舞魂街舞學校
REFRESH-INTERVAL;VALUE=DURATION:PT1H
X-Robots-Tag:noindex
X-PUBLISHED-TTL:PT1H
BEGIN:VTIMEZONE
TZID:Asia/Shanghai
BEGIN:STANDARD
TZOFFSETFROM:+0800
TZOFFSETTO:+0800
TZNAME:CST
DTSTART:20240101T000000
END:STANDARD
END:VTIMEZONE
BEGIN:VEVENT
DTSTART;TZID=Asia/Shanghai:20251110T192500
DTEND;TZID=Asia/Shanghai:20251110T202500
DTSTAMP:20260421T060541
CREATED:20250828T095129Z
LAST-MODIFIED:20250828T095129Z
UID:10023101-1762802700-1762806300@www.dancesoul.com.tw
SUMMARY:Heels-宋靜
DESCRIPTION:
URL:https://www.dancesoul.com.tw/schedule/heels-%e5%ae%8b%e9%9d%9c-3/2025-11-10/
END:VEVENT
BEGIN:VEVENT
DTSTART;TZID=Asia/Shanghai:20251110T202000
DTEND;TZID=Asia/Shanghai:20251110T212000
DTSTAMP:20260421T060541
CREATED:20250828T095322Z
LAST-MODIFIED:20250828T095338Z
UID:10023362-1762806000-1762809600@www.dancesoul.com.tw
SUMMARY:Jazz Funk-魏小美
DESCRIPTION:
URL:https://www.dancesoul.com.tw/schedule/jazz-funk-%e9%ad%8f%e5%b0%8f%e7%be%8e-84/2025-11-10/
END:VEVENT
BEGIN:VEVENT
DTSTART;TZID=Asia/Shanghai:20251111T182000
DTEND;TZID=Asia/Shanghai:20251111T192000
DTSTAMP:20260421T060541
CREATED:20250828T095545Z
LAST-MODIFIED:20250828T095545Z
UID:10023623-1762885200-1762888800@www.dancesoul.com.tw
SUMMARY:MV-薇臻
DESCRIPTION:
URL:https://www.dancesoul.com.tw/schedule/mv-%e8%96%87%e8%87%bb-4/2025-11-11/
END:VEVENT
BEGIN:VEVENT
DTSTART;TZID=Asia/Shanghai:20251111T202000
DTEND;TZID=Asia/Shanghai:20251111T212000
DTSTAMP:20260421T060541
CREATED:20250828T100203Z
LAST-MODIFIED:20250828T100203Z
UID:10023885-1762892400-1762896000@www.dancesoul.com.tw
SUMMARY:Free Style-俊宏
DESCRIPTION:
URL:https://www.dancesoul.com.tw/schedule/free-style-%e4%bf%8a%e5%ae%8f-29/2025-11-11/
CATEGORIES:Freestyle,常態課_一般,課程
END:VEVENT
BEGIN:VEVENT
DTSTART;TZID=Asia/Shanghai:20251112T192500
DTEND;TZID=Asia/Shanghai:20251112T202500
DTSTAMP:20260421T060541
CREATED:20250828T102504Z
LAST-MODIFIED:20250828T102504Z
UID:10024668-1762975500-1762979100@www.dancesoul.com.tw
SUMMARY:Street Jazz-Larry
DESCRIPTION:
URL:https://www.dancesoul.com.tw/schedule/street-jazz-larry-30/2025-11-12/
CATEGORIES:STREET JAZZ,常態課_一般,課程
END:VEVENT
BEGIN:VEVENT
DTSTART;TZID=Asia/Shanghai:20251112T203000
DTEND;TZID=Asia/Shanghai:20251112T213000
DTSTAMP:20260421T060541
CREATED:20250828T103540Z
LAST-MODIFIED:20250828T103540Z
UID:10024929-1762979400-1762983000@www.dancesoul.com.tw
SUMMARY:Street Jazz-Kyle
DESCRIPTION:
URL:https://www.dancesoul.com.tw/schedule/street-jazz-kyle-4/2025-11-12/
CATEGORIES:STREET JAZZ,常態課_一般,課程
END:VEVENT
BEGIN:VEVENT
DTSTART;TZID=Asia/Shanghai:20251113T182000
DTEND;TZID=Asia/Shanghai:20251113T192000
DTSTAMP:20260421T060541
CREATED:20250828T103838Z
LAST-MODIFIED:20250828T103838Z
UID:10025451-1763058000-1763061600@www.dancesoul.com.tw
SUMMARY:Hip Hop-佐佐
DESCRIPTION:
URL:https://www.dancesoul.com.tw/schedule/hip-hop-%e4%bd%90%e4%bd%90-2/2025-11-13/
CATEGORIES:Hip Hop,常態課_一般,課程
END:VEVENT
BEGIN:VEVENT
DTSTART;TZID=Asia/Shanghai:20251113T213500
DTEND;TZID=Asia/Shanghai:20251113T223500
DTSTAMP:20260421T060541
CREATED:20250828T104929Z
LAST-MODIFIED:20250828T104929Z
UID:10026231-1763069700-1763073300@www.dancesoul.com.tw
SUMMARY:Choreography-巴豪
DESCRIPTION:
URL:https://www.dancesoul.com.tw/schedule/choreography-%e5%b7%b4%e8%b1%aa-7/2025-11-13/
CATEGORIES:Choreography,常態課_一般,課程
END:VEVENT
BEGIN:VEVENT
DTSTART;TZID=Asia/Shanghai:20251115T132000
DTEND;TZID=Asia/Shanghai:20251115T142000
DTSTAMP:20260421T060541
CREATED:20250828T110222Z
LAST-MODIFIED:20250901T054527Z
UID:10027271-1763212800-1763216400@www.dancesoul.com.tw
SUMMARY:兒童MV(初)(izna-GOLDEN)-薇臻
DESCRIPTION:
URL:https://www.dancesoul.com.tw/schedule/%e5%85%92%e7%ab%a5%e8%a1%97%e8%88%9e-%e8%96%87%e8%87%bb-21/2025-11-15/
CATEGORIES:兒童街舞,兒童課
END:VEVENT
BEGIN:VEVENT
DTSTART;TZID=Asia/Shanghai:20251115T132000
DTEND;TZID=Asia/Shanghai:20251115T142000
DTSTAMP:20260421T060541
CREATED:20251201T070320Z
LAST-MODIFIED:20260315T072345Z
UID:10031407-1763212800-1763216400@www.dancesoul.com.tw
SUMMARY:兒童MV(初)(i-dle - 'Mona(Feat.skaiwater)')-薇臻
DESCRIPTION:
URL:https://www.dancesoul.com.tw/schedule/%e5%85%92%e7%ab%a5%e8%a1%97%e8%88%9e-%e8%96%87%e8%87%bb-21-2-2-2/2025-11-15/
CATEGORIES:兒童街舞,兒童課
END:VEVENT
BEGIN:VEVENT
DTSTART;TZID=Asia/Shanghai:20251115T143000
DTEND;TZID=Asia/Shanghai:20251115T153000
DTSTAMP:20260421T060541
CREATED:20250901T054940Z
LAST-MODIFIED:20250901T054940Z
UID:10027532-1763217000-1763220600@www.dancesoul.com.tw
SUMMARY:兒童MV(BABYMONSTER-HOT SAUCE)-薇臻
DESCRIPTION:
URL:https://www.dancesoul.com.tw/schedule/%e5%85%92%e7%ab%a5mvbabymonster-hot-sauce-%e8%96%87%e8%87%bb/2025-11-15/
CATEGORIES:MV課,兒童MV,課程
END:VEVENT
BEGIN:VEVENT
DTSTART;TZID=Asia/Shanghai:20251115T143000
DTEND;TZID=Asia/Shanghai:20251115T153000
DTSTAMP:20260421T060541
CREATED:20251202T055414Z
LAST-MODIFIED:20260315T072223Z
UID:10031376-1763217000-1763220600@www.dancesoul.com.tw
SUMMARY:兒童MV(IVE - 'BANG BANG')-薇臻
DESCRIPTION:
URL:https://www.dancesoul.com.tw/schedule/%e5%85%92%e7%ab%a5mvbabymonster-hot-sauce-%e8%96%87%e8%87%bb-2/2025-11-15/
CATEGORIES:MV課,兒童MV,課程
END:VEVENT
BEGIN:VEVENT
DTSTART;TZID=Asia/Shanghai:20251115T164000
DTEND;TZID=Asia/Shanghai:20251115T174000
DTSTAMP:20260421T060541
CREATED:20250901T055344Z
LAST-MODIFIED:20251202T055314Z
UID:10027794-1763224800-1763228400@www.dancesoul.com.tw
SUMMARY:MV(BABYMONSTER - ‘PSYCHO’)-凝琦
DESCRIPTION:
URL:https://www.dancesoul.com.tw/schedule/mvive-xoxz-%e5%87%9d%e7%90%a6/2025-11-15/
CATEGORIES:MV課,課程
END:VEVENT
BEGIN:VEVENT
DTSTART;TZID=Asia/Shanghai:20251115T164000
DTEND;TZID=Asia/Shanghai:20251115T174000
DTSTAMP:20260421T060541
CREATED:20260315T072002Z
LAST-MODIFIED:20260315T072518Z
UID:10031438-1763224800-1763228400@www.dancesoul.com.tw
SUMMARY:MV(IVE - ‘BANG BANG’)-薇臻
DESCRIPTION:
URL:https://www.dancesoul.com.tw/schedule/mvive-xoxz-%e5%87%9d%e7%90%a6-2-2/2025-11-15/
CATEGORIES:MV課,課程
END:VEVENT
BEGIN:VEVENT
DTSTART;TZID=Asia/Shanghai:20251115T182000
DTEND;TZID=Asia/Shanghai:20251115T192000
DTSTAMP:20260421T060541
CREATED:20250901T055441Z
LAST-MODIFIED:20250901T055457Z
UID:10028055-1763230800-1763234400@www.dancesoul.com.tw
SUMMARY:Popping-紀威
DESCRIPTION:
URL:https://www.dancesoul.com.tw/schedule/popping-%e7%b4%80%e5%a8%81-54/2025-11-15/
CATEGORIES:Poppin,常態課_一般,課程
END:VEVENT
BEGIN:VEVENT
DTSTART;TZID=Asia/Shanghai:20251116T132000
DTEND;TZID=Asia/Shanghai:20251116T142000
DTSTAMP:20260421T060541
CREATED:20250901T055750Z
LAST-MODIFIED:20250901T055750Z
UID:10028838-1763299200-1763302800@www.dancesoul.com.tw
SUMMARY:兒童街舞-羿芃
DESCRIPTION:
URL:https://www.dancesoul.com.tw/schedule/%e5%85%92%e7%ab%a5%e8%a1%97%e8%88%9e-%e7%be%bf%e8%8a%83-20/2025-11-16/
CATEGORIES:兒童街舞,課程
END:VEVENT
BEGIN:VEVENT
DTSTART;TZID=Asia/Shanghai:20251116T143000
DTEND;TZID=Asia/Shanghai:20251116T153000
DTSTAMP:20260421T060541
CREATED:20250901T060121Z
LAST-MODIFIED:20250901T060121Z
UID:10029099-1763303400-1763307000@www.dancesoul.com.tw
SUMMARY:兒童MV(IZNA-SASS)-羿芃
DESCRIPTION:
URL:https://www.dancesoul.com.tw/schedule/%e5%85%92%e7%ab%a5mvizna-sass-%e7%be%bf%e8%8a%83/2025-11-16/
CATEGORIES:兒童MV,兒童課
END:VEVENT
BEGIN:VEVENT
DTSTART;TZID=Asia/Shanghai:20251116T154000
DTEND;TZID=Asia/Shanghai:20251116T164000
DTSTAMP:20260421T060541
CREATED:20250901T060229Z
LAST-MODIFIED:20250901T060229Z
UID:10029360-1763307600-1763311200@www.dancesoul.com.tw
SUMMARY:兒童Street Jazz-傘傘
DESCRIPTION:
URL:https://www.dancesoul.com.tw/schedule/%e5%85%92%e7%ab%a5street-jazz-%e5%82%98%e5%82%98-4/2025-11-16/
CATEGORIES:兒童街舞,兒童課
END:VEVENT
BEGIN:VEVENT
DTSTART;TZID=Asia/Shanghai:20251116T165000
DTEND;TZID=Asia/Shanghai:20251116T175000
DTSTAMP:20260421T060541
CREATED:20251201T095640Z
LAST-MODIFIED:20260315T071631Z
UID:10031288-1763311800-1763315400@www.dancesoul.com.tw
SUMMARY:MV(Apink - 'Love Me More')-Jenny
DESCRIPTION:
URL:https://www.dancesoul.com.tw/schedule/mvsomi-closer-%e7%91%9c%e5%ba%ad-2/2025-11-16/
CATEGORIES:MV課,課程
END:VEVENT
BEGIN:VEVENT
DTSTART;TZID=Asia/Shanghai:20251116T192500
DTEND;TZID=Asia/Shanghai:20251116T202500
DTSTAMP:20260421T060541
CREATED:20250901T060526Z
LAST-MODIFIED:20250901T060526Z
UID:10030143-1763321100-1763324700@www.dancesoul.com.tw
SUMMARY:Hip Hop-承翰
DESCRIPTION:
URL:https://www.dancesoul.com.tw/schedule/hip-hop-%e6%89%bf%e7%bf%b0-2/2025-11-16/
CATEGORIES:Hip Hop,常態課_一般,課程
END:VEVENT
END:VCALENDAR