BEGIN:VCALENDAR
VERSION:2.0
PRODID:-//DANCE SOUL 舞魂街舞學校 - ECPv6.15.18//NONSGML v1.0//EN
CALSCALE:GREGORIAN
METHOD:PUBLISH
X-WR-CALNAME:DANCE SOUL 舞魂街舞學校
X-ORIGINAL-URL:https://www.dancesoul.com.tw
X-WR-CALDESC:Events for DANCE SOUL 舞魂街舞學校
REFRESH-INTERVAL;VALUE=DURATION:PT1H
X-Robots-Tag:noindex
X-PUBLISHED-TTL:PT1H
BEGIN:VTIMEZONE
TZID:Asia/Shanghai
BEGIN:STANDARD
TZOFFSETFROM:+0800
TZOFFSETTO:+0800
TZNAME:CST
DTSTART:20240101T000000
END:STANDARD
END:VTIMEZONE
BEGIN:VEVENT
DTSTART;TZID=Asia/Shanghai:20251223T182000
DTEND;TZID=Asia/Shanghai:20251223T192000
DTSTAMP:20260421T082531
CREATED:20250828T095545Z
LAST-MODIFIED:20250828T095545Z
UID:10023629-1766514000-1766517600@www.dancesoul.com.tw
SUMMARY:MV-薇臻
DESCRIPTION:
URL:https://www.dancesoul.com.tw/schedule/mv-%e8%96%87%e8%87%bb-4/2025-12-23/
END:VEVENT
BEGIN:VEVENT
DTSTART;TZID=Asia/Shanghai:20251223T202000
DTEND;TZID=Asia/Shanghai:20251223T212000
DTSTAMP:20260421T082531
CREATED:20250828T100203Z
LAST-MODIFIED:20250828T100203Z
UID:10023891-1766521200-1766524800@www.dancesoul.com.tw
SUMMARY:Free Style-俊宏
DESCRIPTION:
URL:https://www.dancesoul.com.tw/schedule/free-style-%e4%bf%8a%e5%ae%8f-29/2025-12-23/
CATEGORIES:Freestyle,常態課_一般,課程
END:VEVENT
BEGIN:VEVENT
DTSTART;TZID=Asia/Shanghai:20251224T192500
DTEND;TZID=Asia/Shanghai:20251224T202500
DTSTAMP:20260421T082531
CREATED:20250828T102504Z
LAST-MODIFIED:20250828T102504Z
UID:10024674-1766604300-1766607900@www.dancesoul.com.tw
SUMMARY:Street Jazz-Larry
DESCRIPTION:
URL:https://www.dancesoul.com.tw/schedule/street-jazz-larry-30/2025-12-24/
CATEGORIES:STREET JAZZ,常態課_一般,課程
END:VEVENT
BEGIN:VEVENT
DTSTART;TZID=Asia/Shanghai:20251224T203000
DTEND;TZID=Asia/Shanghai:20251224T213000
DTSTAMP:20260421T082531
CREATED:20250828T103540Z
LAST-MODIFIED:20250828T103540Z
UID:10024935-1766608200-1766611800@www.dancesoul.com.tw
SUMMARY:Street Jazz-Kyle
DESCRIPTION:
URL:https://www.dancesoul.com.tw/schedule/street-jazz-kyle-4/2025-12-24/
CATEGORIES:STREET JAZZ,常態課_一般,課程
END:VEVENT
BEGIN:VEVENT
DTSTART;TZID=Asia/Shanghai:20251225T182000
DTEND;TZID=Asia/Shanghai:20251225T192000
DTSTAMP:20260421T082531
CREATED:20251202T055643Z
LAST-MODIFIED:20251202T055645Z
UID:10025457-1766686800-1766690400@www.dancesoul.com.tw
SUMMARY:Street Jazz-羊羊
DESCRIPTION:
URL:https://www.dancesoul.com.tw/schedule/hip-hop-%e4%bd%90%e4%bd%90-2-2/2025-12-25/
CATEGORIES:Hip Hop,常態課_一般,課程
END:VEVENT
BEGIN:VEVENT
DTSTART;TZID=Asia/Shanghai:20251225T213500
DTEND;TZID=Asia/Shanghai:20251225T223500
DTSTAMP:20260421T082531
CREATED:20250828T104929Z
LAST-MODIFIED:20250828T104929Z
UID:10026237-1766698500-1766702100@www.dancesoul.com.tw
SUMMARY:Choreography-巴豪
DESCRIPTION:
URL:https://www.dancesoul.com.tw/schedule/choreography-%e5%b7%b4%e8%b1%aa-7/2025-12-25/
CATEGORIES:Choreography,常態課_一般,課程
END:VEVENT
BEGIN:VEVENT
DTSTART;TZID=Asia/Shanghai:20251227T132000
DTEND;TZID=Asia/Shanghai:20251227T142000
DTSTAMP:20260421T082531
CREATED:20251201T070320Z
LAST-MODIFIED:20260315T072345Z
UID:10027277-1766841600-1766845200@www.dancesoul.com.tw
SUMMARY:兒童MV(初)(i-dle - 'Mona(Feat.skaiwater)')-薇臻
DESCRIPTION:
URL:https://www.dancesoul.com.tw/schedule/%e5%85%92%e7%ab%a5%e8%a1%97%e8%88%9e-%e8%96%87%e8%87%bb-21-2-2-2/2025-12-27/
CATEGORIES:兒童街舞,兒童課
END:VEVENT
BEGIN:VEVENT
DTSTART;TZID=Asia/Shanghai:20251227T143000
DTEND;TZID=Asia/Shanghai:20251227T153000
DTSTAMP:20260421T082531
CREATED:20251202T055414Z
LAST-MODIFIED:20260315T072223Z
UID:10027538-1766845800-1766849400@www.dancesoul.com.tw
SUMMARY:兒童MV(IVE - 'BANG BANG')-薇臻
DESCRIPTION:
URL:https://www.dancesoul.com.tw/schedule/%e5%85%92%e7%ab%a5mvbabymonster-hot-sauce-%e8%96%87%e8%87%bb-2/2025-12-27/
CATEGORIES:MV課,兒童MV,課程
END:VEVENT
BEGIN:VEVENT
DTSTART;TZID=Asia/Shanghai:20251227T164000
DTEND;TZID=Asia/Shanghai:20251227T174000
DTSTAMP:20260421T082531
CREATED:20260315T072002Z
LAST-MODIFIED:20260315T072518Z
UID:10031335-1766853600-1766857200@www.dancesoul.com.tw
SUMMARY:MV(IVE - ‘BANG BANG’)-薇臻
DESCRIPTION:
URL:https://www.dancesoul.com.tw/schedule/mvive-xoxz-%e5%87%9d%e7%90%a6-2-2/2025-12-27/
CATEGORIES:MV課,課程
END:VEVENT
BEGIN:VEVENT
DTSTART;TZID=Asia/Shanghai:20251227T182000
DTEND;TZID=Asia/Shanghai:20251227T192000
DTSTAMP:20260421T082531
CREATED:20250901T055441Z
LAST-MODIFIED:20250901T055457Z
UID:10028061-1766859600-1766863200@www.dancesoul.com.tw
SUMMARY:Popping-紀威
DESCRIPTION:
URL:https://www.dancesoul.com.tw/schedule/popping-%e7%b4%80%e5%a8%81-54/2025-12-27/
CATEGORIES:Poppin,常態課_一般,課程
END:VEVENT
BEGIN:VEVENT
DTSTART;TZID=Asia/Shanghai:20251228T132000
DTEND;TZID=Asia/Shanghai:20251228T142000
DTSTAMP:20260421T082531
CREATED:20250901T055750Z
LAST-MODIFIED:20250901T055750Z
UID:10028844-1766928000-1766931600@www.dancesoul.com.tw
SUMMARY:兒童街舞-羿芃
DESCRIPTION:
URL:https://www.dancesoul.com.tw/schedule/%e5%85%92%e7%ab%a5%e8%a1%97%e8%88%9e-%e7%be%bf%e8%8a%83-20/2025-12-28/
CATEGORIES:兒童街舞,課程
END:VEVENT
BEGIN:VEVENT
DTSTART;TZID=Asia/Shanghai:20251228T143000
DTEND;TZID=Asia/Shanghai:20251228T153000
DTSTAMP:20260421T082531
CREATED:20260315T071830Z
LAST-MODIFIED:20260315T071830Z
UID:10031307-1766932200-1766935800@www.dancesoul.com.tw
SUMMARY:兒童MV(ILLIT-opps!)-羿芃
DESCRIPTION:
URL:https://www.dancesoul.com.tw/schedule/%e5%85%92%e7%ab%a5mvizna-sass-%e7%be%bf%e8%8a%83-2-2/2025-12-28/
CATEGORIES:兒童MV,兒童課
END:VEVENT
BEGIN:VEVENT
DTSTART;TZID=Asia/Shanghai:20251228T154000
DTEND;TZID=Asia/Shanghai:20251228T164000
DTSTAMP:20260421T082531
CREATED:20250901T060229Z
LAST-MODIFIED:20250901T060229Z
UID:10029366-1766936400-1766940000@www.dancesoul.com.tw
SUMMARY:兒童Street Jazz-傘傘
DESCRIPTION:
URL:https://www.dancesoul.com.tw/schedule/%e5%85%92%e7%ab%a5street-jazz-%e5%82%98%e5%82%98-4/2025-12-28/
CATEGORIES:兒童街舞,兒童課
END:VEVENT
BEGIN:VEVENT
DTSTART;TZID=Asia/Shanghai:20251228T165000
DTEND;TZID=Asia/Shanghai:20251228T175000
DTSTAMP:20260421T082531
CREATED:20251201T095640Z
LAST-MODIFIED:20260315T071631Z
UID:10029627-1766940600-1766944200@www.dancesoul.com.tw
SUMMARY:MV(Apink - 'Love Me More')-Jenny
DESCRIPTION:
URL:https://www.dancesoul.com.tw/schedule/mvsomi-closer-%e7%91%9c%e5%ba%ad-2/2025-12-28/
CATEGORIES:MV課,課程
END:VEVENT
BEGIN:VEVENT
DTSTART;TZID=Asia/Shanghai:20251228T192500
DTEND;TZID=Asia/Shanghai:20251228T202500
DTSTAMP:20260421T082531
CREATED:20250901T060526Z
LAST-MODIFIED:20250901T060526Z
UID:10030149-1766949900-1766953500@www.dancesoul.com.tw
SUMMARY:Hip Hop-承翰
DESCRIPTION:
URL:https://www.dancesoul.com.tw/schedule/hip-hop-%e6%89%bf%e7%bf%b0-2/2025-12-28/
CATEGORIES:Hip Hop,常態課_一般,課程
END:VEVENT
END:VCALENDAR