BEGIN:VCALENDAR
VERSION:2.0
PRODID:-//DANCE SOUL 舞魂街舞學校 - ECPv6.15.18//NONSGML v1.0//EN
CALSCALE:GREGORIAN
METHOD:PUBLISH
X-ORIGINAL-URL:https://www.dancesoul.com.tw
X-WR-CALDESC:Events for DANCE SOUL 舞魂街舞學校
REFRESH-INTERVAL;VALUE=DURATION:PT1H
X-Robots-Tag:noindex
X-PUBLISHED-TTL:PT1H
BEGIN:VTIMEZONE
TZID:Asia/Shanghai
BEGIN:STANDARD
TZOFFSETFROM:+0800
TZOFFSETTO:+0800
TZNAME:CST
DTSTART:20250101T000000
END:STANDARD
END:VTIMEZONE
BEGIN:VEVENT
DTSTART;TZID=Asia/Shanghai:20260817T182000
DTEND;TZID=Asia/Shanghai:20260817T192000
DTSTAMP:20260421T065210
CREATED:20260327T084628Z
LAST-MODIFIED:20260327T084933Z
UID:10035318-1786990800-1786994400@www.dancesoul.com.tw
SUMMARY:MV-瑜庭
DESCRIPTION:
URL:https://www.dancesoul.com.tw/schedule/mvtwice-this-is-for-%e7%91%9c%e5%ba%ad-2/2026-08-17/
CATEGORIES:MV課,課程
END:VEVENT
BEGIN:VEVENT
DTSTART;TZID=Asia/Shanghai:20260817T192500
DTEND;TZID=Asia/Shanghai:20260817T202500
DTSTAMP:20260421T065210
CREATED:20260327T082108Z
LAST-MODIFIED:20260327T082108Z
UID:10030790-1786994700-1786998300@www.dancesoul.com.tw
SUMMARY:Jazz Funk-魏小美
DESCRIPTION:
URL:https://www.dancesoul.com.tw/schedule/jazz-funk-%e9%ad%8f%e5%b0%8f%e7%be%8e-84-2-2/2026-08-17/
END:VEVENT
BEGIN:VEVENT
DTSTART;TZID=Asia/Shanghai:20260817T203000
DTEND;TZID=Asia/Shanghai:20260817T213000
DTSTAMP:20260421T065210
CREATED:20260327T084046Z
LAST-MODIFIED:20260327T084828Z
UID:10035054-1786998600-1787002200@www.dancesoul.com.tw
SUMMARY:Heels-宋靜
DESCRIPTION:
URL:https://www.dancesoul.com.tw/schedule/heels-%e5%ae%8b%e9%9d%9c-3-2/2026-08-17/
END:VEVENT
BEGIN:VEVENT
DTSTART;TZID=Asia/Shanghai:20260817T213500
DTEND;TZID=Asia/Shanghai:20260817T223500
DTSTAMP:20260421T065210
CREATED:20260327T082216Z
LAST-MODIFIED:20260327T082217Z
UID:10032415-1787002500-1787006100@www.dancesoul.com.tw
SUMMARY:Jazz Funk-姿昀
DESCRIPTION:
URL:https://www.dancesoul.com.tw/schedule/jazz-funk-%e5%a7%bf%e6%98%80-15-2/2026-08-17/
CATEGORIES:Jazz Funk,課程
END:VEVENT
BEGIN:VEVENT
DTSTART;TZID=Asia/Shanghai:20260818T182000
DTEND;TZID=Asia/Shanghai:20260818T192000
DTSTAMP:20260421T065210
CREATED:20250828T095545Z
LAST-MODIFIED:20250828T095545Z
UID:10023663-1787077200-1787080800@www.dancesoul.com.tw
SUMMARY:MV-薇臻
DESCRIPTION:
URL:https://www.dancesoul.com.tw/schedule/mv-%e8%96%87%e8%87%bb-4/2026-08-18/
END:VEVENT
BEGIN:VEVENT
DTSTART;TZID=Asia/Shanghai:20260818T192500
DTEND;TZID=Asia/Shanghai:20260818T202500
DTSTAMP:20260421T065210
CREATED:20260327T083744Z
LAST-MODIFIED:20260327T083744Z
UID:10034263-1787081100-1787084700@www.dancesoul.com.tw
SUMMARY:Choreography-羅毅
DESCRIPTION:
URL:https://www.dancesoul.com.tw/schedule/choreography-%e7%be%85%e6%af%85-2-2/2026-08-18/
CATEGORIES:Choreography,常態課_一般,課程
END:VEVENT
BEGIN:VEVENT
DTSTART;TZID=Asia/Shanghai:20260818T202000
DTEND;TZID=Asia/Shanghai:20260818T212000
DTSTAMP:20260421T065210
CREATED:20250828T100203Z
LAST-MODIFIED:20250828T100203Z
UID:10023925-1787084400-1787088000@www.dancesoul.com.tw
SUMMARY:Free Style-俊宏
DESCRIPTION:
URL:https://www.dancesoul.com.tw/schedule/free-style-%e4%bf%8a%e5%ae%8f-29/2026-08-18/
CATEGORIES:Freestyle,常態課_一般,課程
END:VEVENT
BEGIN:VEVENT
DTSTART;TZID=Asia/Shanghai:20260818T213500
DTEND;TZID=Asia/Shanghai:20260818T223500
DTSTAMP:20260421T065210
CREATED:20260327T081822Z
LAST-MODIFIED:20260327T081932Z
UID:10032131-1787088900-1787092500@www.dancesoul.com.tw
SUMMARY:Hip Hop-承翰
DESCRIPTION:
URL:https://www.dancesoul.com.tw/schedule/hip-hop-%e6%89%bf%e7%bf%b0-2-3/2026-08-18/
CATEGORIES:Hip Hop,常態課_一般,課程
END:VEVENT
BEGIN:VEVENT
DTSTART;TZID=Asia/Shanghai:20260819T182000
DTEND;TZID=Asia/Shanghai:20260819T192000
DTSTAMP:20260421T065210
CREATED:20260327T082544Z
LAST-MODIFIED:20260327T082544Z
UID:10032944-1787163600-1787167200@www.dancesoul.com.tw
SUMMARY:Choreography(初)-無盡
DESCRIPTION:
URL:https://www.dancesoul.com.tw/schedule/choreography%e5%88%9d-%e7%84%a1%e7%9b%a1-14-2/2026-08-19/
CATEGORIES:Choreography 初級,常態課_初級,課程
END:VEVENT
BEGIN:VEVENT
DTSTART;TZID=Asia/Shanghai:20260819T192500
DTEND;TZID=Asia/Shanghai:20260819T202500
DTSTAMP:20260421T065210
CREATED:20250828T102504Z
LAST-MODIFIED:20250828T102504Z
UID:10024708-1787167500-1787171100@www.dancesoul.com.tw
SUMMARY:Street Jazz-Larry
DESCRIPTION:
URL:https://www.dancesoul.com.tw/schedule/street-jazz-larry-30/2026-08-19/
CATEGORIES:STREET JAZZ,常態課_一般,課程
END:VEVENT
BEGIN:VEVENT
DTSTART;TZID=Asia/Shanghai:20260819T203000
DTEND;TZID=Asia/Shanghai:20260819T213000
DTSTAMP:20260421T065210
CREATED:20250828T103540Z
LAST-MODIFIED:20250828T103540Z
UID:10024969-1787171400-1787175000@www.dancesoul.com.tw
SUMMARY:Street Jazz-Kyle
DESCRIPTION:
URL:https://www.dancesoul.com.tw/schedule/street-jazz-kyle-4/2026-08-19/
CATEGORIES:STREET JAZZ,常態課_一般,課程
END:VEVENT
BEGIN:VEVENT
DTSTART;TZID=Asia/Shanghai:20260819T213500
DTEND;TZID=Asia/Shanghai:20260819T223500
DTSTAMP:20260421T065210
CREATED:20260327T085649Z
LAST-MODIFIED:20260327T085650Z
UID:10036641-1787175300-1787178900@www.dancesoul.com.tw
SUMMARY:MV-緗緗
DESCRIPTION:
URL:https://www.dancesoul.com.tw/schedule/mv-%e7%b7%97%e7%b7%97-2-2/2026-08-19/
END:VEVENT
BEGIN:VEVENT
DTSTART;TZID=Asia/Shanghai:20260820T182000
DTEND;TZID=Asia/Shanghai:20260820T192000
DTSTAMP:20260421T065210
CREATED:20251202T055643Z
LAST-MODIFIED:20251202T055645Z
UID:10025491-1787250000-1787253600@www.dancesoul.com.tw
SUMMARY:Street Jazz-羊羊
DESCRIPTION:
URL:https://www.dancesoul.com.tw/schedule/hip-hop-%e4%bd%90%e4%bd%90-2-2/2026-08-20/
CATEGORIES:Hip Hop,常態課_一般,課程
END:VEVENT
BEGIN:VEVENT
DTSTART;TZID=Asia/Shanghai:20260820T192500
DTEND;TZID=Asia/Shanghai:20260820T202500
DTSTAMP:20260421T065210
CREATED:20260327T082918Z
LAST-MODIFIED:20260327T084510Z
UID:10034790-1787253900-1787257500@www.dancesoul.com.tw
SUMMARY:Hip Hop(初)-林彤
DESCRIPTION:
URL:https://www.dancesoul.com.tw/schedule/hip-hop%e5%88%9d-%e6%9e%97%e5%bd%a4-3-2/2026-08-20/
CATEGORIES:Hip Hop 初級,常態課_初級,課程
END:VEVENT
BEGIN:VEVENT
DTSTART;TZID=Asia/Shanghai:20260820T203000
DTEND;TZID=Asia/Shanghai:20260820T213000
DTSTAMP:20260421T065210
CREATED:20260327T085246Z
LAST-MODIFIED:20260327T085313Z
UID:10036113-1787257800-1787261400@www.dancesoul.com.tw
SUMMARY:Choreography-HU RUEI胡睿
DESCRIPTION:
URL:https://www.dancesoul.com.tw/schedule/choreography-hu-ruei%e8%83%a1%e7%9d%bf/2026-08-20/
END:VEVENT
BEGIN:VEVENT
DTSTART;TZID=Asia/Shanghai:20260820T213500
DTEND;TZID=Asia/Shanghai:20260820T223500
DTSTAMP:20260421T065210
CREATED:20250828T104929Z
LAST-MODIFIED:20250828T104929Z
UID:10026271-1787261700-1787265300@www.dancesoul.com.tw
SUMMARY:Choreography-巴豪
DESCRIPTION:
URL:https://www.dancesoul.com.tw/schedule/choreography-%e5%b7%b4%e8%b1%aa-7/2026-08-20/
CATEGORIES:Choreography,常態課_一般,課程
END:VEVENT
BEGIN:VEVENT
DTSTART;TZID=Asia/Shanghai:20260821T182000
DTEND;TZID=Asia/Shanghai:20260821T192000
DTSTAMP:20260421T065210
CREATED:20260327T083919Z
LAST-MODIFIED:20260327T083920Z
UID:10034527-1787336400-1787340000@www.dancesoul.com.tw
SUMMARY:Twerk（初）-碗公
DESCRIPTION:
URL:https://www.dancesoul.com.tw/schedule/twerk%ef%bc%88%e5%88%9d%ef%bc%89-%e7%a2%97%e5%85%ac-2-2/2026-08-21/
END:VEVENT
BEGIN:VEVENT
DTSTART;TZID=Asia/Shanghai:20260821T192500
DTEND;TZID=Asia/Shanghai:20260821T202500
DTSTAMP:20260421T065210
CREATED:20260327T090205Z
LAST-MODIFIED:20260327T090205Z
UID:10037435-1787340300-1787343900@www.dancesoul.com.tw
SUMMARY:Street Jazz-CenMei
DESCRIPTION:
URL:https://www.dancesoul.com.tw/schedule/street-jazz-cenmei/2026-08-21/
END:VEVENT
BEGIN:VEVENT
DTSTART;TZID=Asia/Shanghai:20260821T203000
DTEND;TZID=Asia/Shanghai:20260821T213000
DTSTAMP:20260421T065210
CREATED:20260327T090256Z
LAST-MODIFIED:20260327T090256Z
UID:10037699-1787344200-1787347800@www.dancesoul.com.tw
SUMMARY:Jazz Funk-Dang 鈴鐺
DESCRIPTION:
URL:https://www.dancesoul.com.tw/schedule/jazz-funk-dang-%e9%88%b4%e9%90%ba/2026-08-21/
END:VEVENT
BEGIN:VEVENT
DTSTART;TZID=Asia/Shanghai:20260821T213500
DTEND;TZID=Asia/Shanghai:20260821T223500
DTSTAMP:20260421T065210
CREATED:20260327T085804Z
LAST-MODIFIED:20260327T085804Z
UID:10036906-1787348100-1787351700@www.dancesoul.com.tw
SUMMARY:Street Jazz-Roy燦伊
DESCRIPTION:
URL:https://www.dancesoul.com.tw/schedule/street-jazz-roy%e7%87%a6%e4%bc%8a/2026-08-21/
END:VEVENT
BEGIN:VEVENT
DTSTART;TZID=Asia/Shanghai:20260822T132000
DTEND;TZID=Asia/Shanghai:20260822T142000
DTSTAMP:20260421T065210
CREATED:20251201T070320Z
LAST-MODIFIED:20260315T072345Z
UID:10027311-1787404800-1787408400@www.dancesoul.com.tw
SUMMARY:兒童MV(初)(i-dle - 'Mona(Feat.skaiwater)')-薇臻
DESCRIPTION:
URL:https://www.dancesoul.com.tw/schedule/%e5%85%92%e7%ab%a5%e8%a1%97%e8%88%9e-%e8%96%87%e8%87%bb-21-2-2-2/2026-08-22/
CATEGORIES:兒童街舞,兒童課
END:VEVENT
BEGIN:VEVENT
DTSTART;TZID=Asia/Shanghai:20260822T143000
DTEND;TZID=Asia/Shanghai:20260822T153000
DTSTAMP:20260421T065210
CREATED:20251202T055414Z
LAST-MODIFIED:20260315T072223Z
UID:10027572-1787409000-1787412600@www.dancesoul.com.tw
SUMMARY:兒童MV(IVE - 'BANG BANG')-薇臻
DESCRIPTION:
URL:https://www.dancesoul.com.tw/schedule/%e5%85%92%e7%ab%a5mvbabymonster-hot-sauce-%e8%96%87%e8%87%bb-2/2026-08-22/
CATEGORIES:MV課,兒童MV,課程
END:VEVENT
BEGIN:VEVENT
DTSTART;TZID=Asia/Shanghai:20260822T154000
DTEND;TZID=Asia/Shanghai:20260822T164000
DTSTAMP:20260421T065210
CREATED:20250901T055134Z
LAST-MODIFIED:20260327T083158Z
UID:10033474-1787413200-1787416800@www.dancesoul.com.tw
SUMMARY:兒童Popping-勁宏
DESCRIPTION:
URL:https://www.dancesoul.com.tw/schedule/%e5%85%92%e7%ab%a5popping-%e5%8b%81%e5%ae%8f-2/2026-08-22/
CATEGORIES:兒童街舞,課程
END:VEVENT
BEGIN:VEVENT
DTSTART;TZID=Asia/Shanghai:20260822T164000
DTEND;TZID=Asia/Shanghai:20260822T174000
DTSTAMP:20260421T065210
CREATED:20260315T072002Z
LAST-MODIFIED:20260315T072518Z
UID:10027834-1787416800-1787420400@www.dancesoul.com.tw
SUMMARY:MV(IVE - ‘BANG BANG’)-薇臻
DESCRIPTION:
URL:https://www.dancesoul.com.tw/schedule/mvive-xoxz-%e5%87%9d%e7%90%a6-2-2/2026-08-22/
CATEGORIES:MV課,課程
END:VEVENT
BEGIN:VEVENT
DTSTART;TZID=Asia/Shanghai:20260822T182000
DTEND;TZID=Asia/Shanghai:20260822T192000
DTSTAMP:20260421T065210
CREATED:20250901T055441Z
LAST-MODIFIED:20250901T055457Z
UID:10028095-1787422800-1787426400@www.dancesoul.com.tw
SUMMARY:Popping-紀威
DESCRIPTION:
URL:https://www.dancesoul.com.tw/schedule/popping-%e7%b4%80%e5%a8%81-54/2026-08-22/
CATEGORIES:Poppin,常態課_一般,課程
END:VEVENT
BEGIN:VEVENT
DTSTART;TZID=Asia/Shanghai:20260822T192500
DTEND;TZID=Asia/Shanghai:20260822T202500
DTSTAMP:20260421T065210
CREATED:20260327T082346Z
LAST-MODIFIED:20260327T082346Z
UID:10032679-1787426700-1787430300@www.dancesoul.com.tw
SUMMARY:HIP HOP-GAGA
DESCRIPTION:
URL:https://www.dancesoul.com.tw/schedule/%e5%9f%ba%e7%a4%8e%e5%85%a5%e9%96%80-%e9%9b%9e%e8%9b%8b-41-2/2026-08-22/
CATEGORIES:基礎入門,常態課_初級,課程
END:VEVENT
BEGIN:VEVENT
DTSTART;TZID=Asia/Shanghai:20260823T132000
DTEND;TZID=Asia/Shanghai:20260823T142000
DTSTAMP:20260421T065210
CREATED:20250901T055750Z
LAST-MODIFIED:20250901T055750Z
UID:10028878-1787491200-1787494800@www.dancesoul.com.tw
SUMMARY:兒童街舞-羿芃
DESCRIPTION:
URL:https://www.dancesoul.com.tw/schedule/%e5%85%92%e7%ab%a5%e8%a1%97%e8%88%9e-%e7%be%bf%e8%8a%83-20/2026-08-23/
CATEGORIES:兒童街舞,課程
END:VEVENT
BEGIN:VEVENT
DTSTART;TZID=Asia/Shanghai:20260823T143000
DTEND;TZID=Asia/Shanghai:20260823T153000
DTSTAMP:20260421T065210
CREATED:20260315T071830Z
LAST-MODIFIED:20260315T071830Z
UID:10029139-1787495400-1787499000@www.dancesoul.com.tw
SUMMARY:兒童MV(ILLIT-opps!)-羿芃
DESCRIPTION:
URL:https://www.dancesoul.com.tw/schedule/%e5%85%92%e7%ab%a5mvizna-sass-%e7%be%bf%e8%8a%83-2-2/2026-08-23/
CATEGORIES:兒童MV,兒童課
END:VEVENT
BEGIN:VEVENT
DTSTART;TZID=Asia/Shanghai:20260823T154000
DTEND;TZID=Asia/Shanghai:20260823T164000
DTSTAMP:20260421T065210
CREATED:20250901T060229Z
LAST-MODIFIED:20250901T060229Z
UID:10029400-1787499600-1787503200@www.dancesoul.com.tw
SUMMARY:兒童Street Jazz-傘傘
DESCRIPTION:
URL:https://www.dancesoul.com.tw/schedule/%e5%85%92%e7%ab%a5street-jazz-%e5%82%98%e5%82%98-4/2026-08-23/
CATEGORIES:兒童街舞,兒童課
END:VEVENT
BEGIN:VEVENT
DTSTART;TZID=Asia/Shanghai:20260823T165000
DTEND;TZID=Asia/Shanghai:20260823T175000
DTSTAMP:20260421T065210
CREATED:20251201T095640Z
LAST-MODIFIED:20260315T071631Z
UID:10029661-1787503800-1787507400@www.dancesoul.com.tw
SUMMARY:MV(Apink - 'Love Me More')-Jenny
DESCRIPTION:
URL:https://www.dancesoul.com.tw/schedule/mvsomi-closer-%e7%91%9c%e5%ba%ad-2/2026-08-23/
CATEGORIES:MV課,課程
END:VEVENT
END:VCALENDAR